BEGIN:VCALENDAR
VERSION:2.0
PRODID:-//District 8, Area 1 - ECPv6.15.20//NONSGML v1.0//EN
CALSCALE:GREGORIAN
METHOD:PUBLISH
X-WR-CALNAME:District 8, Area 1
X-ORIGINAL-URL:https://centralalaa.org
X-WR-CALDESC:Events for District 8, Area 1
REFRESH-INTERVAL;VALUE=DURATION:PT1H
X-Robots-Tag:noindex
X-PUBLISHED-TTL:PT1H
BEGIN:VTIMEZONE
TZID:America/Chicago
BEGIN:DAYLIGHT
TZOFFSETFROM:-0600
TZOFFSETTO:-0500
TZNAME:CDT
DTSTART:20250309T080000
END:DAYLIGHT
BEGIN:STANDARD
TZOFFSETFROM:-0500
TZOFFSETTO:-0600
TZNAME:CST
DTSTART:20251102T070000
END:STANDARD
BEGIN:DAYLIGHT
TZOFFSETFROM:-0600
TZOFFSETTO:-0500
TZNAME:CDT
DTSTART:20260308T080000
END:DAYLIGHT
BEGIN:STANDARD
TZOFFSETFROM:-0500
TZOFFSETTO:-0600
TZNAME:CST
DTSTART:20261101T070000
END:STANDARD
BEGIN:DAYLIGHT
TZOFFSETFROM:-0600
TZOFFSETTO:-0500
TZNAME:CDT
DTSTART:20270314T080000
END:DAYLIGHT
BEGIN:STANDARD
TZOFFSETFROM:-0500
TZOFFSETTO:-0600
TZNAME:CST
DTSTART:20271107T070000
END:STANDARD
END:VTIMEZONE
BEGIN:VEVENT
DTSTART;TZID=America/Chicago:20260302T100000
DTEND;TZID=America/Chicago:20260302T140000
DTSTAMP:20260423T063852
CREATED:20250301T230244Z
LAST-MODIFIED:20250301T230244Z
UID:10001287-1772445600-1772460000@centralalaa.org
SUMMARY:Central Office Open (Except Holidays)
DESCRIPTION:828 Forest Ave\, Montgomery\, AL 36106
URL:https://centralalaa.org/single-event/central-office-open-except-holidays/2026-03-02
LOCATION:Central Office\, 828 Forest Ave\, Montgomery\, AL\, 36106
END:VEVENT
BEGIN:VEVENT
DTSTART;TZID=America/Chicago:20260302T180000
DTEND;TZID=America/Chicago:20260302T190000
DTSTAMP:20260423T063852
CREATED:20250816T013304Z
LAST-MODIFIED:20250816T013308Z
UID:10003037-1772474400-1772478000@centralalaa.org
SUMMARY:District 8 Public Information (PI) Committee
DESCRIPTION:Please join to discuss ongoing projects in Public Information. District Committee meets at Legacies\, first Monday of each month\, 6:00-7:00. In-person and on Zoom.
URL:https://centralalaa.org/single-event/district-public-information-pi-committee-2-2/2026-03-02
LOCATION:Legacies and Zoom\, 3412 Atlanta Highway\, Montgomery\, AL\, 36109\, United States
END:VEVENT
BEGIN:VEVENT
DTSTART;TZID=America/Chicago:20260304T100000
DTEND;TZID=America/Chicago:20260304T140000
DTSTAMP:20260423T063852
CREATED:20250301T230449Z
LAST-MODIFIED:20250301T230449Z
UID:10001340-1772618400-1772632800@centralalaa.org
SUMMARY:Central Office Open
DESCRIPTION:
URL:https://centralalaa.org/single-event/central-office-open/2026-03-04
LOCATION:Central Office\, 828 Forest Ave\, Montgomery\, AL\, 36106
END:VEVENT
BEGIN:VEVENT
DTSTART;TZID=America/Chicago:20260307T080000
DTEND;TZID=America/Chicago:20260307T090000
DTSTAMP:20260423T063852
CREATED:20250728T165548Z
LAST-MODIFIED:20260209T180520Z
UID:10002981-1772870400-1772874000@centralalaa.org
SUMMARY:Intergroup Monthly Meeting
DESCRIPTION:Intergroup Monthly Meeting \nAt legacies and on zoom. \nZoom ID: 276 263 0376 \nhttps://us06web.zoom.us/j/2762630376
URL:https://centralalaa.org/single-event/intergroup-monthly-meeting-2
LOCATION:Legacies and Zoom\, 3412 Atlanta Highway\, Montgomery\, AL\, 36109\, United States
CATEGORIES:Service Events
END:VEVENT
BEGIN:VEVENT
DTSTART;TZID=America/Chicago:20260307T093000
DTEND;TZID=America/Chicago:20260307T103000
DTSTAMP:20260423T063852
CREATED:20251029T182223Z
LAST-MODIFIED:20260209T180436Z
UID:10003074-1772875800-1772879400@centralalaa.org
SUMMARY:District 8 Monthly Meeting
DESCRIPTION:District 8 Monthly Meeting \nAt legacies and on zoom. \nZoom ID: 276 263 0376 \nhttps://us06web.zoom.us/j/2762630376
URL:https://centralalaa.org/single-event/district-8-committee-meeting
LOCATION:Legacies and Zoom\, 3412 Atlanta Highway\, Montgomery\, AL\, 36109\, United States
CATEGORIES:Service Events
ORGANIZER;CN="District 8 DCM":MAILTO:dcm@centralalaa.org
END:VEVENT
BEGIN:VEVENT
DTSTART;TZID=America/Chicago:20260307T133000
DTEND;TZID=America/Chicago:20260307T213000
DTSTAMP:20260423T063852
CREATED:20260225T165306Z
LAST-MODIFIED:20260225T165306Z
UID:10003761-1772890200-1772919000@centralalaa.org
SUMMARY:Archives Committee Meeting
DESCRIPTION:Archives Committee Meeting
URL:https://centralalaa.org/single-event/archives-committee-meeting
LOCATION:Happy Hour Group\, 3466 Eastdale Circle\, Montgomery\, AL\, 36117\, United States
ORGANIZER;CN="District 8 Archives Committee":MAILTO:archives@centralalaa.org
GEO:32.3853615;-86.2014771
X-APPLE-STRUCTURED-LOCATION;VALUE=URI;X-ADDRESS=Happy Hour Group 3466 Eastdale Circle Montgomery AL 36117 United States;X-APPLE-RADIUS=500;X-TITLE=3466 Eastdale Circle:geo:-86.2014771,32.3853615
END:VEVENT
BEGIN:VEVENT
DTSTART;TZID=America/Chicago:20260307T150000
DTEND;TZID=America/Chicago:20260307T190000
DTSTAMP:20260423T063852
CREATED:20260113T214652Z
LAST-MODIFIED:20260113T214713Z
UID:10003590-1772895600-1772910000@centralalaa.org
SUMMARY:Fellowship Group 29th Anniversary
DESCRIPTION:AA and Al Anon Speakers \nPot luck.  Fellowship will provide the meat and the drinks.  Please bring a side or dessert.
URL:https://centralalaa.org/single-event/fellowship-group-29th-anniversary
LOCATION:Landmark Church of Christ\, 1800 HALCYON BLVD\, MONTGOMERY\, AL\, 36117\, United States
GEO:32.3499537;-86.1732685
X-APPLE-STRUCTURED-LOCATION;VALUE=URI;X-ADDRESS=Landmark Church of Christ 1800 HALCYON BLVD MONTGOMERY AL 36117 United States;X-APPLE-RADIUS=500;X-TITLE=1800 HALCYON BLVD:geo:-86.1732685,32.3499537
END:VEVENT
BEGIN:VEVENT
DTSTART;TZID=America/Chicago:20260311T100000
DTEND;TZID=America/Chicago:20260311T140000
DTSTAMP:20260423T063852
CREATED:20250301T230449Z
LAST-MODIFIED:20250301T230449Z
UID:10001341-1773223200-1773237600@centralalaa.org
SUMMARY:Central Office Open
DESCRIPTION:
URL:https://centralalaa.org/single-event/central-office-open/2026-03-11
LOCATION:Central Office\, 828 Forest Ave\, Montgomery\, AL\, 36106
END:VEVENT
BEGIN:VEVENT
DTSTART;TZID=America/Chicago:20260314T093000
DTEND;TZID=America/Chicago:20260314T113000
DTSTAMP:20260423T063852
CREATED:20260216T002713Z
LAST-MODIFIED:20260216T002713Z
UID:10003653-1773480600-1773487800@centralalaa.org
SUMMARY:CPC/PI Workshop
DESCRIPTION:
URL:https://centralalaa.org/single-event/cpc-pi-workshop
LOCATION:Happy Hour Group\, 3466 Eastdale Circle\, Montgomery\, AL\, 36117\, United States
CATEGORIES:Fellowship Events
ORGANIZER;CN="District 8 CPC Committee":MAILTO:cpc@centralalaa.org
GEO:32.3853615;-86.2014771
X-APPLE-STRUCTURED-LOCATION;VALUE=URI;X-ADDRESS=Happy Hour Group 3466 Eastdale Circle Montgomery AL 36117 United States;X-APPLE-RADIUS=500;X-TITLE=3466 Eastdale Circle:geo:-86.2014771,32.3853615
END:VEVENT
BEGIN:VEVENT
DTSTART;TZID=America/Chicago:20260314T140000
DTEND;TZID=America/Chicago:20260314T160000
DTSTAMP:20260423T063852
CREATED:20251020T185031Z
LAST-MODIFIED:20260106T123037Z
UID:10003060-1773496800-1773504000@centralalaa.org
SUMMARY:82nd AA Anniversary
DESCRIPTION:
URL:https://centralalaa.org/single-event/82nd-aa-anniversary
LOCATION:Landmark Church of Christ\, 1800 HALCYON BLVD\, MONTGOMERY\, AL\, 36117\, United States
CATEGORIES:Fellowship Events
GEO:32.3499537;-86.1732685
X-APPLE-STRUCTURED-LOCATION;VALUE=URI;X-ADDRESS=Landmark Church of Christ 1800 HALCYON BLVD MONTGOMERY AL 36117 United States;X-APPLE-RADIUS=500;X-TITLE=1800 HALCYON BLVD:geo:-86.1732685,32.3499537
END:VEVENT
BEGIN:VEVENT
DTSTART;TZID=America/Chicago:20260315T133000
DTEND;TZID=America/Chicago:20260315T143000
DTSTAMP:20260423T063852
CREATED:20260105T192421Z
LAST-MODIFIED:20260105T192421Z
UID:10003370-1773581400-1773585000@centralalaa.org
SUMMARY:24hr Hotline Committee Meeting
DESCRIPTION:24hr Hotline Committee Meeting \n3rd Sunday of the Month \n130pm online \nZoom ID: 276 263 0376
URL:https://centralalaa.org/single-event/24hr-hotline-committee-meeting/2026-03-15
LOCATION:via Zoom
CATEGORIES:Service Events
END:VEVENT
BEGIN:VEVENT
DTSTART;TZID=America/Chicago:20260318T100000
DTEND;TZID=America/Chicago:20260318T140000
DTSTAMP:20260423T063852
CREATED:20250301T230449Z
LAST-MODIFIED:20250301T230449Z
UID:10001342-1773828000-1773842400@centralalaa.org
SUMMARY:Central Office Open
DESCRIPTION:
URL:https://centralalaa.org/single-event/central-office-open/2026-03-18
LOCATION:Central Office\, 828 Forest Ave\, Montgomery\, AL\, 36106
END:VEVENT
BEGIN:VEVENT
DTSTART;TZID=America/Chicago:20260321T103000
DTEND;TZID=America/Chicago:20260321T113000
DTSTAMP:20260423T063852
CREATED:20260105T192731Z
LAST-MODIFIED:20260217T200953Z
UID:10003708-1774089000-1774092600@centralalaa.org
SUMMARY:Corrections/Treatment Committee Meeting
DESCRIPTION:Corrections/Treatment Committee Meeting \nEvery 3rd Saturday at 1030am \nLegacies and on Zoom \nZoom ID: 7987279234\nPW: Awakening
URL:https://centralalaa.org/single-event/corrections-treatment-committee-meeting/2026-03-21
LOCATION:Legacies and Zoom\, 3412 Atlanta Highway\, Montgomery\, AL\, 36109\, United States
CATEGORIES:Service Events
END:VEVENT
BEGIN:VEVENT
DTSTART;TZID=America/Chicago:20260322T133000
DTEND;TZID=America/Chicago:20260322T143000
DTSTAMP:20260423T063852
CREATED:20260309T132739Z
LAST-MODIFIED:20260309T132739Z
UID:10003815-1774186200-1774189800@centralalaa.org
SUMMARY:FOBW: Big Book Comes Alive
DESCRIPTION:Committee meeting to plan the Big Book Comes Alive event. All welcome. In person and on Zoom.  \nMeeting ID: 276 263 0376\nNo password required
URL:https://centralalaa.org/single-event/fobw-big-book-comes-alive
LOCATION:Legacies and Zoom\, 3412 Atlanta Highway\, Montgomery\, AL\, 36109\, United States
END:VEVENT
BEGIN:VEVENT
DTSTART;TZID=America/Chicago:20260325T100000
DTEND;TZID=America/Chicago:20260325T140000
DTSTAMP:20260423T063852
CREATED:20250301T230449Z
LAST-MODIFIED:20250301T230449Z
UID:10001343-1774432800-1774447200@centralalaa.org
SUMMARY:Central Office Open
DESCRIPTION:
URL:https://centralalaa.org/single-event/central-office-open/2026-03-25
LOCATION:Central Office\, 828 Forest Ave\, Montgomery\, AL\, 36106
END:VEVENT
BEGIN:VEVENT
DTSTART;TZID=America/Chicago:20260326T120000
DTEND;TZID=America/Chicago:20260326T130000
DTSTAMP:20260423T063852
CREATED:20250525T232631Z
LAST-MODIFIED:20250525T232631Z
UID:10002340-1774526400-1774530000@centralalaa.org
SUMMARY:Autauga SOS Noon Pot Luck and Speaker Meeting
DESCRIPTION:Autauga SOS Noon Pot Luck and Speaker Meeting \nLast Thursday of the Month at Noon \nSpeaker and Pot Luck
URL:https://centralalaa.org/single-event/autauga-sos-noon-pot-luck-and-speaker-meeting/2026-03-26
LOCATION:St Marks Episcopal Church\, 178 E 4th St\, Prattville\, AL\, 36067\, United States
CATEGORIES:Events,Fellowship Events
END:VEVENT
BEGIN:VEVENT
DTSTART;TZID=America/Chicago:20260328T160000
DTEND;TZID=America/Chicago:20260328T183000
DTSTAMP:20260423T063852
CREATED:20260218T213314Z
LAST-MODIFIED:20260218T213314Z
UID:10003760-1774713600-1774722600@centralalaa.org
SUMMARY:Millbrook Primary Purpose Group Anniversary
DESCRIPTION:MPP celebrates 11 years! Come and join us and bring your favorite casserole (or not). Desserts\, too!!
URL:https://centralalaa.org/single-event/millbrook-primary-purpose-group-anniversary
LOCATION:Memorial Center Building\, 3170 Park Circle\, Millbrook\, AL\, 36054\, United States
END:VEVENT
BEGIN:VEVENT
DTSTART;TZID=America/Chicago:20260329T133000
DTEND;TZID=America/Chicago:20260329T143000
DTSTAMP:20260423T063852
CREATED:20260105T191931Z
LAST-MODIFIED:20260125T195507Z
UID:10003595-1774791000-1774794600@centralalaa.org
SUMMARY:Website Committee Meeting
DESCRIPTION:Last Sunday of each month. \n130p on Zoom. \n276 263 0376 \nhttps://us06web.zoom.us/j/2762630376
URL:https://centralalaa.org/single-event/website-committee-meeting/2026-03-29
LOCATION:via Zoom
CATEGORIES:Service Events
END:VEVENT
BEGIN:VEVENT
DTSTART;TZID=America/Chicago:20260331T190000
DTEND;TZID=America/Chicago:20260331T200000
DTSTAMP:20260423T063852
CREATED:20260128T202317Z
LAST-MODIFIED:20260128T202317Z
UID:10003647-1774983600-1774987200@centralalaa.org
SUMMARY:Area 1 Literature Committee Workshop
DESCRIPTION:Area_201_20Literature_20Committee_20Flyer_202026_20Q1 (1)
URL:https://centralalaa.org/single-event/area-1-literature-committee-workshop-2
LOCATION:via Zoom
END:VEVENT
BEGIN:VEVENT
DTSTART;TZID=America/Chicago:20260401T100000
DTEND;TZID=America/Chicago:20260401T140000
DTSTAMP:20260423T063852
CREATED:20250301T230449Z
LAST-MODIFIED:20250301T230449Z
UID:10001344-1775037600-1775052000@centralalaa.org
SUMMARY:Central Office Open
DESCRIPTION:
URL:https://centralalaa.org/single-event/central-office-open/2026-04-01
LOCATION:Central Office\, 828 Forest Ave\, Montgomery\, AL\, 36106
END:VEVENT
BEGIN:VEVENT
DTSTART;TZID=America/Chicago:20260404T133000
DTEND;TZID=America/Chicago:20260404T143000
DTSTAMP:20260423T063852
CREATED:20260404T003004Z
LAST-MODIFIED:20260404T003004Z
UID:10003823-1775309400-1775313000@centralalaa.org
SUMMARY:Archives Committee Meeting
DESCRIPTION:Monthly Archives Committee Meeting.
URL:https://centralalaa.org/single-event/archives-committee-meeting-3
LOCATION:Happy Hour Group\, 3466 Eastdale Circle\, Montgomery\, AL\, 36117\, United States
ORGANIZER;CN="District 8 Archives Committee":MAILTO:archives@centralalaa.org
GEO:32.3853615;-86.2014771
X-APPLE-STRUCTURED-LOCATION;VALUE=URI;X-ADDRESS=Happy Hour Group 3466 Eastdale Circle Montgomery AL 36117 United States;X-APPLE-RADIUS=500;X-TITLE=3466 Eastdale Circle:geo:-86.2014771,32.3853615
END:VEVENT
BEGIN:VEVENT
DTSTART;TZID=America/Chicago:20260406T180000
DTEND;TZID=America/Chicago:20260406T190000
DTSTAMP:20260423T063852
CREATED:20250816T013304Z
LAST-MODIFIED:20250816T013308Z
UID:10003038-1775498400-1775502000@centralalaa.org
SUMMARY:District 8 Public Information (PI) Committee
DESCRIPTION:Please join to discuss ongoing projects in Public Information. District Committee meets at Legacies\, first Monday of each month\, 6:00-7:00. In-person and on Zoom.
URL:https://centralalaa.org/single-event/district-public-information-pi-committee-2-2/2026-04-06
LOCATION:Legacies and Zoom\, 3412 Atlanta Highway\, Montgomery\, AL\, 36109\, United States
END:VEVENT
BEGIN:VEVENT
DTSTART;TZID=America/Chicago:20260408T100000
DTEND;TZID=America/Chicago:20260408T140000
DTSTAMP:20260423T063852
CREATED:20250301T230449Z
LAST-MODIFIED:20250301T230449Z
UID:10001345-1775642400-1775656800@centralalaa.org
SUMMARY:Central Office Open
DESCRIPTION:
URL:https://centralalaa.org/single-event/central-office-open/2026-04-08
LOCATION:Central Office\, 828 Forest Ave\, Montgomery\, AL\, 36106
END:VEVENT
BEGIN:VEVENT
DTSTART;VALUE=DATE:20260410
DTEND;VALUE=DATE:20260413
DTSTAMP:20260423T063852
CREATED:20250728T150925Z
LAST-MODIFIED:20250728T150925Z
UID:10002978-1775779200-1776038399@centralalaa.org
SUMMARY:AA Area 1 Assembly
DESCRIPTION:Ramada Inn & Suites 5216 Messer Airport Highway Birmingham\, AL 35212\n(205) 719-1656
URL:https://centralalaa.org/single-event/aa-area-1-assembly-6
LOCATION:Birmingham Ramada Airport\, 5216 Messer Airport Hwy\, Birmingham\, AL\, 35212
END:VEVENT
BEGIN:VEVENT
DTSTART;TZID=America/Chicago:20260415T100000
DTEND;TZID=America/Chicago:20260415T140000
DTSTAMP:20260423T063852
CREATED:20250301T230449Z
LAST-MODIFIED:20250301T230449Z
UID:10001346-1776247200-1776261600@centralalaa.org
SUMMARY:Central Office Open
DESCRIPTION:
URL:https://centralalaa.org/single-event/central-office-open/2026-04-15
LOCATION:Central Office\, 828 Forest Ave\, Montgomery\, AL\, 36106
END:VEVENT
BEGIN:VEVENT
DTSTART;TZID=America/Chicago:20260418T103000
DTEND;TZID=America/Chicago:20260418T113000
DTSTAMP:20260423T063852
CREATED:20260105T192731Z
LAST-MODIFIED:20260217T200953Z
UID:10003709-1776508200-1776511800@centralalaa.org
SUMMARY:Corrections/Treatment Committee Meeting
DESCRIPTION:Corrections/Treatment Committee Meeting \nEvery 3rd Saturday at 1030am \nLegacies and on Zoom \nZoom ID: 7987279234\nPW: Awakening
URL:https://centralalaa.org/single-event/corrections-treatment-committee-meeting/2026-04-18
LOCATION:Legacies and Zoom\, 3412 Atlanta Highway\, Montgomery\, AL\, 36109\, United States
CATEGORIES:Service Events
END:VEVENT
BEGIN:VEVENT
DTSTART;TZID=America/Chicago:20260419T133000
DTEND;TZID=America/Chicago:20260419T143000
DTSTAMP:20260423T063852
CREATED:20260105T192421Z
LAST-MODIFIED:20260105T192421Z
UID:10003371-1776605400-1776609000@centralalaa.org
SUMMARY:24hr Hotline Committee Meeting
DESCRIPTION:24hr Hotline Committee Meeting \n3rd Sunday of the Month \n130pm online \nZoom ID: 276 263 0376
URL:https://centralalaa.org/single-event/24hr-hotline-committee-meeting/2026-04-19
LOCATION:via Zoom
CATEGORIES:Service Events
END:VEVENT
BEGIN:VEVENT
DTSTART;TZID=America/Chicago:20260419T150000
DTEND;TZID=America/Chicago:20260419T170000
DTSTAMP:20260423T063852
CREATED:20260322T214729Z
LAST-MODIFIED:20260418T192819Z
UID:10003820-1776610800-1776618000@centralalaa.org
SUMMARY:FOBW Big Book Comes Alive
DESCRIPTION:Committee Meeting to plan this years Big Book Comes Alive event. Hybrid at Legacies or on Intergroup Zoom. all welcome
URL:https://centralalaa.org/single-event/fobw-big-book-comes-alive-2
LOCATION:Legacies and Zoom\, 3412 Atlanta Highway\, Montgomery\, AL\, 36109\, United States
END:VEVENT
BEGIN:VEVENT
DTSTART;TZID=America/Chicago:20260420T100000
DTEND;TZID=America/Chicago:20260420T140000
DTSTAMP:20260423T063852
CREATED:20260416T181911Z
LAST-MODIFIED:20260416T182034Z
UID:10003827-1776679200-1776693600@centralalaa.org
SUMMARY:Central Office Open
DESCRIPTION:Central office open
URL:https://centralalaa.org/single-event/central-office-open-1000am-200pm/2026-04-20
LOCATION:Central Office\, 828 Forest Ave\, Montgomery\, AL\, 36106
END:VEVENT
BEGIN:VEVENT
DTSTART;TZID=America/Chicago:20260422T100000
DTEND;TZID=America/Chicago:20260422T140000
DTSTAMP:20260423T063852
CREATED:20250301T230449Z
LAST-MODIFIED:20250301T230449Z
UID:10001347-1776852000-1776866400@centralalaa.org
SUMMARY:Central Office Open
DESCRIPTION:
URL:https://centralalaa.org/single-event/central-office-open/2026-04-22
LOCATION:Central Office\, 828 Forest Ave\, Montgomery\, AL\, 36106
END:VEVENT
END:VCALENDAR