BEGIN:VCALENDAR
VERSION:2.0
PRODID:-//District 8, Area 1 - ECPv6.15.20//NONSGML v1.0//EN
CALSCALE:GREGORIAN
METHOD:PUBLISH
X-WR-CALNAME:District 8, Area 1
X-ORIGINAL-URL:https://centralalaa.org
X-WR-CALDESC:Events for District 8, Area 1
REFRESH-INTERVAL;VALUE=DURATION:PT1H
X-Robots-Tag:noindex
X-PUBLISHED-TTL:PT1H
BEGIN:VTIMEZONE
TZID:America/Chicago
BEGIN:DAYLIGHT
TZOFFSETFROM:-0600
TZOFFSETTO:-0500
TZNAME:CDT
DTSTART:20240310T080000
END:DAYLIGHT
BEGIN:STANDARD
TZOFFSETFROM:-0500
TZOFFSETTO:-0600
TZNAME:CST
DTSTART:20241103T070000
END:STANDARD
BEGIN:DAYLIGHT
TZOFFSETFROM:-0600
TZOFFSETTO:-0500
TZNAME:CDT
DTSTART:20250309T080000
END:DAYLIGHT
BEGIN:STANDARD
TZOFFSETFROM:-0500
TZOFFSETTO:-0600
TZNAME:CST
DTSTART:20251102T070000
END:STANDARD
BEGIN:DAYLIGHT
TZOFFSETFROM:-0600
TZOFFSETTO:-0500
TZNAME:CDT
DTSTART:20260308T080000
END:DAYLIGHT
BEGIN:STANDARD
TZOFFSETFROM:-0500
TZOFFSETTO:-0600
TZNAME:CST
DTSTART:20261101T070000
END:STANDARD
END:VTIMEZONE
BEGIN:VEVENT
DTSTART;TZID=America/Chicago:20250502T180000
DTEND;TZID=America/Chicago:20250502T200000
DTSTAMP:20260424T055913
CREATED:20250427T192927Z
LAST-MODIFIED:20250427T192958Z
UID:10002166-1746208800-1746216000@centralalaa.org
SUMMARY:Happy Hour May Eat and Speak
DESCRIPTION:Dinner begins at 6pm with Make Your Own Deli Sandwiches. Please sign up for chips/dips\, dessert or drinks! \nSpeaker is SAM N. \nPlease join us!!!
URL:https://centralalaa.org/single-event/happy-hour-may-eat-and-speak
LOCATION:Happy Hour Group\, 3466 Eastdale Circle\, Montgomery\, AL\, 36117\, United States
ORGANIZER;CN="Happy Hour Group":MAILTO:Intergroup.Chair@centralalaa.org
GEO:32.3853615;-86.2014771
X-APPLE-STRUCTURED-LOCATION;VALUE=URI;X-ADDRESS=Happy Hour Group 3466 Eastdale Circle Montgomery AL 36117 United States;X-APPLE-RADIUS=500;X-TITLE=3466 Eastdale Circle:geo:-86.2014771,32.3853615
END:VEVENT
BEGIN:VEVENT
DTSTART;TZID=America/Chicago:20250430T100000
DTEND;TZID=America/Chicago:20250430T140000
DTSTAMP:20260424T055913
CREATED:20250301T230449Z
LAST-MODIFIED:20250301T230449Z
UID:10001296-1746007200-1746021600@centralalaa.org
SUMMARY:Central Office Open
DESCRIPTION:
URL:https://centralalaa.org/single-event/central-office-open/2025-04-30
LOCATION:Central Office\, 828 Forest Ave\, Montgomery\, AL\, 36106
END:VEVENT
BEGIN:VEVENT
DTSTART;TZID=America/Chicago:20250428T100000
DTEND;TZID=America/Chicago:20250428T140000
DTSTAMP:20260424T055913
CREATED:20250301T230244Z
LAST-MODIFIED:20250301T230244Z
UID:10001243-1745834400-1745848800@centralalaa.org
SUMMARY:Central Office Open (Except Holidays)
DESCRIPTION:828 Forest Ave\, Montgomery\, AL 36106
URL:https://centralalaa.org/single-event/central-office-open-except-holidays/2025-04-28
LOCATION:Central Office\, 828 Forest Ave\, Montgomery\, AL\, 36106
END:VEVENT
BEGIN:VEVENT
DTSTART;TZID=America/Chicago:20250426T173000
DTEND;TZID=America/Chicago:20250426T210000
DTSTAMP:20260424T055913
CREATED:20250328T020451Z
LAST-MODIFIED:20250328T020612Z
UID:10002060-1745688600-1745701200@centralalaa.org
SUMMARY:Having Had A Spiritual AwakeningAn Event by GUMPYPAA
DESCRIPTION:Join us for an evening of food\, fellowship and experience\, strength and hope!\n\n5:30 – 6:00Fellowship \n6:00 – 6:45 pmPotluck SupperPlease bring a covered dish or dessert. \n6:45 – 8:00 pmA.A. Speaker MeetingJason B. and Craig M. – Montgomery \n8:00 – 9:00 pmBingo & 50/50 Raffle \n\nWe will pass the basket to help cover expenses.Please help support GUMPYPAA
URL:https://centralalaa.org/single-event/having-had-a-spiritual-awakening-an-event-by-gumpypaa
LOCATION:Immanuel Presbyterian Church\, 8790 Vaughn Road\, Montgomery\, AL\, 36117\, United States
CATEGORIES:Fellowship Events
ATTACH;FMTTYPE=image/jpeg:https://centralalaa.org/wp-content/uploads/5c7c5bb4f56045e39334e42488ff67b4.jpeg
END:VEVENT
BEGIN:VEVENT
DTSTART;TZID=America/Chicago:20250423T100000
DTEND;TZID=America/Chicago:20250423T140000
DTSTAMP:20260424T055913
CREATED:20250301T230449Z
LAST-MODIFIED:20250301T230449Z
UID:10001295-1745402400-1745416800@centralalaa.org
SUMMARY:Central Office Open
DESCRIPTION:
URL:https://centralalaa.org/single-event/central-office-open/2025-04-23
LOCATION:Central Office\, 828 Forest Ave\, Montgomery\, AL\, 36106
END:VEVENT
END:VCALENDAR