BEGIN:VCALENDAR
VERSION:2.0
PRODID:-//District 8, Area 1 - ECPv6.15.20//NONSGML v1.0//EN
CALSCALE:GREGORIAN
METHOD:PUBLISH
X-WR-CALNAME:District 8, Area 1
X-ORIGINAL-URL:https://centralalaa.org
X-WR-CALDESC:Events for District 8, Area 1
REFRESH-INTERVAL;VALUE=DURATION:PT1H
X-Robots-Tag:noindex
X-PUBLISHED-TTL:PT1H
BEGIN:VTIMEZONE
TZID:America/Chicago
BEGIN:DAYLIGHT
TZOFFSETFROM:-0600
TZOFFSETTO:-0500
TZNAME:CDT
DTSTART:20270314T080000
END:DAYLIGHT
BEGIN:STANDARD
TZOFFSETFROM:-0500
TZOFFSETTO:-0600
TZNAME:CST
DTSTART:20271107T070000
END:STANDARD
BEGIN:DAYLIGHT
TZOFFSETFROM:-0600
TZOFFSETTO:-0500
TZNAME:CDT
DTSTART:20280312T080000
END:DAYLIGHT
BEGIN:STANDARD
TZOFFSETFROM:-0500
TZOFFSETTO:-0600
TZNAME:CST
DTSTART:20281105T070000
END:STANDARD
BEGIN:DAYLIGHT
TZOFFSETFROM:-0600
TZOFFSETTO:-0500
TZNAME:CDT
DTSTART:20290311T080000
END:DAYLIGHT
BEGIN:STANDARD
TZOFFSETFROM:-0500
TZOFFSETTO:-0600
TZNAME:CST
DTSTART:20291104T070000
END:STANDARD
END:VTIMEZONE
BEGIN:VEVENT
DTSTART;TZID=America/Chicago:20280828T100000
DTEND;TZID=America/Chicago:20280828T140000
DTSTAMP:20260425T070949
CREATED:20260416T181911Z
LAST-MODIFIED:20260416T182034Z
UID:10003950-1851069600-1851084000@centralalaa.org
SUMMARY:Central Office Open
DESCRIPTION:Central office open
URL:https://centralalaa.org/single-event/central-office-open-1000am-200pm/2028-08-28
LOCATION:Central Office\, 828 Forest Ave\, Montgomery\, AL\, 36106
END:VEVENT
BEGIN:VEVENT
DTSTART;TZID=America/Chicago:20280830T100000
DTEND;TZID=America/Chicago:20280830T140000
DTSTAMP:20260425T070949
CREATED:20250301T230449Z
LAST-MODIFIED:20250301T230449Z
UID:10001470-1851242400-1851256800@centralalaa.org
SUMMARY:Central Office Open
DESCRIPTION:
URL:https://centralalaa.org/single-event/central-office-open/2028-08-30
LOCATION:Central Office\, 828 Forest Ave\, Montgomery\, AL\, 36106
END:VEVENT
BEGIN:VEVENT
DTSTART;TZID=America/Chicago:20280831T120000
DTEND;TZID=America/Chicago:20280831T130000
DTSTAMP:20260425T070949
CREATED:20250525T232631Z
LAST-MODIFIED:20250525T232631Z
UID:10002365-1851336000-1851339600@centralalaa.org
SUMMARY:Autauga SOS Noon Pot Luck and Speaker Meeting
DESCRIPTION:Autauga SOS Noon Pot Luck and Speaker Meeting \nLast Thursday of the Month at Noon \nSpeaker and Pot Luck
URL:https://centralalaa.org/single-event/autauga-sos-noon-pot-luck-and-speaker-meeting/2028-08-31
LOCATION:St Marks Episcopal Church\, 178 E 4th St\, Prattville\, AL\, 36067\, United States
CATEGORIES:Events,Fellowship Events
END:VEVENT
BEGIN:VEVENT
DTSTART;TZID=America/Chicago:20280904T100000
DTEND;TZID=America/Chicago:20280904T140000
DTSTAMP:20260425T070949
CREATED:20260416T181911Z
LAST-MODIFIED:20260416T182034Z
UID:10003951-1851674400-1851688800@centralalaa.org
SUMMARY:Central Office Open
DESCRIPTION:Central office open
URL:https://centralalaa.org/single-event/central-office-open-1000am-200pm/2028-09-04
LOCATION:Central Office\, 828 Forest Ave\, Montgomery\, AL\, 36106
END:VEVENT
BEGIN:VEVENT
DTSTART;TZID=America/Chicago:20280906T100000
DTEND;TZID=America/Chicago:20280906T140000
DTSTAMP:20260425T070949
CREATED:20250301T230449Z
LAST-MODIFIED:20250301T230449Z
UID:10001471-1851847200-1851861600@centralalaa.org
SUMMARY:Central Office Open
DESCRIPTION:
URL:https://centralalaa.org/single-event/central-office-open/2028-09-06
LOCATION:Central Office\, 828 Forest Ave\, Montgomery\, AL\, 36106
END:VEVENT
BEGIN:VEVENT
DTSTART;TZID=America/Chicago:20280911T100000
DTEND;TZID=America/Chicago:20280911T140000
DTSTAMP:20260425T070949
CREATED:20260416T181911Z
LAST-MODIFIED:20260416T182034Z
UID:10003952-1852279200-1852293600@centralalaa.org
SUMMARY:Central Office Open
DESCRIPTION:Central office open
URL:https://centralalaa.org/single-event/central-office-open-1000am-200pm/2028-09-11
LOCATION:Central Office\, 828 Forest Ave\, Montgomery\, AL\, 36106
END:VEVENT
BEGIN:VEVENT
DTSTART;TZID=America/Chicago:20280913T100000
DTEND;TZID=America/Chicago:20280913T140000
DTSTAMP:20260425T070949
CREATED:20250301T230449Z
LAST-MODIFIED:20250301T230449Z
UID:10001472-1852452000-1852466400@centralalaa.org
SUMMARY:Central Office Open
DESCRIPTION:
URL:https://centralalaa.org/single-event/central-office-open/2028-09-13
LOCATION:Central Office\, 828 Forest Ave\, Montgomery\, AL\, 36106
END:VEVENT
BEGIN:VEVENT
DTSTART;TZID=America/Chicago:20280916T103000
DTEND;TZID=America/Chicago:20280916T113000
DTSTAMP:20260425T070949
CREATED:20260105T192731Z
LAST-MODIFIED:20260217T200953Z
UID:10003734-1852713000-1852716600@centralalaa.org
SUMMARY:Corrections/Treatment Committee Meeting
DESCRIPTION:Corrections/Treatment Committee Meeting \nEvery 3rd Saturday at 1030am \nLegacies and on Zoom \nZoom ID: 7987279234\nPW: Awakening
URL:https://centralalaa.org/single-event/corrections-treatment-committee-meeting/2028-09-16
LOCATION:Legacies and Zoom\, 3412 Atlanta Highway\, Montgomery\, AL\, 36109\, United States
CATEGORIES:Service Events
END:VEVENT
BEGIN:VEVENT
DTSTART;TZID=America/Chicago:20280917T133000
DTEND;TZID=America/Chicago:20280917T143000
DTSTAMP:20260425T070949
CREATED:20260105T192421Z
LAST-MODIFIED:20260105T192421Z
UID:10003400-1852810200-1852813800@centralalaa.org
SUMMARY:24hr Hotline Committee Meeting
DESCRIPTION:24hr Hotline Committee Meeting \n3rd Sunday of the Month \n130pm online \nZoom ID: 276 263 0376
URL:https://centralalaa.org/single-event/24hr-hotline-committee-meeting/2028-09-17
LOCATION:via Zoom
CATEGORIES:Service Events
END:VEVENT
BEGIN:VEVENT
DTSTART;TZID=America/Chicago:20280918T100000
DTEND;TZID=America/Chicago:20280918T140000
DTSTAMP:20260425T070949
CREATED:20260416T181911Z
LAST-MODIFIED:20260416T182034Z
UID:10003953-1852884000-1852898400@centralalaa.org
SUMMARY:Central Office Open
DESCRIPTION:Central office open
URL:https://centralalaa.org/single-event/central-office-open-1000am-200pm/2028-09-18
LOCATION:Central Office\, 828 Forest Ave\, Montgomery\, AL\, 36106
END:VEVENT
BEGIN:VEVENT
DTSTART;TZID=America/Chicago:20280920T100000
DTEND;TZID=America/Chicago:20280920T140000
DTSTAMP:20260425T070949
CREATED:20250301T230449Z
LAST-MODIFIED:20250301T230449Z
UID:10001473-1853056800-1853071200@centralalaa.org
SUMMARY:Central Office Open
DESCRIPTION:
URL:https://centralalaa.org/single-event/central-office-open/2028-09-20
LOCATION:Central Office\, 828 Forest Ave\, Montgomery\, AL\, 36106
END:VEVENT
BEGIN:VEVENT
DTSTART;TZID=America/Chicago:20280924T133000
DTEND;TZID=America/Chicago:20280924T143000
DTSTAMP:20260425T070949
CREATED:20260105T191931Z
LAST-MODIFIED:20260125T195507Z
UID:10003621-1853415000-1853418600@centralalaa.org
SUMMARY:Website Committee Meeting
DESCRIPTION:Last Sunday of each month. \n130p on Zoom. \n276 263 0376 \nhttps://us06web.zoom.us/j/2762630376
URL:https://centralalaa.org/single-event/website-committee-meeting/2028-09-24
LOCATION:via Zoom
CATEGORIES:Service Events
END:VEVENT
BEGIN:VEVENT
DTSTART;TZID=America/Chicago:20280925T100000
DTEND;TZID=America/Chicago:20280925T140000
DTSTAMP:20260425T070949
CREATED:20260416T181911Z
LAST-MODIFIED:20260416T182034Z
UID:10003954-1853488800-1853503200@centralalaa.org
SUMMARY:Central Office Open
DESCRIPTION:Central office open
URL:https://centralalaa.org/single-event/central-office-open-1000am-200pm/2028-09-25
LOCATION:Central Office\, 828 Forest Ave\, Montgomery\, AL\, 36106
END:VEVENT
BEGIN:VEVENT
DTSTART;TZID=America/Chicago:20280927T100000
DTEND;TZID=America/Chicago:20280927T140000
DTSTAMP:20260425T070949
CREATED:20250301T230449Z
LAST-MODIFIED:20250301T230449Z
UID:10001474-1853661600-1853676000@centralalaa.org
SUMMARY:Central Office Open
DESCRIPTION:
URL:https://centralalaa.org/single-event/central-office-open/2028-09-27
LOCATION:Central Office\, 828 Forest Ave\, Montgomery\, AL\, 36106
END:VEVENT
BEGIN:VEVENT
DTSTART;TZID=America/Chicago:20280928T120000
DTEND;TZID=America/Chicago:20280928T130000
DTSTAMP:20260425T070949
CREATED:20250525T232631Z
LAST-MODIFIED:20250525T232631Z
UID:10002366-1853755200-1853758800@centralalaa.org
SUMMARY:Autauga SOS Noon Pot Luck and Speaker Meeting
DESCRIPTION:Autauga SOS Noon Pot Luck and Speaker Meeting \nLast Thursday of the Month at Noon \nSpeaker and Pot Luck
URL:https://centralalaa.org/single-event/autauga-sos-noon-pot-luck-and-speaker-meeting/2028-09-28
LOCATION:St Marks Episcopal Church\, 178 E 4th St\, Prattville\, AL\, 36067\, United States
CATEGORIES:Events,Fellowship Events
END:VEVENT
BEGIN:VEVENT
DTSTART;TZID=America/Chicago:20281002T100000
DTEND;TZID=America/Chicago:20281002T140000
DTSTAMP:20260425T070949
CREATED:20260416T181911Z
LAST-MODIFIED:20260416T182034Z
UID:10003955-1854093600-1854108000@centralalaa.org
SUMMARY:Central Office Open
DESCRIPTION:Central office open
URL:https://centralalaa.org/single-event/central-office-open-1000am-200pm/2028-10-02
LOCATION:Central Office\, 828 Forest Ave\, Montgomery\, AL\, 36106
END:VEVENT
BEGIN:VEVENT
DTSTART;TZID=America/Chicago:20281004T100000
DTEND;TZID=America/Chicago:20281004T140000
DTSTAMP:20260425T070949
CREATED:20250301T230449Z
LAST-MODIFIED:20250301T230449Z
UID:10001475-1854266400-1854280800@centralalaa.org
SUMMARY:Central Office Open
DESCRIPTION:
URL:https://centralalaa.org/single-event/central-office-open/2028-10-04
LOCATION:Central Office\, 828 Forest Ave\, Montgomery\, AL\, 36106
END:VEVENT
BEGIN:VEVENT
DTSTART;TZID=America/Chicago:20281009T100000
DTEND;TZID=America/Chicago:20281009T140000
DTSTAMP:20260425T070949
CREATED:20260416T181911Z
LAST-MODIFIED:20260416T182034Z
UID:10003956-1854698400-1854712800@centralalaa.org
SUMMARY:Central Office Open
DESCRIPTION:Central office open
URL:https://centralalaa.org/single-event/central-office-open-1000am-200pm/2028-10-09
LOCATION:Central Office\, 828 Forest Ave\, Montgomery\, AL\, 36106
END:VEVENT
BEGIN:VEVENT
DTSTART;TZID=America/Chicago:20281011T100000
DTEND;TZID=America/Chicago:20281011T140000
DTSTAMP:20260425T070949
CREATED:20250301T230449Z
LAST-MODIFIED:20250301T230449Z
UID:10001476-1854871200-1854885600@centralalaa.org
SUMMARY:Central Office Open
DESCRIPTION:
URL:https://centralalaa.org/single-event/central-office-open/2028-10-11
LOCATION:Central Office\, 828 Forest Ave\, Montgomery\, AL\, 36106
END:VEVENT
BEGIN:VEVENT
DTSTART;TZID=America/Chicago:20281015T133000
DTEND;TZID=America/Chicago:20281015T143000
DTSTAMP:20260425T070949
CREATED:20260105T192421Z
LAST-MODIFIED:20260105T192421Z
UID:10003401-1855229400-1855233000@centralalaa.org
SUMMARY:24hr Hotline Committee Meeting
DESCRIPTION:24hr Hotline Committee Meeting \n3rd Sunday of the Month \n130pm online \nZoom ID: 276 263 0376
URL:https://centralalaa.org/single-event/24hr-hotline-committee-meeting/2028-10-15
LOCATION:via Zoom
CATEGORIES:Service Events
END:VEVENT
BEGIN:VEVENT
DTSTART;TZID=America/Chicago:20281016T100000
DTEND;TZID=America/Chicago:20281016T140000
DTSTAMP:20260425T070949
CREATED:20260416T181911Z
LAST-MODIFIED:20260416T182034Z
UID:10003957-1855303200-1855317600@centralalaa.org
SUMMARY:Central Office Open
DESCRIPTION:Central office open
URL:https://centralalaa.org/single-event/central-office-open-1000am-200pm/2028-10-16
LOCATION:Central Office\, 828 Forest Ave\, Montgomery\, AL\, 36106
END:VEVENT
BEGIN:VEVENT
DTSTART;TZID=America/Chicago:20281018T100000
DTEND;TZID=America/Chicago:20281018T140000
DTSTAMP:20260425T070949
CREATED:20250301T230449Z
LAST-MODIFIED:20250301T230449Z
UID:10001477-1855476000-1855490400@centralalaa.org
SUMMARY:Central Office Open
DESCRIPTION:
URL:https://centralalaa.org/single-event/central-office-open/2028-10-18
LOCATION:Central Office\, 828 Forest Ave\, Montgomery\, AL\, 36106
END:VEVENT
BEGIN:VEVENT
DTSTART;TZID=America/Chicago:20281021T103000
DTEND;TZID=America/Chicago:20281021T113000
DTSTAMP:20260425T070949
CREATED:20260105T192731Z
LAST-MODIFIED:20260217T200953Z
UID:10003735-1855737000-1855740600@centralalaa.org
SUMMARY:Corrections/Treatment Committee Meeting
DESCRIPTION:Corrections/Treatment Committee Meeting \nEvery 3rd Saturday at 1030am \nLegacies and on Zoom \nZoom ID: 7987279234\nPW: Awakening
URL:https://centralalaa.org/single-event/corrections-treatment-committee-meeting/2028-10-21
LOCATION:Legacies and Zoom\, 3412 Atlanta Highway\, Montgomery\, AL\, 36109\, United States
CATEGORIES:Service Events
END:VEVENT
BEGIN:VEVENT
DTSTART;TZID=America/Chicago:20281023T100000
DTEND;TZID=America/Chicago:20281023T140000
DTSTAMP:20260425T070949
CREATED:20260416T181911Z
LAST-MODIFIED:20260416T182034Z
UID:10003958-1855908000-1855922400@centralalaa.org
SUMMARY:Central Office Open
DESCRIPTION:Central office open
URL:https://centralalaa.org/single-event/central-office-open-1000am-200pm/2028-10-23
LOCATION:Central Office\, 828 Forest Ave\, Montgomery\, AL\, 36106
END:VEVENT
BEGIN:VEVENT
DTSTART;TZID=America/Chicago:20281025T100000
DTEND;TZID=America/Chicago:20281025T140000
DTSTAMP:20260425T070949
CREATED:20250301T230449Z
LAST-MODIFIED:20250301T230449Z
UID:10001478-1856080800-1856095200@centralalaa.org
SUMMARY:Central Office Open
DESCRIPTION:
URL:https://centralalaa.org/single-event/central-office-open/2028-10-25
LOCATION:Central Office\, 828 Forest Ave\, Montgomery\, AL\, 36106
END:VEVENT
BEGIN:VEVENT
DTSTART;TZID=America/Chicago:20281026T120000
DTEND;TZID=America/Chicago:20281026T130000
DTSTAMP:20260425T070949
CREATED:20250525T232631Z
LAST-MODIFIED:20250525T232631Z
UID:10002367-1856174400-1856178000@centralalaa.org
SUMMARY:Autauga SOS Noon Pot Luck and Speaker Meeting
DESCRIPTION:Autauga SOS Noon Pot Luck and Speaker Meeting \nLast Thursday of the Month at Noon \nSpeaker and Pot Luck
URL:https://centralalaa.org/single-event/autauga-sos-noon-pot-luck-and-speaker-meeting/2028-10-26
LOCATION:St Marks Episcopal Church\, 178 E 4th St\, Prattville\, AL\, 36067\, United States
CATEGORIES:Events,Fellowship Events
END:VEVENT
BEGIN:VEVENT
DTSTART;TZID=America/Chicago:20281029T133000
DTEND;TZID=America/Chicago:20281029T143000
DTSTAMP:20260425T070949
CREATED:20260105T191931Z
LAST-MODIFIED:20260125T195507Z
UID:10003622-1856439000-1856442600@centralalaa.org
SUMMARY:Website Committee Meeting
DESCRIPTION:Last Sunday of each month. \n130p on Zoom. \n276 263 0376 \nhttps://us06web.zoom.us/j/2762630376
URL:https://centralalaa.org/single-event/website-committee-meeting/2028-10-29
LOCATION:via Zoom
CATEGORIES:Service Events
END:VEVENT
BEGIN:VEVENT
DTSTART;TZID=America/Chicago:20281030T100000
DTEND;TZID=America/Chicago:20281030T140000
DTSTAMP:20260425T070949
CREATED:20260416T181911Z
LAST-MODIFIED:20260416T182034Z
UID:10003959-1856512800-1856527200@centralalaa.org
SUMMARY:Central Office Open
DESCRIPTION:Central office open
URL:https://centralalaa.org/single-event/central-office-open-1000am-200pm/2028-10-30
LOCATION:Central Office\, 828 Forest Ave\, Montgomery\, AL\, 36106
END:VEVENT
BEGIN:VEVENT
DTSTART;TZID=America/Chicago:20281101T100000
DTEND;TZID=America/Chicago:20281101T140000
DTSTAMP:20260425T070949
CREATED:20250301T230449Z
LAST-MODIFIED:20250301T230449Z
UID:10001479-1856685600-1856700000@centralalaa.org
SUMMARY:Central Office Open
DESCRIPTION:
URL:https://centralalaa.org/single-event/central-office-open/2028-11-01
LOCATION:Central Office\, 828 Forest Ave\, Montgomery\, AL\, 36106
END:VEVENT
BEGIN:VEVENT
DTSTART;TZID=America/Chicago:20281106T100000
DTEND;TZID=America/Chicago:20281106T140000
DTSTAMP:20260425T070949
CREATED:20260416T181911Z
LAST-MODIFIED:20260416T182034Z
UID:10003960-1857117600-1857132000@centralalaa.org
SUMMARY:Central Office Open
DESCRIPTION:Central office open
URL:https://centralalaa.org/single-event/central-office-open-1000am-200pm/2028-11-06
LOCATION:Central Office\, 828 Forest Ave\, Montgomery\, AL\, 36106
END:VEVENT
END:VCALENDAR