BEGIN:VCALENDAR
VERSION:2.0
PRODID:-//District 8, Area 1 - ECPv6.15.20//NONSGML v1.0//EN
CALSCALE:GREGORIAN
METHOD:PUBLISH
X-ORIGINAL-URL:https://centralalaa.org
X-WR-CALDESC:Events for District 8, Area 1
REFRESH-INTERVAL;VALUE=DURATION:PT1H
X-Robots-Tag:noindex
X-PUBLISHED-TTL:PT1H
BEGIN:VTIMEZONE
TZID:America/Chicago
BEGIN:DAYLIGHT
TZOFFSETFROM:-0600
TZOFFSETTO:-0500
TZNAME:CDT
DTSTART:20260308T080000
END:DAYLIGHT
BEGIN:STANDARD
TZOFFSETFROM:-0500
TZOFFSETTO:-0600
TZNAME:CST
DTSTART:20261101T070000
END:STANDARD
BEGIN:DAYLIGHT
TZOFFSETFROM:-0600
TZOFFSETTO:-0500
TZNAME:CDT
DTSTART:20270314T080000
END:DAYLIGHT
BEGIN:STANDARD
TZOFFSETFROM:-0500
TZOFFSETTO:-0600
TZNAME:CST
DTSTART:20271107T070000
END:STANDARD
BEGIN:DAYLIGHT
TZOFFSETFROM:-0600
TZOFFSETTO:-0500
TZNAME:CDT
DTSTART:20280312T080000
END:DAYLIGHT
BEGIN:STANDARD
TZOFFSETFROM:-0500
TZOFFSETTO:-0600
TZNAME:CST
DTSTART:20281105T070000
END:STANDARD
END:VTIMEZONE
BEGIN:VEVENT
DTSTART;TZID=America/Chicago:20270630T100000
DTEND;TZID=America/Chicago:20270630T140000
DTSTAMP:20260424T102356
CREATED:20250301T230449Z
LAST-MODIFIED:20250301T230449Z
UID:10001409-1814349600-1814364000@centralalaa.org
SUMMARY:Central Office Open
DESCRIPTION:
URL:https://centralalaa.org/single-event/central-office-open/2027-06-30
LOCATION:Central Office\, 828 Forest Ave\, Montgomery\, AL\, 36106
END:VEVENT
BEGIN:VEVENT
DTSTART;TZID=America/Chicago:20270705T100000
DTEND;TZID=America/Chicago:20270705T140000
DTSTAMP:20260424T102356
CREATED:20260416T181911Z
LAST-MODIFIED:20260416T182034Z
UID:10003890-1814781600-1814796000@centralalaa.org
SUMMARY:Central Office Open
DESCRIPTION:Central office open
URL:https://centralalaa.org/single-event/central-office-open-1000am-200pm/2027-07-05
LOCATION:Central Office\, 828 Forest Ave\, Montgomery\, AL\, 36106
END:VEVENT
BEGIN:VEVENT
DTSTART;TZID=America/Chicago:20270707T100000
DTEND;TZID=America/Chicago:20270707T140000
DTSTAMP:20260424T102356
CREATED:20250301T230449Z
LAST-MODIFIED:20250301T230449Z
UID:10001410-1814954400-1814968800@centralalaa.org
SUMMARY:Central Office Open
DESCRIPTION:
URL:https://centralalaa.org/single-event/central-office-open/2027-07-07
LOCATION:Central Office\, 828 Forest Ave\, Montgomery\, AL\, 36106
END:VEVENT
BEGIN:VEVENT
DTSTART;TZID=America/Chicago:20270712T100000
DTEND;TZID=America/Chicago:20270712T140000
DTSTAMP:20260424T102356
CREATED:20260416T181911Z
LAST-MODIFIED:20260416T182034Z
UID:10003891-1815386400-1815400800@centralalaa.org
SUMMARY:Central Office Open
DESCRIPTION:Central office open
URL:https://centralalaa.org/single-event/central-office-open-1000am-200pm/2027-07-12
LOCATION:Central Office\, 828 Forest Ave\, Montgomery\, AL\, 36106
END:VEVENT
BEGIN:VEVENT
DTSTART;TZID=America/Chicago:20270714T100000
DTEND;TZID=America/Chicago:20270714T140000
DTSTAMP:20260424T102356
CREATED:20250301T230449Z
LAST-MODIFIED:20250301T230449Z
UID:10001411-1815559200-1815573600@centralalaa.org
SUMMARY:Central Office Open
DESCRIPTION:
URL:https://centralalaa.org/single-event/central-office-open/2027-07-14
LOCATION:Central Office\, 828 Forest Ave\, Montgomery\, AL\, 36106
END:VEVENT
BEGIN:VEVENT
DTSTART;TZID=America/Chicago:20270717T103000
DTEND;TZID=America/Chicago:20270717T113000
DTSTAMP:20260424T102356
CREATED:20260105T192731Z
LAST-MODIFIED:20260217T200953Z
UID:10003446-1815820200-1815823800@centralalaa.org
SUMMARY:Corrections/Treatment Committee Meeting
DESCRIPTION:Corrections/Treatment Committee Meeting \nEvery 3rd Saturday at 1030am \nLegacies and on Zoom \nZoom ID: 7987279234\nPW: Awakening
URL:https://centralalaa.org/single-event/corrections-treatment-committee-meeting/2027-07-17
LOCATION:Legacies and Zoom\, 3412 Atlanta Highway\, Montgomery\, AL\, 36109\, United States
CATEGORIES:Service Events
END:VEVENT
BEGIN:VEVENT
DTSTART;TZID=America/Chicago:20270718T133000
DTEND;TZID=America/Chicago:20270718T143000
DTSTAMP:20260424T102356
CREATED:20260105T192421Z
LAST-MODIFIED:20260105T192421Z
UID:10003386-1815917400-1815921000@centralalaa.org
SUMMARY:24hr Hotline Committee Meeting
DESCRIPTION:24hr Hotline Committee Meeting \n3rd Sunday of the Month \n130pm online \nZoom ID: 276 263 0376
URL:https://centralalaa.org/single-event/24hr-hotline-committee-meeting/2027-07-18
LOCATION:via Zoom
CATEGORIES:Service Events
END:VEVENT
BEGIN:VEVENT
DTSTART;TZID=America/Chicago:20270719T100000
DTEND;TZID=America/Chicago:20270719T140000
DTSTAMP:20260424T102356
CREATED:20260416T181911Z
LAST-MODIFIED:20260416T182034Z
UID:10003892-1815991200-1816005600@centralalaa.org
SUMMARY:Central Office Open
DESCRIPTION:Central office open
URL:https://centralalaa.org/single-event/central-office-open-1000am-200pm/2027-07-19
LOCATION:Central Office\, 828 Forest Ave\, Montgomery\, AL\, 36106
END:VEVENT
BEGIN:VEVENT
DTSTART;TZID=America/Chicago:20270721T100000
DTEND;TZID=America/Chicago:20270721T140000
DTSTAMP:20260424T102356
CREATED:20250301T230449Z
LAST-MODIFIED:20250301T230449Z
UID:10001412-1816164000-1816178400@centralalaa.org
SUMMARY:Central Office Open
DESCRIPTION:
URL:https://centralalaa.org/single-event/central-office-open/2027-07-21
LOCATION:Central Office\, 828 Forest Ave\, Montgomery\, AL\, 36106
END:VEVENT
BEGIN:VEVENT
DTSTART;TZID=America/Chicago:20270725T133000
DTEND;TZID=America/Chicago:20270725T143000
DTSTAMP:20260424T102356
CREATED:20260105T191931Z
LAST-MODIFIED:20260125T195507Z
UID:10003275-1816522200-1816525800@centralalaa.org
SUMMARY:Website Committee Meeting
DESCRIPTION:Last Sunday of each month. \n130p on Zoom. \n276 263 0376 \nhttps://us06web.zoom.us/j/2762630376
URL:https://centralalaa.org/single-event/website-committee-meeting/2027-07-25
LOCATION:via Zoom
CATEGORIES:Service Events
END:VEVENT
BEGIN:VEVENT
DTSTART;TZID=America/Chicago:20270726T100000
DTEND;TZID=America/Chicago:20270726T140000
DTSTAMP:20260424T102356
CREATED:20260416T181911Z
LAST-MODIFIED:20260416T182034Z
UID:10003893-1816596000-1816610400@centralalaa.org
SUMMARY:Central Office Open
DESCRIPTION:Central office open
URL:https://centralalaa.org/single-event/central-office-open-1000am-200pm/2027-07-26
LOCATION:Central Office\, 828 Forest Ave\, Montgomery\, AL\, 36106
END:VEVENT
BEGIN:VEVENT
DTSTART;TZID=America/Chicago:20270728T100000
DTEND;TZID=America/Chicago:20270728T140000
DTSTAMP:20260424T102356
CREATED:20250301T230449Z
LAST-MODIFIED:20250301T230449Z
UID:10001413-1816768800-1816783200@centralalaa.org
SUMMARY:Central Office Open
DESCRIPTION:
URL:https://centralalaa.org/single-event/central-office-open/2027-07-28
LOCATION:Central Office\, 828 Forest Ave\, Montgomery\, AL\, 36106
END:VEVENT
BEGIN:VEVENT
DTSTART;TZID=America/Chicago:20270729T120000
DTEND;TZID=America/Chicago:20270729T130000
DTSTAMP:20260424T102356
CREATED:20250525T232631Z
LAST-MODIFIED:20250525T232631Z
UID:10002250-1816862400-1816866000@centralalaa.org
SUMMARY:Autauga SOS Noon Pot Luck and Speaker Meeting
DESCRIPTION:Autauga SOS Noon Pot Luck and Speaker Meeting \nLast Thursday of the Month at Noon \nSpeaker and Pot Luck
URL:https://centralalaa.org/single-event/autauga-sos-noon-pot-luck-and-speaker-meeting/2027-07-29
LOCATION:St Marks Episcopal Church\, 178 E 4th St\, Prattville\, AL\, 36067\, United States
CATEGORIES:Events,Fellowship Events
END:VEVENT
BEGIN:VEVENT
DTSTART;TZID=America/Chicago:20270802T100000
DTEND;TZID=America/Chicago:20270802T140000
DTSTAMP:20260424T102356
CREATED:20260416T181911Z
LAST-MODIFIED:20260416T182034Z
UID:10003894-1817200800-1817215200@centralalaa.org
SUMMARY:Central Office Open
DESCRIPTION:Central office open
URL:https://centralalaa.org/single-event/central-office-open-1000am-200pm/2027-08-02
LOCATION:Central Office\, 828 Forest Ave\, Montgomery\, AL\, 36106
END:VEVENT
BEGIN:VEVENT
DTSTART;TZID=America/Chicago:20270804T100000
DTEND;TZID=America/Chicago:20270804T140000
DTSTAMP:20260424T102356
CREATED:20250301T230449Z
LAST-MODIFIED:20250301T230449Z
UID:10001414-1817373600-1817388000@centralalaa.org
SUMMARY:Central Office Open
DESCRIPTION:
URL:https://centralalaa.org/single-event/central-office-open/2027-08-04
LOCATION:Central Office\, 828 Forest Ave\, Montgomery\, AL\, 36106
END:VEVENT
BEGIN:VEVENT
DTSTART;TZID=America/Chicago:20270809T100000
DTEND;TZID=America/Chicago:20270809T140000
DTSTAMP:20260424T102356
CREATED:20260416T181911Z
LAST-MODIFIED:20260416T182034Z
UID:10003895-1817805600-1817820000@centralalaa.org
SUMMARY:Central Office Open
DESCRIPTION:Central office open
URL:https://centralalaa.org/single-event/central-office-open-1000am-200pm/2027-08-09
LOCATION:Central Office\, 828 Forest Ave\, Montgomery\, AL\, 36106
END:VEVENT
BEGIN:VEVENT
DTSTART;TZID=America/Chicago:20270811T100000
DTEND;TZID=America/Chicago:20270811T140000
DTSTAMP:20260424T102356
CREATED:20250301T230449Z
LAST-MODIFIED:20250301T230449Z
UID:10001415-1817978400-1817992800@centralalaa.org
SUMMARY:Central Office Open
DESCRIPTION:
URL:https://centralalaa.org/single-event/central-office-open/2027-08-11
LOCATION:Central Office\, 828 Forest Ave\, Montgomery\, AL\, 36106
END:VEVENT
BEGIN:VEVENT
DTSTART;TZID=America/Chicago:20270815T133000
DTEND;TZID=America/Chicago:20270815T143000
DTSTAMP:20260424T102356
CREATED:20260105T192421Z
LAST-MODIFIED:20260105T192421Z
UID:10003387-1818336600-1818340200@centralalaa.org
SUMMARY:24hr Hotline Committee Meeting
DESCRIPTION:24hr Hotline Committee Meeting \n3rd Sunday of the Month \n130pm online \nZoom ID: 276 263 0376
URL:https://centralalaa.org/single-event/24hr-hotline-committee-meeting/2027-08-15
LOCATION:via Zoom
CATEGORIES:Service Events
END:VEVENT
BEGIN:VEVENT
DTSTART;TZID=America/Chicago:20270816T100000
DTEND;TZID=America/Chicago:20270816T140000
DTSTAMP:20260424T102356
CREATED:20260416T181911Z
LAST-MODIFIED:20260416T182034Z
UID:10003896-1818410400-1818424800@centralalaa.org
SUMMARY:Central Office Open
DESCRIPTION:Central office open
URL:https://centralalaa.org/single-event/central-office-open-1000am-200pm/2027-08-16
LOCATION:Central Office\, 828 Forest Ave\, Montgomery\, AL\, 36106
END:VEVENT
BEGIN:VEVENT
DTSTART;TZID=America/Chicago:20270818T100000
DTEND;TZID=America/Chicago:20270818T140000
DTSTAMP:20260424T102356
CREATED:20250301T230449Z
LAST-MODIFIED:20250301T230449Z
UID:10001416-1818583200-1818597600@centralalaa.org
SUMMARY:Central Office Open
DESCRIPTION:
URL:https://centralalaa.org/single-event/central-office-open/2027-08-18
LOCATION:Central Office\, 828 Forest Ave\, Montgomery\, AL\, 36106
END:VEVENT
BEGIN:VEVENT
DTSTART;TZID=America/Chicago:20270821T103000
DTEND;TZID=America/Chicago:20270821T113000
DTSTAMP:20260424T102356
CREATED:20260105T192731Z
LAST-MODIFIED:20260217T200953Z
UID:10003722-1818844200-1818847800@centralalaa.org
SUMMARY:Corrections/Treatment Committee Meeting
DESCRIPTION:Corrections/Treatment Committee Meeting \nEvery 3rd Saturday at 1030am \nLegacies and on Zoom \nZoom ID: 7987279234\nPW: Awakening
URL:https://centralalaa.org/single-event/corrections-treatment-committee-meeting/2027-08-21
LOCATION:Legacies and Zoom\, 3412 Atlanta Highway\, Montgomery\, AL\, 36109\, United States
CATEGORIES:Service Events
END:VEVENT
BEGIN:VEVENT
DTSTART;TZID=America/Chicago:20270823T100000
DTEND;TZID=America/Chicago:20270823T140000
DTSTAMP:20260424T102356
CREATED:20260416T181911Z
LAST-MODIFIED:20260416T182034Z
UID:10003897-1819015200-1819029600@centralalaa.org
SUMMARY:Central Office Open
DESCRIPTION:Central office open
URL:https://centralalaa.org/single-event/central-office-open-1000am-200pm/2027-08-23
LOCATION:Central Office\, 828 Forest Ave\, Montgomery\, AL\, 36106
END:VEVENT
BEGIN:VEVENT
DTSTART;TZID=America/Chicago:20270825T100000
DTEND;TZID=America/Chicago:20270825T140000
DTSTAMP:20260424T102356
CREATED:20250301T230449Z
LAST-MODIFIED:20250301T230449Z
UID:10001417-1819188000-1819202400@centralalaa.org
SUMMARY:Central Office Open
DESCRIPTION:
URL:https://centralalaa.org/single-event/central-office-open/2027-08-25
LOCATION:Central Office\, 828 Forest Ave\, Montgomery\, AL\, 36106
END:VEVENT
BEGIN:VEVENT
DTSTART;TZID=America/Chicago:20270826T120000
DTEND;TZID=America/Chicago:20270826T130000
DTSTAMP:20260424T102356
CREATED:20250525T232631Z
LAST-MODIFIED:20250525T232631Z
UID:10002354-1819281600-1819285200@centralalaa.org
SUMMARY:Autauga SOS Noon Pot Luck and Speaker Meeting
DESCRIPTION:Autauga SOS Noon Pot Luck and Speaker Meeting \nLast Thursday of the Month at Noon \nSpeaker and Pot Luck
URL:https://centralalaa.org/single-event/autauga-sos-noon-pot-luck-and-speaker-meeting/2027-08-26
LOCATION:St Marks Episcopal Church\, 178 E 4th St\, Prattville\, AL\, 36067\, United States
CATEGORIES:Events,Fellowship Events
END:VEVENT
BEGIN:VEVENT
DTSTART;TZID=America/Chicago:20270829T133000
DTEND;TZID=America/Chicago:20270829T143000
DTSTAMP:20260424T102356
CREATED:20260105T191931Z
LAST-MODIFIED:20260125T195507Z
UID:10003609-1819546200-1819549800@centralalaa.org
SUMMARY:Website Committee Meeting
DESCRIPTION:Last Sunday of each month. \n130p on Zoom. \n276 263 0376 \nhttps://us06web.zoom.us/j/2762630376
URL:https://centralalaa.org/single-event/website-committee-meeting/2027-08-29
LOCATION:via Zoom
CATEGORIES:Service Events
END:VEVENT
BEGIN:VEVENT
DTSTART;TZID=America/Chicago:20270830T100000
DTEND;TZID=America/Chicago:20270830T140000
DTSTAMP:20260424T102356
CREATED:20260416T181911Z
LAST-MODIFIED:20260416T182034Z
UID:10003898-1819620000-1819634400@centralalaa.org
SUMMARY:Central Office Open
DESCRIPTION:Central office open
URL:https://centralalaa.org/single-event/central-office-open-1000am-200pm/2027-08-30
LOCATION:Central Office\, 828 Forest Ave\, Montgomery\, AL\, 36106
END:VEVENT
BEGIN:VEVENT
DTSTART;TZID=America/Chicago:20270901T100000
DTEND;TZID=America/Chicago:20270901T140000
DTSTAMP:20260424T102356
CREATED:20250301T230449Z
LAST-MODIFIED:20250301T230449Z
UID:10001418-1819792800-1819807200@centralalaa.org
SUMMARY:Central Office Open
DESCRIPTION:
URL:https://centralalaa.org/single-event/central-office-open/2027-09-01
LOCATION:Central Office\, 828 Forest Ave\, Montgomery\, AL\, 36106
END:VEVENT
BEGIN:VEVENT
DTSTART;TZID=America/Chicago:20270906T100000
DTEND;TZID=America/Chicago:20270906T140000
DTSTAMP:20260424T102356
CREATED:20260416T181911Z
LAST-MODIFIED:20260416T182034Z
UID:10003899-1820224800-1820239200@centralalaa.org
SUMMARY:Central Office Open
DESCRIPTION:Central office open
URL:https://centralalaa.org/single-event/central-office-open-1000am-200pm/2027-09-06
LOCATION:Central Office\, 828 Forest Ave\, Montgomery\, AL\, 36106
END:VEVENT
BEGIN:VEVENT
DTSTART;TZID=America/Chicago:20270908T100000
DTEND;TZID=America/Chicago:20270908T140000
DTSTAMP:20260424T102356
CREATED:20250301T230449Z
LAST-MODIFIED:20250301T230449Z
UID:10001419-1820397600-1820412000@centralalaa.org
SUMMARY:Central Office Open
DESCRIPTION:
URL:https://centralalaa.org/single-event/central-office-open/2027-09-08
LOCATION:Central Office\, 828 Forest Ave\, Montgomery\, AL\, 36106
END:VEVENT
BEGIN:VEVENT
DTSTART;TZID=America/Chicago:20270913T100000
DTEND;TZID=America/Chicago:20270913T140000
DTSTAMP:20260424T102356
CREATED:20260416T181911Z
LAST-MODIFIED:20260416T182034Z
UID:10003900-1820829600-1820844000@centralalaa.org
SUMMARY:Central Office Open
DESCRIPTION:Central office open
URL:https://centralalaa.org/single-event/central-office-open-1000am-200pm/2027-09-13
LOCATION:Central Office\, 828 Forest Ave\, Montgomery\, AL\, 36106
END:VEVENT
END:VCALENDAR