BEGIN:VCALENDAR
VERSION:2.0
PRODID:-//District 8, Area 1 - ECPv6.15.20//NONSGML v1.0//EN
CALSCALE:GREGORIAN
METHOD:PUBLISH
X-WR-CALNAME:District 8, Area 1
X-ORIGINAL-URL:https://centralalaa.org
X-WR-CALDESC:Events for District 8, Area 1
REFRESH-INTERVAL;VALUE=DURATION:PT1H
X-Robots-Tag:noindex
X-PUBLISHED-TTL:PT1H
BEGIN:VTIMEZONE
TZID:America/Chicago
BEGIN:DAYLIGHT
TZOFFSETFROM:-0600
TZOFFSETTO:-0500
TZNAME:CDT
DTSTART:20240310T080000
END:DAYLIGHT
BEGIN:STANDARD
TZOFFSETFROM:-0500
TZOFFSETTO:-0600
TZNAME:CST
DTSTART:20241103T070000
END:STANDARD
BEGIN:DAYLIGHT
TZOFFSETFROM:-0600
TZOFFSETTO:-0500
TZNAME:CDT
DTSTART:20250309T080000
END:DAYLIGHT
BEGIN:STANDARD
TZOFFSETFROM:-0500
TZOFFSETTO:-0600
TZNAME:CST
DTSTART:20251102T070000
END:STANDARD
BEGIN:DAYLIGHT
TZOFFSETFROM:-0600
TZOFFSETTO:-0500
TZNAME:CDT
DTSTART:20260308T080000
END:DAYLIGHT
BEGIN:STANDARD
TZOFFSETFROM:-0500
TZOFFSETTO:-0600
TZNAME:CST
DTSTART:20261101T070000
END:STANDARD
END:VTIMEZONE
BEGIN:VEVENT
DTSTART;TZID=America/Chicago:20250811T100000
DTEND;TZID=America/Chicago:20250811T140000
DTSTAMP:20260423T182813
CREATED:20250301T230244Z
LAST-MODIFIED:20250301T230244Z
UID:10001258-1754906400-1754920800@centralalaa.org
SUMMARY:Central Office Open (Except Holidays)
DESCRIPTION:828 Forest Ave\, Montgomery\, AL 36106
URL:https://centralalaa.org/single-event/central-office-open-except-holidays/2025-08-11
LOCATION:Central Office\, 828 Forest Ave\, Montgomery\, AL\, 36106
END:VEVENT
BEGIN:VEVENT
DTSTART;TZID=America/Chicago:20250809T090000
DTEND;TZID=America/Chicago:20250809T100000
DTSTAMP:20260423T182813
CREATED:20250503T162250Z
LAST-MODIFIED:20250503T190746Z
UID:10002216-1754730000-1754733600@centralalaa.org
SUMMARY:CPC Committee Meeting
DESCRIPTION:
URL:https://centralalaa.org/single-event/cpc-committee-meeting-2/2025-08-09
LOCATION:Legacies and Zoom\, 3412 Atlanta Highway\, Montgomery\, AL\, 36109\, United States
CATEGORIES:Events,Service Events
END:VEVENT
BEGIN:VEVENT
DTSTART;TZID=America/Chicago:20250806T100000
DTEND;TZID=America/Chicago:20250806T140000
DTSTAMP:20260423T182813
CREATED:20250301T230449Z
LAST-MODIFIED:20250301T230449Z
UID:10001310-1754474400-1754488800@centralalaa.org
SUMMARY:Central Office Open
DESCRIPTION:
URL:https://centralalaa.org/single-event/central-office-open/2025-08-06
LOCATION:Central Office\, 828 Forest Ave\, Montgomery\, AL\, 36106
END:VEVENT
BEGIN:VEVENT
DTSTART;TZID=America/Chicago:20250804T180000
DTEND;TZID=America/Chicago:20250804T190000
DTSTAMP:20260423T182813
CREATED:20250721T162506Z
LAST-MODIFIED:20250721T162741Z
UID:10002732-1754330400-1754334000@centralalaa.org
SUMMARY:District 8 Public Information (PI) Committee
DESCRIPTION:Please join to discuss ongoing projects in Public Information. District Committee meets at Legacies\, first Monday of each month\, 6:00-7:00. In-person and on Zoom.
URL:https://centralalaa.org/single-event/district-public-information-pi-committee
LOCATION:Legacies and Zoom\, 3412 Atlanta Highway\, Montgomery\, AL\, 36109\, United States
END:VEVENT
BEGIN:VEVENT
DTSTART;TZID=America/Chicago:20250804T100000
DTEND;TZID=America/Chicago:20250804T140000
DTSTAMP:20260423T182813
CREATED:20250301T230244Z
LAST-MODIFIED:20250301T230244Z
UID:10001257-1754301600-1754316000@centralalaa.org
SUMMARY:Central Office Open (Except Holidays)
DESCRIPTION:828 Forest Ave\, Montgomery\, AL 36106
URL:https://centralalaa.org/single-event/central-office-open-except-holidays/2025-08-04
LOCATION:Central Office\, 828 Forest Ave\, Montgomery\, AL\, 36106
END:VEVENT
BEGIN:VEVENT
DTSTART;TZID=America/Chicago:20250802T133000
DTEND;TZID=America/Chicago:20250802T143000
DTSTAMP:20260423T182813
CREATED:20250724T172618Z
LAST-MODIFIED:20250729T005852Z
UID:10002838-1754141400-1754145000@centralalaa.org
SUMMARY:Ralph Gives A Talk On Sister Ignatia
DESCRIPTION:
URL:https://centralalaa.org/single-event/ralph-gives-a-talk-on-aa-history
LOCATION:Happy Hour Group\, 3466 Eastdale Circle\, Montgomery\, AL\, 36117\, United States
CATEGORIES:Fellowship Events
ATTACH;FMTTYPE=image/jpeg:https://centralalaa.org/wp-content/uploads/Capture-1.jpg
ORGANIZER;CN="District 8 Archives Committee":MAILTO:archives@centralalaa.org
GEO:32.3853615;-86.2014771
X-APPLE-STRUCTURED-LOCATION;VALUE=URI;X-ADDRESS=Happy Hour Group 3466 Eastdale Circle Montgomery AL 36117 United States;X-APPLE-RADIUS=500;X-TITLE=3466 Eastdale Circle:geo:-86.2014771,32.3853615
END:VEVENT
BEGIN:VEVENT
DTSTART;TZID=America/Chicago:20250802T133000
DTEND;TZID=America/Chicago:20250802T143000
DTSTAMP:20260423T182813
CREATED:20250104T222645Z
LAST-MODIFIED:20250728T113714Z
UID:10000792-1754141400-1754145000@centralalaa.org
SUMMARY:District 8 Archives Committee Meeting
DESCRIPTION:Sister-Igg-Flyer-Aug-2025-628d954dbd7240c6b168db4320ffb44b
URL:https://centralalaa.org/single-event/archives-committee-meeting-2
LOCATION:Happy Hour Group\, 3466 Eastdale Circle\, Montgomery\, AL\, 36117\, United States
CATEGORIES:Events,Service Events
GEO:32.3853615;-86.2014771
X-APPLE-STRUCTURED-LOCATION;VALUE=URI;X-ADDRESS=Happy Hour Group 3466 Eastdale Circle Montgomery AL 36117 United States;X-APPLE-RADIUS=500;X-TITLE=3466 Eastdale Circle:geo:-86.2014771,32.3853615
END:VEVENT
BEGIN:VEVENT
DTSTART;TZID=America/Chicago:20250802T093000
DTEND;TZID=America/Chicago:20250802T103000
DTSTAMP:20260423T182813
CREATED:20250728T165748Z
LAST-MODIFIED:20250728T165748Z
UID:10002982-1754127000-1754130600@centralalaa.org
SUMMARY:District 8 Service Meeting
DESCRIPTION:
URL:https://centralalaa.org/single-event/district-8-service-meeting-6
LOCATION:Legacies and Zoom\, 3412 Atlanta Highway\, Montgomery\, AL\, 36109\, United States
ORGANIZER;CN="District 8 DCM":MAILTO:dcm@centralalaa.org
END:VEVENT
BEGIN:VEVENT
DTSTART;TZID=America/Chicago:20250801T180000
DTEND;TZID=America/Chicago:20250801T200000
DTSTAMP:20260423T182813
CREATED:20250723T161059Z
LAST-MODIFIED:20250723T161059Z
UID:10002782-1754071200-1754078400@centralalaa.org
SUMMARY:Happy Hour Eat & Speak
DESCRIPTION:
URL:https://centralalaa.org/single-event/happy-hour-eat-speak
LOCATION:Happy Hour Group\, 3466 Eastdale Circle\, Montgomery\, AL\, 36117\, United States
ORGANIZER;CN="Happy Hour Group":MAILTO:Intergroup.Chair@centralalaa.org
GEO:32.3853615;-86.2014771
X-APPLE-STRUCTURED-LOCATION;VALUE=URI;X-ADDRESS=Happy Hour Group 3466 Eastdale Circle Montgomery AL 36117 United States;X-APPLE-RADIUS=500;X-TITLE=3466 Eastdale Circle:geo:-86.2014771,32.3853615
END:VEVENT
BEGIN:VEVENT
DTSTART;TZID=America/Chicago:20250731T120000
DTEND;TZID=America/Chicago:20250731T130000
DTSTAMP:20260423T182813
CREATED:20250525T232631Z
LAST-MODIFIED:20250525T232631Z
UID:10002333-1753963200-1753966800@centralalaa.org
SUMMARY:Autauga SOS Noon Pot Luck and Speaker Meeting
DESCRIPTION:Autauga SOS Noon Pot Luck and Speaker Meeting \nLast Thursday of the Month at Noon \nSpeaker and Pot Luck
URL:https://centralalaa.org/single-event/autauga-sos-noon-pot-luck-and-speaker-meeting/2025-07-31
LOCATION:St Marks Episcopal Church\, 178 E 4th St\, Prattville\, AL\, 36067\, United States
CATEGORIES:Events,Fellowship Events
END:VEVENT
BEGIN:VEVENT
DTSTART;TZID=America/Chicago:20250730T100000
DTEND;TZID=America/Chicago:20250730T140000
DTSTAMP:20260423T182813
CREATED:20250301T230449Z
LAST-MODIFIED:20250301T230449Z
UID:10001309-1753869600-1753884000@centralalaa.org
SUMMARY:Central Office Open
DESCRIPTION:
URL:https://centralalaa.org/single-event/central-office-open/2025-07-30
LOCATION:Central Office\, 828 Forest Ave\, Montgomery\, AL\, 36106
END:VEVENT
BEGIN:VEVENT
DTSTART;TZID=America/Chicago:20250728T100000
DTEND;TZID=America/Chicago:20250728T140000
DTSTAMP:20260423T182813
CREATED:20250301T230244Z
LAST-MODIFIED:20250301T230244Z
UID:10001256-1753696800-1753711200@centralalaa.org
SUMMARY:Central Office Open (Except Holidays)
DESCRIPTION:828 Forest Ave\, Montgomery\, AL 36106
URL:https://centralalaa.org/single-event/central-office-open-except-holidays/2025-07-28
LOCATION:Central Office\, 828 Forest Ave\, Montgomery\, AL\, 36106
END:VEVENT
BEGIN:VEVENT
DTSTART;TZID=America/Chicago:20250723T100000
DTEND;TZID=America/Chicago:20250723T140000
DTSTAMP:20260423T182813
CREATED:20250301T230449Z
LAST-MODIFIED:20250301T230449Z
UID:10001308-1753264800-1753279200@centralalaa.org
SUMMARY:Central Office Open
DESCRIPTION:
URL:https://centralalaa.org/single-event/central-office-open/2025-07-23
LOCATION:Central Office\, 828 Forest Ave\, Montgomery\, AL\, 36106
END:VEVENT
BEGIN:VEVENT
DTSTART;TZID=America/Chicago:20250721T100000
DTEND;TZID=America/Chicago:20250721T140000
DTSTAMP:20260423T182813
CREATED:20250301T230244Z
LAST-MODIFIED:20250301T230244Z
UID:10001255-1753092000-1753106400@centralalaa.org
SUMMARY:Central Office Open (Except Holidays)
DESCRIPTION:828 Forest Ave\, Montgomery\, AL 36106
URL:https://centralalaa.org/single-event/central-office-open-except-holidays/2025-07-21
LOCATION:Central Office\, 828 Forest Ave\, Montgomery\, AL\, 36106
END:VEVENT
BEGIN:VEVENT
DTSTART;TZID=America/Chicago:20250719T150000
DTEND;TZID=America/Chicago:20250719T180000
DTSTAMP:20260423T182813
CREATED:20250530T160944Z
LAST-MODIFIED:20250530T160944Z
UID:10002385-1752937200-1752948000@centralalaa.org
SUMMARY:Happy Hour 19th Anniversary
DESCRIPTION:
URL:https://centralalaa.org/single-event/happy-hour-19th-anniversary
LOCATION:Happy Hour Group\, 3466 Eastdale Circle\, Montgomery\, AL\, 36117\, United States
CATEGORIES:Events,Fellowship Events
GEO:32.3853615;-86.2014771
X-APPLE-STRUCTURED-LOCATION;VALUE=URI;X-ADDRESS=Happy Hour Group 3466 Eastdale Circle Montgomery AL 36117 United States;X-APPLE-RADIUS=500;X-TITLE=3466 Eastdale Circle:geo:-86.2014771,32.3853615
END:VEVENT
BEGIN:VEVENT
DTSTART;TZID=America/Chicago:20250719T090000
DTEND;TZID=America/Chicago:20250719T103000
DTSTAMP:20260423T182813
CREATED:20250419T194213Z
LAST-MODIFIED:20250503T162035Z
UID:10002163-1752915600-1752921000@centralalaa.org
SUMMARY:Intergroup Board Meeting
DESCRIPTION:
URL:https://centralalaa.org/single-event/intergroup-board-meeting
LOCATION:Legacies and Zoom\, 3412 Atlanta Highway\, Montgomery\, AL\, 36109\, United States
END:VEVENT
BEGIN:VEVENT
DTSTART;TZID=America/Chicago:20250716T100000
DTEND;TZID=America/Chicago:20250716T140000
DTSTAMP:20260423T182813
CREATED:20250301T230449Z
LAST-MODIFIED:20250301T230449Z
UID:10001307-1752660000-1752674400@centralalaa.org
SUMMARY:Central Office Open
DESCRIPTION:
URL:https://centralalaa.org/single-event/central-office-open/2025-07-16
LOCATION:Central Office\, 828 Forest Ave\, Montgomery\, AL\, 36106
END:VEVENT
BEGIN:VEVENT
DTSTART;TZID=America/Chicago:20250714T100000
DTEND;TZID=America/Chicago:20250714T140000
DTSTAMP:20260423T182813
CREATED:20250301T230244Z
LAST-MODIFIED:20250301T230244Z
UID:10001254-1752487200-1752501600@centralalaa.org
SUMMARY:Central Office Open (Except Holidays)
DESCRIPTION:828 Forest Ave\, Montgomery\, AL 36106
URL:https://centralalaa.org/single-event/central-office-open-except-holidays/2025-07-14
LOCATION:Central Office\, 828 Forest Ave\, Montgomery\, AL\, 36106
END:VEVENT
BEGIN:VEVENT
DTSTART;TZID=America/Chicago:20250712T090000
DTEND;TZID=America/Chicago:20250712T100000
DTSTAMP:20260423T182813
CREATED:20250503T162250Z
LAST-MODIFIED:20250503T190746Z
UID:10002215-1752310800-1752314400@centralalaa.org
SUMMARY:CPC Committee Meeting
DESCRIPTION:
URL:https://centralalaa.org/single-event/cpc-committee-meeting-2/2025-07-12
LOCATION:Legacies and Zoom\, 3412 Atlanta Highway\, Montgomery\, AL\, 36109\, United States
CATEGORIES:Events,Service Events
END:VEVENT
BEGIN:VEVENT
DTSTART;VALUE=DATE:20250711
DTEND;VALUE=DATE:20250714
DTSTAMP:20260423T182813
CREATED:20250516T152653Z
LAST-MODIFIED:20250516T153037Z
UID:10002223-1752192000-1752451199@centralalaa.org
SUMMARY:AA Area 1 Assembly
DESCRIPTION:July 11_13 2025 Agenda Rev 3.docx
URL:https://centralalaa.org/single-event/aa-area-1-assembly-3
LOCATION:Birmingham Ramada Airport\, 5216 Messer Airport Hwy\, Birmingham\, AL\, 35212
END:VEVENT
BEGIN:VEVENT
DTSTART;TZID=America/Chicago:20250709T100000
DTEND;TZID=America/Chicago:20250709T140000
DTSTAMP:20260423T182813
CREATED:20250301T230449Z
LAST-MODIFIED:20250301T230449Z
UID:10001306-1752055200-1752069600@centralalaa.org
SUMMARY:Central Office Open
DESCRIPTION:
URL:https://centralalaa.org/single-event/central-office-open/2025-07-09
LOCATION:Central Office\, 828 Forest Ave\, Montgomery\, AL\, 36106
END:VEVENT
BEGIN:VEVENT
DTSTART;TZID=America/Chicago:20250707T100000
DTEND;TZID=America/Chicago:20250707T140000
DTSTAMP:20260423T182813
CREATED:20250301T230244Z
LAST-MODIFIED:20250301T230244Z
UID:10001253-1751882400-1751896800@centralalaa.org
SUMMARY:Central Office Open (Except Holidays)
DESCRIPTION:828 Forest Ave\, Montgomery\, AL 36106
URL:https://centralalaa.org/single-event/central-office-open-except-holidays/2025-07-07
LOCATION:Central Office\, 828 Forest Ave\, Montgomery\, AL\, 36106
END:VEVENT
BEGIN:VEVENT
DTSTART;TZID=America/Chicago:20250702T100000
DTEND;TZID=America/Chicago:20250702T140000
DTSTAMP:20260423T182813
CREATED:20250301T230449Z
LAST-MODIFIED:20250301T230449Z
UID:10001305-1751450400-1751464800@centralalaa.org
SUMMARY:Central Office Open
DESCRIPTION:
URL:https://centralalaa.org/single-event/central-office-open/2025-07-02
LOCATION:Central Office\, 828 Forest Ave\, Montgomery\, AL\, 36106
END:VEVENT
BEGIN:VEVENT
DTSTART;TZID=America/Chicago:20250630T100000
DTEND;TZID=America/Chicago:20250630T140000
DTSTAMP:20260423T182813
CREATED:20250301T230244Z
LAST-MODIFIED:20250301T230244Z
UID:10001252-1751277600-1751292000@centralalaa.org
SUMMARY:Central Office Open (Except Holidays)
DESCRIPTION:828 Forest Ave\, Montgomery\, AL 36106
URL:https://centralalaa.org/single-event/central-office-open-except-holidays/2025-06-30
LOCATION:Central Office\, 828 Forest Ave\, Montgomery\, AL\, 36106
END:VEVENT
BEGIN:VEVENT
DTSTART;TZID=America/Chicago:20250628T093000
DTEND;TZID=America/Chicago:20250628T103000
DTSTAMP:20260423T182813
CREATED:20250625T115356Z
LAST-MODIFIED:20250625T121727Z
UID:10002514-1751103000-1751106600@centralalaa.org
SUMMARY:District 8 Service Meeting
DESCRIPTION:District 8 Service Meeting\nHybrid Meeting at Legacies and on Zoom  9:30am to 10:30am \nhttps://us06web.zoom.us/j/2762630376 or follow the provided link below \nDistrict 8 Meeting to review progress and discuss Service Opportunities\nAll District 8 Trusted Servants and AA members are invited to attend and participate!
URL:https://centralalaa.org/single-event/district-8-service-meeting-5
LOCATION:Legacies and Zoom\, 3412 Atlanta Highway\, Montgomery\, AL\, 36109\, United States
CATEGORIES:Service Events
ORGANIZER;CN="District 8 DCM":MAILTO:dcm@centralalaa.org
END:VEVENT
BEGIN:VEVENT
DTSTART;TZID=America/Chicago:20250628T080000
DTEND;TZID=America/Chicago:20250628T090000
DTSTAMP:20260423T182813
CREATED:20250625T114817Z
LAST-MODIFIED:20250625T115522Z
UID:10002513-1751097600-1751101200@centralalaa.org
SUMMARY:Intergroup Monthly Meeting
DESCRIPTION:Montgomery Intergroup Monthly Meeting\nHybrid Meeting at Legacies and on Zoom  8:00am to 9:00am \nhttps://us06web.zoom.us/j/2762630376 or follow the provided link below \nThe Montgomery Intergroup works as a service committee to provide services to the groups of Alcoholics Anonymous in the river region\, and to carry the message to the still suffering alcoholics. It is the spiritual conscience of our local central office\, operates the 24-hour hotline. \nAll members of Alcoholics Anonymous are invited to attend and participate!
URL:https://centralalaa.org/single-event/intergroup-monthly-meeting
LOCATION:Legacies and Zoom\, 3412 Atlanta Highway\, Montgomery\, AL\, 36109\, United States
CATEGORIES:Service Events
ORGANIZER;CN="District 8 DCM":MAILTO:dcm@centralalaa.org
END:VEVENT
BEGIN:VEVENT
DTSTART;TZID=America/Chicago:20250626T120000
DTEND;TZID=America/Chicago:20250626T130000
DTSTAMP:20260423T182813
CREATED:20250525T232631Z
LAST-MODIFIED:20250525T232631Z
UID:10002332-1750939200-1750942800@centralalaa.org
SUMMARY:Autauga SOS Noon Pot Luck and Speaker Meeting
DESCRIPTION:Autauga SOS Noon Pot Luck and Speaker Meeting \nLast Thursday of the Month at Noon \nSpeaker and Pot Luck
URL:https://centralalaa.org/single-event/autauga-sos-noon-pot-luck-and-speaker-meeting/2025-06-26
LOCATION:St Marks Episcopal Church\, 178 E 4th St\, Prattville\, AL\, 36067\, United States
CATEGORIES:Events,Fellowship Events
END:VEVENT
BEGIN:VEVENT
DTSTART;TZID=America/Chicago:20250625T100000
DTEND;TZID=America/Chicago:20250625T140000
DTSTAMP:20260423T182813
CREATED:20250301T230449Z
LAST-MODIFIED:20250301T230449Z
UID:10001304-1750845600-1750860000@centralalaa.org
SUMMARY:Central Office Open
DESCRIPTION:
URL:https://centralalaa.org/single-event/central-office-open/2025-06-25
LOCATION:Central Office\, 828 Forest Ave\, Montgomery\, AL\, 36106
END:VEVENT
BEGIN:VEVENT
DTSTART;TZID=America/Chicago:20250623T100000
DTEND;TZID=America/Chicago:20250623T140000
DTSTAMP:20260423T182813
CREATED:20250301T230244Z
LAST-MODIFIED:20250301T230244Z
UID:10001251-1750672800-1750687200@centralalaa.org
SUMMARY:Central Office Open (Except Holidays)
DESCRIPTION:828 Forest Ave\, Montgomery\, AL 36106
URL:https://centralalaa.org/single-event/central-office-open-except-holidays/2025-06-23
LOCATION:Central Office\, 828 Forest Ave\, Montgomery\, AL\, 36106
END:VEVENT
BEGIN:VEVENT
DTSTART;TZID=America/Chicago:20250622T143000
DTEND;TZID=America/Chicago:20250622T170000
DTSTAMP:20260423T182813
CREATED:20250610T153451Z
LAST-MODIFIED:20250610T153451Z
UID:10002387-1750602600-1750611600@centralalaa.org
SUMMARY:Friends of Bill W
DESCRIPTION:
URL:https://centralalaa.org/single-event/friends-of-bill-w-2
LOCATION:Legacies Meeting Space\, 3412 Atlanta Highway\, Montgomery\, AL\, 36109\, United States
GEO:32.3841815;-86.2582272
X-APPLE-STRUCTURED-LOCATION;VALUE=URI;X-ADDRESS=Legacies Meeting Space 3412 Atlanta Highway Montgomery AL 36109 United States;X-APPLE-RADIUS=500;X-TITLE=3412 Atlanta Highway:geo:-86.2582272,32.3841815
END:VEVENT
END:VCALENDAR