BEGIN:VCALENDAR
VERSION:2.0
PRODID:-//District 8, Area 1 - ECPv6.15.20//NONSGML v1.0//EN
CALSCALE:GREGORIAN
METHOD:PUBLISH
X-ORIGINAL-URL:https://centralalaa.org
X-WR-CALDESC:Events for District 8, Area 1
REFRESH-INTERVAL;VALUE=DURATION:PT1H
X-Robots-Tag:noindex
X-PUBLISHED-TTL:PT1H
BEGIN:VTIMEZONE
TZID:America/Chicago
BEGIN:DAYLIGHT
TZOFFSETFROM:-0600
TZOFFSETTO:-0500
TZNAME:CDT
DTSTART:20270314T080000
END:DAYLIGHT
BEGIN:STANDARD
TZOFFSETFROM:-0500
TZOFFSETTO:-0600
TZNAME:CST
DTSTART:20271107T070000
END:STANDARD
BEGIN:DAYLIGHT
TZOFFSETFROM:-0600
TZOFFSETTO:-0500
TZNAME:CDT
DTSTART:20280312T080000
END:DAYLIGHT
BEGIN:STANDARD
TZOFFSETFROM:-0500
TZOFFSETTO:-0600
TZNAME:CST
DTSTART:20281105T070000
END:STANDARD
BEGIN:DAYLIGHT
TZOFFSETFROM:-0600
TZOFFSETTO:-0500
TZNAME:CDT
DTSTART:20290311T080000
END:DAYLIGHT
BEGIN:STANDARD
TZOFFSETFROM:-0500
TZOFFSETTO:-0600
TZNAME:CST
DTSTART:20291104T070000
END:STANDARD
END:VTIMEZONE
BEGIN:VEVENT
DTSTART;TZID=America/Chicago:20280525T120000
DTEND;TZID=America/Chicago:20280525T130000
DTSTAMP:20260425T071257
CREATED:20250525T232631Z
LAST-MODIFIED:20250525T232631Z
UID:10002363-1842868800-1842872400@centralalaa.org
SUMMARY:Autauga SOS Noon Pot Luck and Speaker Meeting
DESCRIPTION:Autauga SOS Noon Pot Luck and Speaker Meeting \nLast Thursday of the Month at Noon \nSpeaker and Pot Luck
URL:https://centralalaa.org/single-event/autauga-sos-noon-pot-luck-and-speaker-meeting/2028-05-25
LOCATION:St Marks Episcopal Church\, 178 E 4th St\, Prattville\, AL\, 36067\, United States
CATEGORIES:Events,Fellowship Events
END:VEVENT
BEGIN:VEVENT
DTSTART;TZID=America/Chicago:20280528T133000
DTEND;TZID=America/Chicago:20280528T143000
DTSTAMP:20260425T071257
CREATED:20260105T191931Z
LAST-MODIFIED:20260125T195507Z
UID:10003618-1843133400-1843137000@centralalaa.org
SUMMARY:Website Committee Meeting
DESCRIPTION:Last Sunday of each month. \n130p on Zoom. \n276 263 0376 \nhttps://us06web.zoom.us/j/2762630376
URL:https://centralalaa.org/single-event/website-committee-meeting/2028-05-28
LOCATION:via Zoom
CATEGORIES:Service Events
END:VEVENT
BEGIN:VEVENT
DTSTART;TZID=America/Chicago:20280529T100000
DTEND;TZID=America/Chicago:20280529T140000
DTSTAMP:20260425T071257
CREATED:20260416T181911Z
LAST-MODIFIED:20260416T182034Z
UID:10003937-1843207200-1843221600@centralalaa.org
SUMMARY:Central Office Open
DESCRIPTION:Central office open
URL:https://centralalaa.org/single-event/central-office-open-1000am-200pm/2028-05-29
LOCATION:Central Office\, 828 Forest Ave\, Montgomery\, AL\, 36106
END:VEVENT
BEGIN:VEVENT
DTSTART;TZID=America/Chicago:20280531T100000
DTEND;TZID=America/Chicago:20280531T140000
DTSTAMP:20260425T071257
CREATED:20250301T230449Z
LAST-MODIFIED:20250301T230449Z
UID:10001457-1843380000-1843394400@centralalaa.org
SUMMARY:Central Office Open
DESCRIPTION:
URL:https://centralalaa.org/single-event/central-office-open/2028-05-31
LOCATION:Central Office\, 828 Forest Ave\, Montgomery\, AL\, 36106
END:VEVENT
BEGIN:VEVENT
DTSTART;TZID=America/Chicago:20280605T100000
DTEND;TZID=America/Chicago:20280605T140000
DTSTAMP:20260425T071257
CREATED:20260416T181911Z
LAST-MODIFIED:20260416T182034Z
UID:10003938-1843812000-1843826400@centralalaa.org
SUMMARY:Central Office Open
DESCRIPTION:Central office open
URL:https://centralalaa.org/single-event/central-office-open-1000am-200pm/2028-06-05
LOCATION:Central Office\, 828 Forest Ave\, Montgomery\, AL\, 36106
END:VEVENT
BEGIN:VEVENT
DTSTART;TZID=America/Chicago:20280607T100000
DTEND;TZID=America/Chicago:20280607T140000
DTSTAMP:20260425T071257
CREATED:20250301T230449Z
LAST-MODIFIED:20250301T230449Z
UID:10001458-1843984800-1843999200@centralalaa.org
SUMMARY:Central Office Open
DESCRIPTION:
URL:https://centralalaa.org/single-event/central-office-open/2028-06-07
LOCATION:Central Office\, 828 Forest Ave\, Montgomery\, AL\, 36106
END:VEVENT
BEGIN:VEVENT
DTSTART;TZID=America/Chicago:20280612T100000
DTEND;TZID=America/Chicago:20280612T140000
DTSTAMP:20260425T071257
CREATED:20260416T181911Z
LAST-MODIFIED:20260416T182034Z
UID:10003939-1844416800-1844431200@centralalaa.org
SUMMARY:Central Office Open
DESCRIPTION:Central office open
URL:https://centralalaa.org/single-event/central-office-open-1000am-200pm/2028-06-12
LOCATION:Central Office\, 828 Forest Ave\, Montgomery\, AL\, 36106
END:VEVENT
BEGIN:VEVENT
DTSTART;TZID=America/Chicago:20280614T100000
DTEND;TZID=America/Chicago:20280614T140000
DTSTAMP:20260425T071257
CREATED:20250301T230449Z
LAST-MODIFIED:20250301T230449Z
UID:10001459-1844589600-1844604000@centralalaa.org
SUMMARY:Central Office Open
DESCRIPTION:
URL:https://centralalaa.org/single-event/central-office-open/2028-06-14
LOCATION:Central Office\, 828 Forest Ave\, Montgomery\, AL\, 36106
END:VEVENT
BEGIN:VEVENT
DTSTART;TZID=America/Chicago:20280617T103000
DTEND;TZID=America/Chicago:20280617T113000
DTSTAMP:20260425T071257
CREATED:20260105T192731Z
LAST-MODIFIED:20260217T200953Z
UID:10003457-1844850600-1844854200@centralalaa.org
SUMMARY:Corrections/Treatment Committee Meeting
DESCRIPTION:Corrections/Treatment Committee Meeting \nEvery 3rd Saturday at 1030am \nLegacies and on Zoom \nZoom ID: 7987279234\nPW: Awakening
URL:https://centralalaa.org/single-event/corrections-treatment-committee-meeting/2028-06-17
LOCATION:Legacies and Zoom\, 3412 Atlanta Highway\, Montgomery\, AL\, 36109\, United States
CATEGORIES:Service Events
END:VEVENT
BEGIN:VEVENT
DTSTART;TZID=America/Chicago:20280618T133000
DTEND;TZID=America/Chicago:20280618T143000
DTSTAMP:20260425T071257
CREATED:20260105T192421Z
LAST-MODIFIED:20260105T192421Z
UID:10003397-1844947800-1844951400@centralalaa.org
SUMMARY:24hr Hotline Committee Meeting
DESCRIPTION:24hr Hotline Committee Meeting \n3rd Sunday of the Month \n130pm online \nZoom ID: 276 263 0376
URL:https://centralalaa.org/single-event/24hr-hotline-committee-meeting/2028-06-18
LOCATION:via Zoom
CATEGORIES:Service Events
END:VEVENT
BEGIN:VEVENT
DTSTART;TZID=America/Chicago:20280619T100000
DTEND;TZID=America/Chicago:20280619T140000
DTSTAMP:20260425T071257
CREATED:20260416T181911Z
LAST-MODIFIED:20260416T182034Z
UID:10003940-1845021600-1845036000@centralalaa.org
SUMMARY:Central Office Open
DESCRIPTION:Central office open
URL:https://centralalaa.org/single-event/central-office-open-1000am-200pm/2028-06-19
LOCATION:Central Office\, 828 Forest Ave\, Montgomery\, AL\, 36106
END:VEVENT
BEGIN:VEVENT
DTSTART;TZID=America/Chicago:20280621T100000
DTEND;TZID=America/Chicago:20280621T140000
DTSTAMP:20260425T071257
CREATED:20250301T230449Z
LAST-MODIFIED:20250301T230449Z
UID:10001460-1845194400-1845208800@centralalaa.org
SUMMARY:Central Office Open
DESCRIPTION:
URL:https://centralalaa.org/single-event/central-office-open/2028-06-21
LOCATION:Central Office\, 828 Forest Ave\, Montgomery\, AL\, 36106
END:VEVENT
BEGIN:VEVENT
DTSTART;TZID=America/Chicago:20280625T133000
DTEND;TZID=America/Chicago:20280625T143000
DTSTAMP:20260425T071257
CREATED:20260105T191931Z
LAST-MODIFIED:20260125T195507Z
UID:10003286-1845552600-1845556200@centralalaa.org
SUMMARY:Website Committee Meeting
DESCRIPTION:Last Sunday of each month. \n130p on Zoom. \n276 263 0376 \nhttps://us06web.zoom.us/j/2762630376
URL:https://centralalaa.org/single-event/website-committee-meeting/2028-06-25
LOCATION:via Zoom
CATEGORIES:Service Events
END:VEVENT
BEGIN:VEVENT
DTSTART;TZID=America/Chicago:20280626T100000
DTEND;TZID=America/Chicago:20280626T140000
DTSTAMP:20260425T071257
CREATED:20260416T181911Z
LAST-MODIFIED:20260416T182034Z
UID:10003941-1845626400-1845640800@centralalaa.org
SUMMARY:Central Office Open
DESCRIPTION:Central office open
URL:https://centralalaa.org/single-event/central-office-open-1000am-200pm/2028-06-26
LOCATION:Central Office\, 828 Forest Ave\, Montgomery\, AL\, 36106
END:VEVENT
BEGIN:VEVENT
DTSTART;TZID=America/Chicago:20280628T100000
DTEND;TZID=America/Chicago:20280628T140000
DTSTAMP:20260425T071257
CREATED:20250301T230449Z
LAST-MODIFIED:20250301T230449Z
UID:10001461-1845799200-1845813600@centralalaa.org
SUMMARY:Central Office Open
DESCRIPTION:
URL:https://centralalaa.org/single-event/central-office-open/2028-06-28
LOCATION:Central Office\, 828 Forest Ave\, Montgomery\, AL\, 36106
END:VEVENT
BEGIN:VEVENT
DTSTART;TZID=America/Chicago:20280629T120000
DTEND;TZID=America/Chicago:20280629T130000
DTSTAMP:20260425T071257
CREATED:20250525T232631Z
LAST-MODIFIED:20250525T232631Z
UID:10002261-1845892800-1845896400@centralalaa.org
SUMMARY:Autauga SOS Noon Pot Luck and Speaker Meeting
DESCRIPTION:Autauga SOS Noon Pot Luck and Speaker Meeting \nLast Thursday of the Month at Noon \nSpeaker and Pot Luck
URL:https://centralalaa.org/single-event/autauga-sos-noon-pot-luck-and-speaker-meeting/2028-06-29
LOCATION:St Marks Episcopal Church\, 178 E 4th St\, Prattville\, AL\, 36067\, United States
CATEGORIES:Events,Fellowship Events
END:VEVENT
BEGIN:VEVENT
DTSTART;TZID=America/Chicago:20280703T100000
DTEND;TZID=America/Chicago:20280703T140000
DTSTAMP:20260425T071257
CREATED:20260416T181911Z
LAST-MODIFIED:20260416T182034Z
UID:10003942-1846231200-1846245600@centralalaa.org
SUMMARY:Central Office Open
DESCRIPTION:Central office open
URL:https://centralalaa.org/single-event/central-office-open-1000am-200pm/2028-07-03
LOCATION:Central Office\, 828 Forest Ave\, Montgomery\, AL\, 36106
END:VEVENT
BEGIN:VEVENT
DTSTART;TZID=America/Chicago:20280705T100000
DTEND;TZID=America/Chicago:20280705T140000
DTSTAMP:20260425T071257
CREATED:20250301T230449Z
LAST-MODIFIED:20250301T230449Z
UID:10001462-1846404000-1846418400@centralalaa.org
SUMMARY:Central Office Open
DESCRIPTION:
URL:https://centralalaa.org/single-event/central-office-open/2028-07-05
LOCATION:Central Office\, 828 Forest Ave\, Montgomery\, AL\, 36106
END:VEVENT
BEGIN:VEVENT
DTSTART;TZID=America/Chicago:20280710T100000
DTEND;TZID=America/Chicago:20280710T140000
DTSTAMP:20260425T071257
CREATED:20260416T181911Z
LAST-MODIFIED:20260416T182034Z
UID:10003943-1846836000-1846850400@centralalaa.org
SUMMARY:Central Office Open
DESCRIPTION:Central office open
URL:https://centralalaa.org/single-event/central-office-open-1000am-200pm/2028-07-10
LOCATION:Central Office\, 828 Forest Ave\, Montgomery\, AL\, 36106
END:VEVENT
BEGIN:VEVENT
DTSTART;TZID=America/Chicago:20280712T100000
DTEND;TZID=America/Chicago:20280712T140000
DTSTAMP:20260425T071257
CREATED:20250301T230449Z
LAST-MODIFIED:20250301T230449Z
UID:10001463-1847008800-1847023200@centralalaa.org
SUMMARY:Central Office Open
DESCRIPTION:
URL:https://centralalaa.org/single-event/central-office-open/2028-07-12
LOCATION:Central Office\, 828 Forest Ave\, Montgomery\, AL\, 36106
END:VEVENT
BEGIN:VEVENT
DTSTART;TZID=America/Chicago:20280715T103000
DTEND;TZID=America/Chicago:20280715T113000
DTSTAMP:20260425T071257
CREATED:20260105T192731Z
LAST-MODIFIED:20260217T200953Z
UID:10003732-1847269800-1847273400@centralalaa.org
SUMMARY:Corrections/Treatment Committee Meeting
DESCRIPTION:Corrections/Treatment Committee Meeting \nEvery 3rd Saturday at 1030am \nLegacies and on Zoom \nZoom ID: 7987279234\nPW: Awakening
URL:https://centralalaa.org/single-event/corrections-treatment-committee-meeting/2028-07-15
LOCATION:Legacies and Zoom\, 3412 Atlanta Highway\, Montgomery\, AL\, 36109\, United States
CATEGORIES:Service Events
END:VEVENT
BEGIN:VEVENT
DTSTART;TZID=America/Chicago:20280716T133000
DTEND;TZID=America/Chicago:20280716T143000
DTSTAMP:20260425T071257
CREATED:20260105T192421Z
LAST-MODIFIED:20260105T192421Z
UID:10003398-1847367000-1847370600@centralalaa.org
SUMMARY:24hr Hotline Committee Meeting
DESCRIPTION:24hr Hotline Committee Meeting \n3rd Sunday of the Month \n130pm online \nZoom ID: 276 263 0376
URL:https://centralalaa.org/single-event/24hr-hotline-committee-meeting/2028-07-16
LOCATION:via Zoom
CATEGORIES:Service Events
END:VEVENT
BEGIN:VEVENT
DTSTART;TZID=America/Chicago:20280717T100000
DTEND;TZID=America/Chicago:20280717T140000
DTSTAMP:20260425T071257
CREATED:20260416T181911Z
LAST-MODIFIED:20260416T182034Z
UID:10003944-1847440800-1847455200@centralalaa.org
SUMMARY:Central Office Open
DESCRIPTION:Central office open
URL:https://centralalaa.org/single-event/central-office-open-1000am-200pm/2028-07-17
LOCATION:Central Office\, 828 Forest Ave\, Montgomery\, AL\, 36106
END:VEVENT
BEGIN:VEVENT
DTSTART;TZID=America/Chicago:20280719T100000
DTEND;TZID=America/Chicago:20280719T140000
DTSTAMP:20260425T071257
CREATED:20250301T230449Z
LAST-MODIFIED:20250301T230449Z
UID:10001464-1847613600-1847628000@centralalaa.org
SUMMARY:Central Office Open
DESCRIPTION:
URL:https://centralalaa.org/single-event/central-office-open/2028-07-19
LOCATION:Central Office\, 828 Forest Ave\, Montgomery\, AL\, 36106
END:VEVENT
BEGIN:VEVENT
DTSTART;TZID=America/Chicago:20280724T100000
DTEND;TZID=America/Chicago:20280724T140000
DTSTAMP:20260425T071257
CREATED:20260416T181911Z
LAST-MODIFIED:20260416T182034Z
UID:10003945-1848045600-1848060000@centralalaa.org
SUMMARY:Central Office Open
DESCRIPTION:Central office open
URL:https://centralalaa.org/single-event/central-office-open-1000am-200pm/2028-07-24
LOCATION:Central Office\, 828 Forest Ave\, Montgomery\, AL\, 36106
END:VEVENT
BEGIN:VEVENT
DTSTART;TZID=America/Chicago:20280726T100000
DTEND;TZID=America/Chicago:20280726T140000
DTSTAMP:20260425T071257
CREATED:20250301T230449Z
LAST-MODIFIED:20250301T230449Z
UID:10001465-1848218400-1848232800@centralalaa.org
SUMMARY:Central Office Open
DESCRIPTION:
URL:https://centralalaa.org/single-event/central-office-open/2028-07-26
LOCATION:Central Office\, 828 Forest Ave\, Montgomery\, AL\, 36106
END:VEVENT
BEGIN:VEVENT
DTSTART;TZID=America/Chicago:20280727T120000
DTEND;TZID=America/Chicago:20280727T130000
DTSTAMP:20260425T071257
CREATED:20250525T232631Z
LAST-MODIFIED:20250525T232631Z
UID:10002364-1848312000-1848315600@centralalaa.org
SUMMARY:Autauga SOS Noon Pot Luck and Speaker Meeting
DESCRIPTION:Autauga SOS Noon Pot Luck and Speaker Meeting \nLast Thursday of the Month at Noon \nSpeaker and Pot Luck
URL:https://centralalaa.org/single-event/autauga-sos-noon-pot-luck-and-speaker-meeting/2028-07-27
LOCATION:St Marks Episcopal Church\, 178 E 4th St\, Prattville\, AL\, 36067\, United States
CATEGORIES:Events,Fellowship Events
END:VEVENT
BEGIN:VEVENT
DTSTART;TZID=America/Chicago:20280730T133000
DTEND;TZID=America/Chicago:20280730T143000
DTSTAMP:20260425T071257
CREATED:20260105T191931Z
LAST-MODIFIED:20260125T195507Z
UID:10003619-1848576600-1848580200@centralalaa.org
SUMMARY:Website Committee Meeting
DESCRIPTION:Last Sunday of each month. \n130p on Zoom. \n276 263 0376 \nhttps://us06web.zoom.us/j/2762630376
URL:https://centralalaa.org/single-event/website-committee-meeting/2028-07-30
LOCATION:via Zoom
CATEGORIES:Service Events
END:VEVENT
BEGIN:VEVENT
DTSTART;TZID=America/Chicago:20280731T100000
DTEND;TZID=America/Chicago:20280731T140000
DTSTAMP:20260425T071257
CREATED:20260416T181911Z
LAST-MODIFIED:20260416T182034Z
UID:10003946-1848650400-1848664800@centralalaa.org
SUMMARY:Central Office Open
DESCRIPTION:Central office open
URL:https://centralalaa.org/single-event/central-office-open-1000am-200pm/2028-07-31
LOCATION:Central Office\, 828 Forest Ave\, Montgomery\, AL\, 36106
END:VEVENT
BEGIN:VEVENT
DTSTART;TZID=America/Chicago:20280802T100000
DTEND;TZID=America/Chicago:20280802T140000
DTSTAMP:20260425T071257
CREATED:20250301T230449Z
LAST-MODIFIED:20250301T230449Z
UID:10001466-1848823200-1848837600@centralalaa.org
SUMMARY:Central Office Open
DESCRIPTION:
URL:https://centralalaa.org/single-event/central-office-open/2028-08-02
LOCATION:Central Office\, 828 Forest Ave\, Montgomery\, AL\, 36106
END:VEVENT
END:VCALENDAR