BEGIN:VCALENDAR
VERSION:2.0
PRODID:-//District 8, Area 1 - ECPv6.15.20//NONSGML v1.0//EN
CALSCALE:GREGORIAN
METHOD:PUBLISH
X-ORIGINAL-URL:https://centralalaa.org
X-WR-CALDESC:Events for District 8, Area 1
REFRESH-INTERVAL;VALUE=DURATION:PT1H
X-Robots-Tag:noindex
X-PUBLISHED-TTL:PT1H
BEGIN:VTIMEZONE
TZID:America/Chicago
BEGIN:DAYLIGHT
TZOFFSETFROM:-0600
TZOFFSETTO:-0500
TZNAME:CDT
DTSTART:20260308T080000
END:DAYLIGHT
BEGIN:STANDARD
TZOFFSETFROM:-0500
TZOFFSETTO:-0600
TZNAME:CST
DTSTART:20261101T070000
END:STANDARD
BEGIN:DAYLIGHT
TZOFFSETFROM:-0600
TZOFFSETTO:-0500
TZNAME:CDT
DTSTART:20270314T080000
END:DAYLIGHT
BEGIN:STANDARD
TZOFFSETFROM:-0500
TZOFFSETTO:-0600
TZNAME:CST
DTSTART:20271107T070000
END:STANDARD
BEGIN:DAYLIGHT
TZOFFSETFROM:-0600
TZOFFSETTO:-0500
TZNAME:CDT
DTSTART:20280312T080000
END:DAYLIGHT
BEGIN:STANDARD
TZOFFSETFROM:-0500
TZOFFSETTO:-0600
TZNAME:CST
DTSTART:20281105T070000
END:STANDARD
BEGIN:DAYLIGHT
TZOFFSETFROM:-0600
TZOFFSETTO:-0500
TZNAME:CDT
DTSTART:20290311T080000
END:DAYLIGHT
BEGIN:STANDARD
TZOFFSETFROM:-0500
TZOFFSETTO:-0600
TZNAME:CST
DTSTART:20291104T070000
END:STANDARD
END:VTIMEZONE
BEGIN:VEVENT
DTSTART;TZID=America/Chicago:20271206T100000
DTEND;TZID=America/Chicago:20271206T140000
DTSTAMP:20260425T084216
CREATED:20260416T181911Z
LAST-MODIFIED:20260416T182034Z
UID:10003912-1828087200-1828101600@centralalaa.org
SUMMARY:Central Office Open
DESCRIPTION:Central office open
URL:https://centralalaa.org/single-event/central-office-open-1000am-200pm/2027-12-06
LOCATION:Central Office\, 828 Forest Ave\, Montgomery\, AL\, 36106
END:VEVENT
BEGIN:VEVENT
DTSTART;TZID=America/Chicago:20271208T100000
DTEND;TZID=America/Chicago:20271208T140000
DTSTAMP:20260425T084216
CREATED:20250301T230449Z
LAST-MODIFIED:20250301T230449Z
UID:10001432-1828260000-1828274400@centralalaa.org
SUMMARY:Central Office Open
DESCRIPTION:
URL:https://centralalaa.org/single-event/central-office-open/2027-12-08
LOCATION:Central Office\, 828 Forest Ave\, Montgomery\, AL\, 36106
END:VEVENT
BEGIN:VEVENT
DTSTART;TZID=America/Chicago:20271213T100000
DTEND;TZID=America/Chicago:20271213T140000
DTSTAMP:20260425T084216
CREATED:20260416T181911Z
LAST-MODIFIED:20260416T182034Z
UID:10003913-1828692000-1828706400@centralalaa.org
SUMMARY:Central Office Open
DESCRIPTION:Central office open
URL:https://centralalaa.org/single-event/central-office-open-1000am-200pm/2027-12-13
LOCATION:Central Office\, 828 Forest Ave\, Montgomery\, AL\, 36106
END:VEVENT
BEGIN:VEVENT
DTSTART;TZID=America/Chicago:20271215T100000
DTEND;TZID=America/Chicago:20271215T140000
DTSTAMP:20260425T084216
CREATED:20250301T230449Z
LAST-MODIFIED:20250301T230449Z
UID:10001433-1828864800-1828879200@centralalaa.org
SUMMARY:Central Office Open
DESCRIPTION:
URL:https://centralalaa.org/single-event/central-office-open/2027-12-15
LOCATION:Central Office\, 828 Forest Ave\, Montgomery\, AL\, 36106
END:VEVENT
BEGIN:VEVENT
DTSTART;TZID=America/Chicago:20271218T103000
DTEND;TZID=America/Chicago:20271218T113000
DTSTAMP:20260425T084216
CREATED:20260105T192731Z
LAST-MODIFIED:20260217T200953Z
UID:10003726-1829125800-1829129400@centralalaa.org
SUMMARY:Corrections/Treatment Committee Meeting
DESCRIPTION:Corrections/Treatment Committee Meeting \nEvery 3rd Saturday at 1030am \nLegacies and on Zoom \nZoom ID: 7987279234\nPW: Awakening
URL:https://centralalaa.org/single-event/corrections-treatment-committee-meeting/2027-12-18
LOCATION:Legacies and Zoom\, 3412 Atlanta Highway\, Montgomery\, AL\, 36109\, United States
CATEGORIES:Service Events
END:VEVENT
BEGIN:VEVENT
DTSTART;TZID=America/Chicago:20271219T133000
DTEND;TZID=America/Chicago:20271219T143000
DTSTAMP:20260425T084216
CREATED:20260105T192421Z
LAST-MODIFIED:20260105T192421Z
UID:10003391-1829223000-1829226600@centralalaa.org
SUMMARY:24hr Hotline Committee Meeting
DESCRIPTION:24hr Hotline Committee Meeting \n3rd Sunday of the Month \n130pm online \nZoom ID: 276 263 0376
URL:https://centralalaa.org/single-event/24hr-hotline-committee-meeting/2027-12-19
LOCATION:via Zoom
CATEGORIES:Service Events
END:VEVENT
BEGIN:VEVENT
DTSTART;TZID=America/Chicago:20271220T100000
DTEND;TZID=America/Chicago:20271220T140000
DTSTAMP:20260425T084216
CREATED:20260416T181911Z
LAST-MODIFIED:20260416T182034Z
UID:10003914-1829296800-1829311200@centralalaa.org
SUMMARY:Central Office Open
DESCRIPTION:Central office open
URL:https://centralalaa.org/single-event/central-office-open-1000am-200pm/2027-12-20
LOCATION:Central Office\, 828 Forest Ave\, Montgomery\, AL\, 36106
END:VEVENT
BEGIN:VEVENT
DTSTART;TZID=America/Chicago:20271222T100000
DTEND;TZID=America/Chicago:20271222T140000
DTSTAMP:20260425T084216
CREATED:20250301T230449Z
LAST-MODIFIED:20250301T230449Z
UID:10001434-1829469600-1829484000@centralalaa.org
SUMMARY:Central Office Open
DESCRIPTION:
URL:https://centralalaa.org/single-event/central-office-open/2027-12-22
LOCATION:Central Office\, 828 Forest Ave\, Montgomery\, AL\, 36106
END:VEVENT
BEGIN:VEVENT
DTSTART;TZID=America/Chicago:20271226T133000
DTEND;TZID=America/Chicago:20271226T143000
DTSTAMP:20260425T084216
CREATED:20260105T191931Z
LAST-MODIFIED:20260125T195507Z
UID:10003613-1829827800-1829831400@centralalaa.org
SUMMARY:Website Committee Meeting
DESCRIPTION:Last Sunday of each month. \n130p on Zoom. \n276 263 0376 \nhttps://us06web.zoom.us/j/2762630376
URL:https://centralalaa.org/single-event/website-committee-meeting/2027-12-26
LOCATION:via Zoom
CATEGORIES:Service Events
END:VEVENT
BEGIN:VEVENT
DTSTART;TZID=America/Chicago:20271227T100000
DTEND;TZID=America/Chicago:20271227T140000
DTSTAMP:20260425T084216
CREATED:20260416T181911Z
LAST-MODIFIED:20260416T182034Z
UID:10003915-1829901600-1829916000@centralalaa.org
SUMMARY:Central Office Open
DESCRIPTION:Central office open
URL:https://centralalaa.org/single-event/central-office-open-1000am-200pm/2027-12-27
LOCATION:Central Office\, 828 Forest Ave\, Montgomery\, AL\, 36106
END:VEVENT
BEGIN:VEVENT
DTSTART;TZID=America/Chicago:20271229T100000
DTEND;TZID=America/Chicago:20271229T140000
DTSTAMP:20260425T084216
CREATED:20250301T230449Z
LAST-MODIFIED:20250301T230449Z
UID:10001435-1830074400-1830088800@centralalaa.org
SUMMARY:Central Office Open
DESCRIPTION:
URL:https://centralalaa.org/single-event/central-office-open/2027-12-29
LOCATION:Central Office\, 828 Forest Ave\, Montgomery\, AL\, 36106
END:VEVENT
BEGIN:VEVENT
DTSTART;TZID=America/Chicago:20271230T120000
DTEND;TZID=America/Chicago:20271230T130000
DTSTAMP:20260425T084216
CREATED:20250525T232631Z
LAST-MODIFIED:20250525T232631Z
UID:10002358-1830168000-1830171600@centralalaa.org
SUMMARY:Autauga SOS Noon Pot Luck and Speaker Meeting
DESCRIPTION:Autauga SOS Noon Pot Luck and Speaker Meeting \nLast Thursday of the Month at Noon \nSpeaker and Pot Luck
URL:https://centralalaa.org/single-event/autauga-sos-noon-pot-luck-and-speaker-meeting/2027-12-30
LOCATION:St Marks Episcopal Church\, 178 E 4th St\, Prattville\, AL\, 36067\, United States
CATEGORIES:Events,Fellowship Events
END:VEVENT
BEGIN:VEVENT
DTSTART;TZID=America/Chicago:20280103T100000
DTEND;TZID=America/Chicago:20280103T140000
DTSTAMP:20260425T084216
CREATED:20260416T181911Z
LAST-MODIFIED:20260416T182034Z
UID:10003916-1830506400-1830520800@centralalaa.org
SUMMARY:Central Office Open
DESCRIPTION:Central office open
URL:https://centralalaa.org/single-event/central-office-open-1000am-200pm/2028-01-03
LOCATION:Central Office\, 828 Forest Ave\, Montgomery\, AL\, 36106
END:VEVENT
BEGIN:VEVENT
DTSTART;TZID=America/Chicago:20280105T100000
DTEND;TZID=America/Chicago:20280105T140000
DTSTAMP:20260425T084216
CREATED:20250301T230449Z
LAST-MODIFIED:20250301T230449Z
UID:10001436-1830679200-1830693600@centralalaa.org
SUMMARY:Central Office Open
DESCRIPTION:
URL:https://centralalaa.org/single-event/central-office-open/2028-01-05
LOCATION:Central Office\, 828 Forest Ave\, Montgomery\, AL\, 36106
END:VEVENT
BEGIN:VEVENT
DTSTART;TZID=America/Chicago:20280110T100000
DTEND;TZID=America/Chicago:20280110T140000
DTSTAMP:20260425T084216
CREATED:20260416T181911Z
LAST-MODIFIED:20260416T182034Z
UID:10003917-1831111200-1831125600@centralalaa.org
SUMMARY:Central Office Open
DESCRIPTION:Central office open
URL:https://centralalaa.org/single-event/central-office-open-1000am-200pm/2028-01-10
LOCATION:Central Office\, 828 Forest Ave\, Montgomery\, AL\, 36106
END:VEVENT
BEGIN:VEVENT
DTSTART;TZID=America/Chicago:20280112T100000
DTEND;TZID=America/Chicago:20280112T140000
DTSTAMP:20260425T084216
CREATED:20250301T230449Z
LAST-MODIFIED:20250301T230449Z
UID:10001437-1831284000-1831298400@centralalaa.org
SUMMARY:Central Office Open
DESCRIPTION:
URL:https://centralalaa.org/single-event/central-office-open/2028-01-12
LOCATION:Central Office\, 828 Forest Ave\, Montgomery\, AL\, 36106
END:VEVENT
BEGIN:VEVENT
DTSTART;TZID=America/Chicago:20280115T103000
DTEND;TZID=America/Chicago:20280115T113000
DTSTAMP:20260425T084216
CREATED:20260105T192731Z
LAST-MODIFIED:20260217T200953Z
UID:10003727-1831545000-1831548600@centralalaa.org
SUMMARY:Corrections/Treatment Committee Meeting
DESCRIPTION:Corrections/Treatment Committee Meeting \nEvery 3rd Saturday at 1030am \nLegacies and on Zoom \nZoom ID: 7987279234\nPW: Awakening
URL:https://centralalaa.org/single-event/corrections-treatment-committee-meeting/2028-01-15
LOCATION:Legacies and Zoom\, 3412 Atlanta Highway\, Montgomery\, AL\, 36109\, United States
CATEGORIES:Service Events
END:VEVENT
BEGIN:VEVENT
DTSTART;TZID=America/Chicago:20280116T133000
DTEND;TZID=America/Chicago:20280116T143000
DTSTAMP:20260425T084216
CREATED:20260105T192421Z
LAST-MODIFIED:20260105T192421Z
UID:10003392-1831642200-1831645800@centralalaa.org
SUMMARY:24hr Hotline Committee Meeting
DESCRIPTION:24hr Hotline Committee Meeting \n3rd Sunday of the Month \n130pm online \nZoom ID: 276 263 0376
URL:https://centralalaa.org/single-event/24hr-hotline-committee-meeting/2028-01-16
LOCATION:via Zoom
CATEGORIES:Service Events
END:VEVENT
BEGIN:VEVENT
DTSTART;TZID=America/Chicago:20280117T100000
DTEND;TZID=America/Chicago:20280117T140000
DTSTAMP:20260425T084216
CREATED:20260416T181911Z
LAST-MODIFIED:20260416T182034Z
UID:10003918-1831716000-1831730400@centralalaa.org
SUMMARY:Central Office Open
DESCRIPTION:Central office open
URL:https://centralalaa.org/single-event/central-office-open-1000am-200pm/2028-01-17
LOCATION:Central Office\, 828 Forest Ave\, Montgomery\, AL\, 36106
END:VEVENT
BEGIN:VEVENT
DTSTART;TZID=America/Chicago:20280119T100000
DTEND;TZID=America/Chicago:20280119T140000
DTSTAMP:20260425T084216
CREATED:20250301T230449Z
LAST-MODIFIED:20250301T230449Z
UID:10001438-1831888800-1831903200@centralalaa.org
SUMMARY:Central Office Open
DESCRIPTION:
URL:https://centralalaa.org/single-event/central-office-open/2028-01-19
LOCATION:Central Office\, 828 Forest Ave\, Montgomery\, AL\, 36106
END:VEVENT
BEGIN:VEVENT
DTSTART;TZID=America/Chicago:20280124T100000
DTEND;TZID=America/Chicago:20280124T140000
DTSTAMP:20260425T084216
CREATED:20260416T181911Z
LAST-MODIFIED:20260416T182034Z
UID:10003919-1832320800-1832335200@centralalaa.org
SUMMARY:Central Office Open
DESCRIPTION:Central office open
URL:https://centralalaa.org/single-event/central-office-open-1000am-200pm/2028-01-24
LOCATION:Central Office\, 828 Forest Ave\, Montgomery\, AL\, 36106
END:VEVENT
BEGIN:VEVENT
DTSTART;TZID=America/Chicago:20280126T100000
DTEND;TZID=America/Chicago:20280126T140000
DTSTAMP:20260425T084216
CREATED:20250301T230449Z
LAST-MODIFIED:20250301T230449Z
UID:10001439-1832493600-1832508000@centralalaa.org
SUMMARY:Central Office Open
DESCRIPTION:
URL:https://centralalaa.org/single-event/central-office-open/2028-01-26
LOCATION:Central Office\, 828 Forest Ave\, Montgomery\, AL\, 36106
END:VEVENT
BEGIN:VEVENT
DTSTART;TZID=America/Chicago:20280127T120000
DTEND;TZID=America/Chicago:20280127T130000
DTSTAMP:20260425T084216
CREATED:20250525T232631Z
LAST-MODIFIED:20250525T232631Z
UID:10002359-1832587200-1832590800@centralalaa.org
SUMMARY:Autauga SOS Noon Pot Luck and Speaker Meeting
DESCRIPTION:Autauga SOS Noon Pot Luck and Speaker Meeting \nLast Thursday of the Month at Noon \nSpeaker and Pot Luck
URL:https://centralalaa.org/single-event/autauga-sos-noon-pot-luck-and-speaker-meeting/2028-01-27
LOCATION:St Marks Episcopal Church\, 178 E 4th St\, Prattville\, AL\, 36067\, United States
CATEGORIES:Events,Fellowship Events
END:VEVENT
BEGIN:VEVENT
DTSTART;TZID=America/Chicago:20280130T133000
DTEND;TZID=America/Chicago:20280130T143000
DTSTAMP:20260425T084216
CREATED:20260105T191931Z
LAST-MODIFIED:20260125T195507Z
UID:10003614-1832851800-1832855400@centralalaa.org
SUMMARY:Website Committee Meeting
DESCRIPTION:Last Sunday of each month. \n130p on Zoom. \n276 263 0376 \nhttps://us06web.zoom.us/j/2762630376
URL:https://centralalaa.org/single-event/website-committee-meeting/2028-01-30
LOCATION:via Zoom
CATEGORIES:Service Events
END:VEVENT
BEGIN:VEVENT
DTSTART;TZID=America/Chicago:20280131T100000
DTEND;TZID=America/Chicago:20280131T140000
DTSTAMP:20260425T084216
CREATED:20260416T181911Z
LAST-MODIFIED:20260416T182034Z
UID:10003920-1832925600-1832940000@centralalaa.org
SUMMARY:Central Office Open
DESCRIPTION:Central office open
URL:https://centralalaa.org/single-event/central-office-open-1000am-200pm/2028-01-31
LOCATION:Central Office\, 828 Forest Ave\, Montgomery\, AL\, 36106
END:VEVENT
BEGIN:VEVENT
DTSTART;TZID=America/Chicago:20280202T100000
DTEND;TZID=America/Chicago:20280202T140000
DTSTAMP:20260425T084216
CREATED:20250301T230449Z
LAST-MODIFIED:20250301T230449Z
UID:10001440-1833098400-1833112800@centralalaa.org
SUMMARY:Central Office Open
DESCRIPTION:
URL:https://centralalaa.org/single-event/central-office-open/2028-02-02
LOCATION:Central Office\, 828 Forest Ave\, Montgomery\, AL\, 36106
END:VEVENT
BEGIN:VEVENT
DTSTART;TZID=America/Chicago:20280207T100000
DTEND;TZID=America/Chicago:20280207T140000
DTSTAMP:20260425T084216
CREATED:20260416T181911Z
LAST-MODIFIED:20260416T182034Z
UID:10003921-1833530400-1833544800@centralalaa.org
SUMMARY:Central Office Open
DESCRIPTION:Central office open
URL:https://centralalaa.org/single-event/central-office-open-1000am-200pm/2028-02-07
LOCATION:Central Office\, 828 Forest Ave\, Montgomery\, AL\, 36106
END:VEVENT
BEGIN:VEVENT
DTSTART;TZID=America/Chicago:20280209T100000
DTEND;TZID=America/Chicago:20280209T140000
DTSTAMP:20260425T084216
CREATED:20250301T230449Z
LAST-MODIFIED:20250301T230449Z
UID:10001441-1833703200-1833717600@centralalaa.org
SUMMARY:Central Office Open
DESCRIPTION:
URL:https://centralalaa.org/single-event/central-office-open/2028-02-09
LOCATION:Central Office\, 828 Forest Ave\, Montgomery\, AL\, 36106
END:VEVENT
BEGIN:VEVENT
DTSTART;TZID=America/Chicago:20280214T100000
DTEND;TZID=America/Chicago:20280214T140000
DTSTAMP:20260425T084216
CREATED:20260416T181911Z
LAST-MODIFIED:20260416T182034Z
UID:10003922-1834135200-1834149600@centralalaa.org
SUMMARY:Central Office Open
DESCRIPTION:Central office open
URL:https://centralalaa.org/single-event/central-office-open-1000am-200pm/2028-02-14
LOCATION:Central Office\, 828 Forest Ave\, Montgomery\, AL\, 36106
END:VEVENT
BEGIN:VEVENT
DTSTART;TZID=America/Chicago:20280216T100000
DTEND;TZID=America/Chicago:20280216T140000
DTSTAMP:20260425T084216
CREATED:20250301T230449Z
LAST-MODIFIED:20250301T230449Z
UID:10001442-1834308000-1834322400@centralalaa.org
SUMMARY:Central Office Open
DESCRIPTION:
URL:https://centralalaa.org/single-event/central-office-open/2028-02-16
LOCATION:Central Office\, 828 Forest Ave\, Montgomery\, AL\, 36106
END:VEVENT
END:VCALENDAR