BEGIN:VCALENDAR
VERSION:2.0
PRODID:-//District 8, Area 1 - ECPv6.15.20//NONSGML v1.0//EN
CALSCALE:GREGORIAN
METHOD:PUBLISH
X-WR-CALNAME:District 8, Area 1
X-ORIGINAL-URL:https://centralalaa.org
X-WR-CALDESC:Events for District 8, Area 1
REFRESH-INTERVAL;VALUE=DURATION:PT1H
X-Robots-Tag:noindex
X-PUBLISHED-TTL:PT1H
BEGIN:VTIMEZONE
TZID:America/Chicago
BEGIN:DAYLIGHT
TZOFFSETFROM:-0600
TZOFFSETTO:-0500
TZNAME:CDT
DTSTART:20270314T080000
END:DAYLIGHT
BEGIN:STANDARD
TZOFFSETFROM:-0500
TZOFFSETTO:-0600
TZNAME:CST
DTSTART:20271107T070000
END:STANDARD
BEGIN:DAYLIGHT
TZOFFSETFROM:-0600
TZOFFSETTO:-0500
TZNAME:CDT
DTSTART:20280312T080000
END:DAYLIGHT
BEGIN:STANDARD
TZOFFSETFROM:-0500
TZOFFSETTO:-0600
TZNAME:CST
DTSTART:20281105T070000
END:STANDARD
BEGIN:DAYLIGHT
TZOFFSETFROM:-0600
TZOFFSETTO:-0500
TZNAME:CDT
DTSTART:20290311T080000
END:DAYLIGHT
BEGIN:STANDARD
TZOFFSETFROM:-0500
TZOFFSETTO:-0600
TZNAME:CST
DTSTART:20291104T070000
END:STANDARD
END:VTIMEZONE
BEGIN:VEVENT
DTSTART;TZID=America/Chicago:20280124T100000
DTEND;TZID=America/Chicago:20280124T140000
DTSTAMP:20260425T115200
CREATED:20260416T181911Z
LAST-MODIFIED:20260416T182034Z
UID:10003919-1832320800-1832335200@centralalaa.org
SUMMARY:Central Office Open
DESCRIPTION:Central office open
URL:https://centralalaa.org/single-event/central-office-open-1000am-200pm/2028-01-24
LOCATION:Central Office\, 828 Forest Ave\, Montgomery\, AL\, 36106
END:VEVENT
BEGIN:VEVENT
DTSTART;TZID=America/Chicago:20280126T100000
DTEND;TZID=America/Chicago:20280126T140000
DTSTAMP:20260425T115200
CREATED:20250301T230449Z
LAST-MODIFIED:20250301T230449Z
UID:10001439-1832493600-1832508000@centralalaa.org
SUMMARY:Central Office Open
DESCRIPTION:
URL:https://centralalaa.org/single-event/central-office-open/2028-01-26
LOCATION:Central Office\, 828 Forest Ave\, Montgomery\, AL\, 36106
END:VEVENT
BEGIN:VEVENT
DTSTART;TZID=America/Chicago:20280127T120000
DTEND;TZID=America/Chicago:20280127T130000
DTSTAMP:20260425T115200
CREATED:20250525T232631Z
LAST-MODIFIED:20250525T232631Z
UID:10002359-1832587200-1832590800@centralalaa.org
SUMMARY:Autauga SOS Noon Pot Luck and Speaker Meeting
DESCRIPTION:Autauga SOS Noon Pot Luck and Speaker Meeting \nLast Thursday of the Month at Noon \nSpeaker and Pot Luck
URL:https://centralalaa.org/single-event/autauga-sos-noon-pot-luck-and-speaker-meeting/2028-01-27
LOCATION:St Marks Episcopal Church\, 178 E 4th St\, Prattville\, AL\, 36067\, United States
CATEGORIES:Events,Fellowship Events
END:VEVENT
BEGIN:VEVENT
DTSTART;TZID=America/Chicago:20280130T133000
DTEND;TZID=America/Chicago:20280130T143000
DTSTAMP:20260425T115200
CREATED:20260105T191931Z
LAST-MODIFIED:20260125T195507Z
UID:10003614-1832851800-1832855400@centralalaa.org
SUMMARY:Website Committee Meeting
DESCRIPTION:Last Sunday of each month. \n130p on Zoom. \n276 263 0376 \nhttps://us06web.zoom.us/j/2762630376
URL:https://centralalaa.org/single-event/website-committee-meeting/2028-01-30
LOCATION:via Zoom
CATEGORIES:Service Events
END:VEVENT
BEGIN:VEVENT
DTSTART;TZID=America/Chicago:20280131T100000
DTEND;TZID=America/Chicago:20280131T140000
DTSTAMP:20260425T115200
CREATED:20260416T181911Z
LAST-MODIFIED:20260416T182034Z
UID:10003920-1832925600-1832940000@centralalaa.org
SUMMARY:Central Office Open
DESCRIPTION:Central office open
URL:https://centralalaa.org/single-event/central-office-open-1000am-200pm/2028-01-31
LOCATION:Central Office\, 828 Forest Ave\, Montgomery\, AL\, 36106
END:VEVENT
BEGIN:VEVENT
DTSTART;TZID=America/Chicago:20280202T100000
DTEND;TZID=America/Chicago:20280202T140000
DTSTAMP:20260425T115200
CREATED:20250301T230449Z
LAST-MODIFIED:20250301T230449Z
UID:10001440-1833098400-1833112800@centralalaa.org
SUMMARY:Central Office Open
DESCRIPTION:
URL:https://centralalaa.org/single-event/central-office-open/2028-02-02
LOCATION:Central Office\, 828 Forest Ave\, Montgomery\, AL\, 36106
END:VEVENT
BEGIN:VEVENT
DTSTART;TZID=America/Chicago:20280207T100000
DTEND;TZID=America/Chicago:20280207T140000
DTSTAMP:20260425T115200
CREATED:20260416T181911Z
LAST-MODIFIED:20260416T182034Z
UID:10003921-1833530400-1833544800@centralalaa.org
SUMMARY:Central Office Open
DESCRIPTION:Central office open
URL:https://centralalaa.org/single-event/central-office-open-1000am-200pm/2028-02-07
LOCATION:Central Office\, 828 Forest Ave\, Montgomery\, AL\, 36106
END:VEVENT
BEGIN:VEVENT
DTSTART;TZID=America/Chicago:20280209T100000
DTEND;TZID=America/Chicago:20280209T140000
DTSTAMP:20260425T115200
CREATED:20250301T230449Z
LAST-MODIFIED:20250301T230449Z
UID:10001441-1833703200-1833717600@centralalaa.org
SUMMARY:Central Office Open
DESCRIPTION:
URL:https://centralalaa.org/single-event/central-office-open/2028-02-09
LOCATION:Central Office\, 828 Forest Ave\, Montgomery\, AL\, 36106
END:VEVENT
BEGIN:VEVENT
DTSTART;TZID=America/Chicago:20280214T100000
DTEND;TZID=America/Chicago:20280214T140000
DTSTAMP:20260425T115200
CREATED:20260416T181911Z
LAST-MODIFIED:20260416T182034Z
UID:10003922-1834135200-1834149600@centralalaa.org
SUMMARY:Central Office Open
DESCRIPTION:Central office open
URL:https://centralalaa.org/single-event/central-office-open-1000am-200pm/2028-02-14
LOCATION:Central Office\, 828 Forest Ave\, Montgomery\, AL\, 36106
END:VEVENT
BEGIN:VEVENT
DTSTART;TZID=America/Chicago:20280216T100000
DTEND;TZID=America/Chicago:20280216T140000
DTSTAMP:20260425T115200
CREATED:20250301T230449Z
LAST-MODIFIED:20250301T230449Z
UID:10001442-1834308000-1834322400@centralalaa.org
SUMMARY:Central Office Open
DESCRIPTION:
URL:https://centralalaa.org/single-event/central-office-open/2028-02-16
LOCATION:Central Office\, 828 Forest Ave\, Montgomery\, AL\, 36106
END:VEVENT
BEGIN:VEVENT
DTSTART;TZID=America/Chicago:20280219T103000
DTEND;TZID=America/Chicago:20280219T113000
DTSTAMP:20260425T115200
CREATED:20260105T192731Z
LAST-MODIFIED:20260217T200953Z
UID:10003728-1834569000-1834572600@centralalaa.org
SUMMARY:Corrections/Treatment Committee Meeting
DESCRIPTION:Corrections/Treatment Committee Meeting \nEvery 3rd Saturday at 1030am \nLegacies and on Zoom \nZoom ID: 7987279234\nPW: Awakening
URL:https://centralalaa.org/single-event/corrections-treatment-committee-meeting/2028-02-19
LOCATION:Legacies and Zoom\, 3412 Atlanta Highway\, Montgomery\, AL\, 36109\, United States
CATEGORIES:Service Events
END:VEVENT
BEGIN:VEVENT
DTSTART;TZID=America/Chicago:20280220T133000
DTEND;TZID=America/Chicago:20280220T143000
DTSTAMP:20260425T115200
CREATED:20260105T192421Z
LAST-MODIFIED:20260105T192421Z
UID:10003393-1834666200-1834669800@centralalaa.org
SUMMARY:24hr Hotline Committee Meeting
DESCRIPTION:24hr Hotline Committee Meeting \n3rd Sunday of the Month \n130pm online \nZoom ID: 276 263 0376
URL:https://centralalaa.org/single-event/24hr-hotline-committee-meeting/2028-02-20
LOCATION:via Zoom
CATEGORIES:Service Events
END:VEVENT
BEGIN:VEVENT
DTSTART;TZID=America/Chicago:20280221T100000
DTEND;TZID=America/Chicago:20280221T140000
DTSTAMP:20260425T115200
CREATED:20260416T181911Z
LAST-MODIFIED:20260416T182034Z
UID:10003923-1834740000-1834754400@centralalaa.org
SUMMARY:Central Office Open
DESCRIPTION:Central office open
URL:https://centralalaa.org/single-event/central-office-open-1000am-200pm/2028-02-21
LOCATION:Central Office\, 828 Forest Ave\, Montgomery\, AL\, 36106
END:VEVENT
BEGIN:VEVENT
DTSTART;TZID=America/Chicago:20280223T100000
DTEND;TZID=America/Chicago:20280223T140000
DTSTAMP:20260425T115200
CREATED:20250301T230449Z
LAST-MODIFIED:20250301T230449Z
UID:10001443-1834912800-1834927200@centralalaa.org
SUMMARY:Central Office Open
DESCRIPTION:
URL:https://centralalaa.org/single-event/central-office-open/2028-02-23
LOCATION:Central Office\, 828 Forest Ave\, Montgomery\, AL\, 36106
END:VEVENT
BEGIN:VEVENT
DTSTART;TZID=America/Chicago:20280224T120000
DTEND;TZID=America/Chicago:20280224T130000
DTSTAMP:20260425T115200
CREATED:20250525T232631Z
LAST-MODIFIED:20250525T232631Z
UID:10002360-1835006400-1835010000@centralalaa.org
SUMMARY:Autauga SOS Noon Pot Luck and Speaker Meeting
DESCRIPTION:Autauga SOS Noon Pot Luck and Speaker Meeting \nLast Thursday of the Month at Noon \nSpeaker and Pot Luck
URL:https://centralalaa.org/single-event/autauga-sos-noon-pot-luck-and-speaker-meeting/2028-02-24
LOCATION:St Marks Episcopal Church\, 178 E 4th St\, Prattville\, AL\, 36067\, United States
CATEGORIES:Events,Fellowship Events
END:VEVENT
BEGIN:VEVENT
DTSTART;TZID=America/Chicago:20280227T133000
DTEND;TZID=America/Chicago:20280227T143000
DTSTAMP:20260425T115200
CREATED:20260105T191931Z
LAST-MODIFIED:20260125T195507Z
UID:10003615-1835271000-1835274600@centralalaa.org
SUMMARY:Website Committee Meeting
DESCRIPTION:Last Sunday of each month. \n130p on Zoom. \n276 263 0376 \nhttps://us06web.zoom.us/j/2762630376
URL:https://centralalaa.org/single-event/website-committee-meeting/2028-02-27
LOCATION:via Zoom
CATEGORIES:Service Events
END:VEVENT
BEGIN:VEVENT
DTSTART;TZID=America/Chicago:20280228T100000
DTEND;TZID=America/Chicago:20280228T140000
DTSTAMP:20260425T115200
CREATED:20260416T181911Z
LAST-MODIFIED:20260416T182034Z
UID:10003924-1835344800-1835359200@centralalaa.org
SUMMARY:Central Office Open
DESCRIPTION:Central office open
URL:https://centralalaa.org/single-event/central-office-open-1000am-200pm/2028-02-28
LOCATION:Central Office\, 828 Forest Ave\, Montgomery\, AL\, 36106
END:VEVENT
BEGIN:VEVENT
DTSTART;TZID=America/Chicago:20280301T100000
DTEND;TZID=America/Chicago:20280301T140000
DTSTAMP:20260425T115200
CREATED:20250301T230449Z
LAST-MODIFIED:20250301T230449Z
UID:10001444-1835517600-1835532000@centralalaa.org
SUMMARY:Central Office Open
DESCRIPTION:
URL:https://centralalaa.org/single-event/central-office-open/2028-03-01
LOCATION:Central Office\, 828 Forest Ave\, Montgomery\, AL\, 36106
END:VEVENT
BEGIN:VEVENT
DTSTART;TZID=America/Chicago:20280306T100000
DTEND;TZID=America/Chicago:20280306T140000
DTSTAMP:20260425T115200
CREATED:20260416T181911Z
LAST-MODIFIED:20260416T182034Z
UID:10003925-1835949600-1835964000@centralalaa.org
SUMMARY:Central Office Open
DESCRIPTION:Central office open
URL:https://centralalaa.org/single-event/central-office-open-1000am-200pm/2028-03-06
LOCATION:Central Office\, 828 Forest Ave\, Montgomery\, AL\, 36106
END:VEVENT
BEGIN:VEVENT
DTSTART;TZID=America/Chicago:20280308T100000
DTEND;TZID=America/Chicago:20280308T140000
DTSTAMP:20260425T115200
CREATED:20250301T230449Z
LAST-MODIFIED:20250301T230449Z
UID:10001445-1836122400-1836136800@centralalaa.org
SUMMARY:Central Office Open
DESCRIPTION:
URL:https://centralalaa.org/single-event/central-office-open/2028-03-08
LOCATION:Central Office\, 828 Forest Ave\, Montgomery\, AL\, 36106
END:VEVENT
BEGIN:VEVENT
DTSTART;TZID=America/Chicago:20280313T100000
DTEND;TZID=America/Chicago:20280313T140000
DTSTAMP:20260425T115200
CREATED:20260416T181911Z
LAST-MODIFIED:20260416T182034Z
UID:10003926-1836554400-1836568800@centralalaa.org
SUMMARY:Central Office Open
DESCRIPTION:Central office open
URL:https://centralalaa.org/single-event/central-office-open-1000am-200pm/2028-03-13
LOCATION:Central Office\, 828 Forest Ave\, Montgomery\, AL\, 36106
END:VEVENT
BEGIN:VEVENT
DTSTART;TZID=America/Chicago:20280315T100000
DTEND;TZID=America/Chicago:20280315T140000
DTSTAMP:20260425T115200
CREATED:20250301T230449Z
LAST-MODIFIED:20250301T230449Z
UID:10001446-1836727200-1836741600@centralalaa.org
SUMMARY:Central Office Open
DESCRIPTION:
URL:https://centralalaa.org/single-event/central-office-open/2028-03-15
LOCATION:Central Office\, 828 Forest Ave\, Montgomery\, AL\, 36106
END:VEVENT
BEGIN:VEVENT
DTSTART;TZID=America/Chicago:20280318T103000
DTEND;TZID=America/Chicago:20280318T113000
DTSTAMP:20260425T115200
CREATED:20260105T192731Z
LAST-MODIFIED:20260217T200953Z
UID:10003729-1836988200-1836991800@centralalaa.org
SUMMARY:Corrections/Treatment Committee Meeting
DESCRIPTION:Corrections/Treatment Committee Meeting \nEvery 3rd Saturday at 1030am \nLegacies and on Zoom \nZoom ID: 7987279234\nPW: Awakening
URL:https://centralalaa.org/single-event/corrections-treatment-committee-meeting/2028-03-18
LOCATION:Legacies and Zoom\, 3412 Atlanta Highway\, Montgomery\, AL\, 36109\, United States
CATEGORIES:Service Events
END:VEVENT
BEGIN:VEVENT
DTSTART;TZID=America/Chicago:20280319T133000
DTEND;TZID=America/Chicago:20280319T143000
DTSTAMP:20260425T115201
CREATED:20260105T192421Z
LAST-MODIFIED:20260105T192421Z
UID:10003394-1837085400-1837089000@centralalaa.org
SUMMARY:24hr Hotline Committee Meeting
DESCRIPTION:24hr Hotline Committee Meeting \n3rd Sunday of the Month \n130pm online \nZoom ID: 276 263 0376
URL:https://centralalaa.org/single-event/24hr-hotline-committee-meeting/2028-03-19
LOCATION:via Zoom
CATEGORIES:Service Events
END:VEVENT
BEGIN:VEVENT
DTSTART;TZID=America/Chicago:20280320T100000
DTEND;TZID=America/Chicago:20280320T140000
DTSTAMP:20260425T115201
CREATED:20260416T181911Z
LAST-MODIFIED:20260416T182034Z
UID:10003927-1837159200-1837173600@centralalaa.org
SUMMARY:Central Office Open
DESCRIPTION:Central office open
URL:https://centralalaa.org/single-event/central-office-open-1000am-200pm/2028-03-20
LOCATION:Central Office\, 828 Forest Ave\, Montgomery\, AL\, 36106
END:VEVENT
BEGIN:VEVENT
DTSTART;TZID=America/Chicago:20280322T100000
DTEND;TZID=America/Chicago:20280322T140000
DTSTAMP:20260425T115201
CREATED:20250301T230449Z
LAST-MODIFIED:20250301T230449Z
UID:10001447-1837332000-1837346400@centralalaa.org
SUMMARY:Central Office Open
DESCRIPTION:
URL:https://centralalaa.org/single-event/central-office-open/2028-03-22
LOCATION:Central Office\, 828 Forest Ave\, Montgomery\, AL\, 36106
END:VEVENT
BEGIN:VEVENT
DTSTART;TZID=America/Chicago:20280326T133000
DTEND;TZID=America/Chicago:20280326T143000
DTSTAMP:20260425T115201
CREATED:20260105T191931Z
LAST-MODIFIED:20260125T195507Z
UID:10003616-1837690200-1837693800@centralalaa.org
SUMMARY:Website Committee Meeting
DESCRIPTION:Last Sunday of each month. \n130p on Zoom. \n276 263 0376 \nhttps://us06web.zoom.us/j/2762630376
URL:https://centralalaa.org/single-event/website-committee-meeting/2028-03-26
LOCATION:via Zoom
CATEGORIES:Service Events
END:VEVENT
BEGIN:VEVENT
DTSTART;TZID=America/Chicago:20280327T100000
DTEND;TZID=America/Chicago:20280327T140000
DTSTAMP:20260425T115201
CREATED:20260416T181911Z
LAST-MODIFIED:20260416T182034Z
UID:10003928-1837764000-1837778400@centralalaa.org
SUMMARY:Central Office Open
DESCRIPTION:Central office open
URL:https://centralalaa.org/single-event/central-office-open-1000am-200pm/2028-03-27
LOCATION:Central Office\, 828 Forest Ave\, Montgomery\, AL\, 36106
END:VEVENT
BEGIN:VEVENT
DTSTART;TZID=America/Chicago:20280329T100000
DTEND;TZID=America/Chicago:20280329T140000
DTSTAMP:20260425T115201
CREATED:20250301T230449Z
LAST-MODIFIED:20250301T230449Z
UID:10001448-1837936800-1837951200@centralalaa.org
SUMMARY:Central Office Open
DESCRIPTION:
URL:https://centralalaa.org/single-event/central-office-open/2028-03-29
LOCATION:Central Office\, 828 Forest Ave\, Montgomery\, AL\, 36106
END:VEVENT
BEGIN:VEVENT
DTSTART;TZID=America/Chicago:20280330T120000
DTEND;TZID=America/Chicago:20280330T130000
DTSTAMP:20260425T115201
CREATED:20250525T232631Z
LAST-MODIFIED:20250525T232631Z
UID:10002361-1838030400-1838034000@centralalaa.org
SUMMARY:Autauga SOS Noon Pot Luck and Speaker Meeting
DESCRIPTION:Autauga SOS Noon Pot Luck and Speaker Meeting \nLast Thursday of the Month at Noon \nSpeaker and Pot Luck
URL:https://centralalaa.org/single-event/autauga-sos-noon-pot-luck-and-speaker-meeting/2028-03-30
LOCATION:St Marks Episcopal Church\, 178 E 4th St\, Prattville\, AL\, 36067\, United States
CATEGORIES:Events,Fellowship Events
END:VEVENT
END:VCALENDAR