BEGIN:VCALENDAR
VERSION:2.0
PRODID:-//District 8, Area 1 - ECPv6.15.20//NONSGML v1.0//EN
CALSCALE:GREGORIAN
METHOD:PUBLISH
X-ORIGINAL-URL:https://centralalaa.org
X-WR-CALDESC:Events for District 8, Area 1
REFRESH-INTERVAL;VALUE=DURATION:PT1H
X-Robots-Tag:noindex
X-PUBLISHED-TTL:PT1H
BEGIN:VTIMEZONE
TZID:America/Chicago
BEGIN:DAYLIGHT
TZOFFSETFROM:-0600
TZOFFSETTO:-0500
TZNAME:CDT
DTSTART:20280312T080000
END:DAYLIGHT
BEGIN:STANDARD
TZOFFSETFROM:-0500
TZOFFSETTO:-0600
TZNAME:CST
DTSTART:20281105T070000
END:STANDARD
BEGIN:DAYLIGHT
TZOFFSETFROM:-0600
TZOFFSETTO:-0500
TZNAME:CDT
DTSTART:20290311T080000
END:DAYLIGHT
BEGIN:STANDARD
TZOFFSETFROM:-0500
TZOFFSETTO:-0600
TZNAME:CST
DTSTART:20291104T070000
END:STANDARD
BEGIN:DAYLIGHT
TZOFFSETFROM:-0600
TZOFFSETTO:-0500
TZNAME:CDT
DTSTART:20300310T080000
END:DAYLIGHT
BEGIN:STANDARD
TZOFFSETFROM:-0500
TZOFFSETTO:-0600
TZNAME:CST
DTSTART:20301103T070000
END:STANDARD
END:VTIMEZONE
BEGIN:VEVENT
DTSTART;TZID=America/Chicago:20290207T100000
DTEND;TZID=America/Chicago:20290207T140000
DTSTAMP:20260425T115422
CREATED:20250301T230449Z
LAST-MODIFIED:20250301T230449Z
UID:10001493-1865152800-1865167200@centralalaa.org
SUMMARY:Central Office Open
DESCRIPTION:
URL:https://centralalaa.org/single-event/central-office-open/2029-02-07
LOCATION:Central Office\, 828 Forest Ave\, Montgomery\, AL\, 36106
END:VEVENT
BEGIN:VEVENT
DTSTART;TZID=America/Chicago:20290212T100000
DTEND;TZID=America/Chicago:20290212T140000
DTSTAMP:20260425T115422
CREATED:20260416T181911Z
LAST-MODIFIED:20260416T182034Z
UID:10003974-1865584800-1865599200@centralalaa.org
SUMMARY:Central Office Open
DESCRIPTION:Central office open
URL:https://centralalaa.org/single-event/central-office-open-1000am-200pm/2029-02-12
LOCATION:Central Office\, 828 Forest Ave\, Montgomery\, AL\, 36106
END:VEVENT
BEGIN:VEVENT
DTSTART;TZID=America/Chicago:20290214T100000
DTEND;TZID=America/Chicago:20290214T140000
DTSTAMP:20260425T115422
CREATED:20250301T230449Z
LAST-MODIFIED:20250301T230449Z
UID:10001494-1865757600-1865772000@centralalaa.org
SUMMARY:Central Office Open
DESCRIPTION:
URL:https://centralalaa.org/single-event/central-office-open/2029-02-14
LOCATION:Central Office\, 828 Forest Ave\, Montgomery\, AL\, 36106
END:VEVENT
BEGIN:VEVENT
DTSTART;TZID=America/Chicago:20290217T103000
DTEND;TZID=America/Chicago:20290217T113000
DTSTAMP:20260425T115422
CREATED:20260105T192731Z
LAST-MODIFIED:20260217T200953Z
UID:10003465-1866018600-1866022200@centralalaa.org
SUMMARY:Corrections/Treatment Committee Meeting
DESCRIPTION:Corrections/Treatment Committee Meeting \nEvery 3rd Saturday at 1030am \nLegacies and on Zoom \nZoom ID: 7987279234\nPW: Awakening
URL:https://centralalaa.org/single-event/corrections-treatment-committee-meeting/2029-02-17
LOCATION:Legacies and Zoom\, 3412 Atlanta Highway\, Montgomery\, AL\, 36109\, United States
CATEGORIES:Service Events
END:VEVENT
BEGIN:VEVENT
DTSTART;TZID=America/Chicago:20290218T133000
DTEND;TZID=America/Chicago:20290218T143000
DTSTAMP:20260425T115422
CREATED:20260105T192421Z
LAST-MODIFIED:20260105T192421Z
UID:10003405-1866115800-1866119400@centralalaa.org
SUMMARY:24hr Hotline Committee Meeting
DESCRIPTION:24hr Hotline Committee Meeting \n3rd Sunday of the Month \n130pm online \nZoom ID: 276 263 0376
URL:https://centralalaa.org/single-event/24hr-hotline-committee-meeting/2029-02-18
LOCATION:via Zoom
CATEGORIES:Service Events
END:VEVENT
BEGIN:VEVENT
DTSTART;TZID=America/Chicago:20290219T100000
DTEND;TZID=America/Chicago:20290219T140000
DTSTAMP:20260425T115422
CREATED:20260416T181911Z
LAST-MODIFIED:20260416T182034Z
UID:10003975-1866189600-1866204000@centralalaa.org
SUMMARY:Central Office Open
DESCRIPTION:Central office open
URL:https://centralalaa.org/single-event/central-office-open-1000am-200pm/2029-02-19
LOCATION:Central Office\, 828 Forest Ave\, Montgomery\, AL\, 36106
END:VEVENT
BEGIN:VEVENT
DTSTART;TZID=America/Chicago:20290221T100000
DTEND;TZID=America/Chicago:20290221T140000
DTSTAMP:20260425T115422
CREATED:20250301T230449Z
LAST-MODIFIED:20250301T230449Z
UID:10001495-1866362400-1866376800@centralalaa.org
SUMMARY:Central Office Open
DESCRIPTION:
URL:https://centralalaa.org/single-event/central-office-open/2029-02-21
LOCATION:Central Office\, 828 Forest Ave\, Montgomery\, AL\, 36106
END:VEVENT
BEGIN:VEVENT
DTSTART;TZID=America/Chicago:20290222T120000
DTEND;TZID=America/Chicago:20290222T130000
DTSTAMP:20260425T115422
CREATED:20250525T232631Z
LAST-MODIFIED:20250525T232631Z
UID:10002371-1866456000-1866459600@centralalaa.org
SUMMARY:Autauga SOS Noon Pot Luck and Speaker Meeting
DESCRIPTION:Autauga SOS Noon Pot Luck and Speaker Meeting \nLast Thursday of the Month at Noon \nSpeaker and Pot Luck
URL:https://centralalaa.org/single-event/autauga-sos-noon-pot-luck-and-speaker-meeting/2029-02-22
LOCATION:St Marks Episcopal Church\, 178 E 4th St\, Prattville\, AL\, 36067\, United States
CATEGORIES:Events,Fellowship Events
END:VEVENT
BEGIN:VEVENT
DTSTART;TZID=America/Chicago:20290225T133000
DTEND;TZID=America/Chicago:20290225T143000
DTSTAMP:20260425T115422
CREATED:20260105T191931Z
LAST-MODIFIED:20260125T195507Z
UID:10003294-1866720600-1866724200@centralalaa.org
SUMMARY:Website Committee Meeting
DESCRIPTION:Last Sunday of each month. \n130p on Zoom. \n276 263 0376 \nhttps://us06web.zoom.us/j/2762630376
URL:https://centralalaa.org/single-event/website-committee-meeting/2029-02-25
LOCATION:via Zoom
CATEGORIES:Service Events
END:VEVENT
BEGIN:VEVENT
DTSTART;TZID=America/Chicago:20290226T100000
DTEND;TZID=America/Chicago:20290226T140000
DTSTAMP:20260425T115422
CREATED:20260416T181911Z
LAST-MODIFIED:20260416T182034Z
UID:10003976-1866794400-1866808800@centralalaa.org
SUMMARY:Central Office Open
DESCRIPTION:Central office open
URL:https://centralalaa.org/single-event/central-office-open-1000am-200pm/2029-02-26
LOCATION:Central Office\, 828 Forest Ave\, Montgomery\, AL\, 36106
END:VEVENT
BEGIN:VEVENT
DTSTART;TZID=America/Chicago:20290228T100000
DTEND;TZID=America/Chicago:20290228T140000
DTSTAMP:20260425T115422
CREATED:20250301T230449Z
LAST-MODIFIED:20250301T230449Z
UID:10001496-1866967200-1866981600@centralalaa.org
SUMMARY:Central Office Open
DESCRIPTION:
URL:https://centralalaa.org/single-event/central-office-open/2029-02-28
LOCATION:Central Office\, 828 Forest Ave\, Montgomery\, AL\, 36106
END:VEVENT
BEGIN:VEVENT
DTSTART;TZID=America/Chicago:20290305T100000
DTEND;TZID=America/Chicago:20290305T140000
DTSTAMP:20260425T115422
CREATED:20260416T181911Z
LAST-MODIFIED:20260416T182034Z
UID:10003977-1867399200-1867413600@centralalaa.org
SUMMARY:Central Office Open
DESCRIPTION:Central office open
URL:https://centralalaa.org/single-event/central-office-open-1000am-200pm/2029-03-05
LOCATION:Central Office\, 828 Forest Ave\, Montgomery\, AL\, 36106
END:VEVENT
BEGIN:VEVENT
DTSTART;TZID=America/Chicago:20290307T100000
DTEND;TZID=America/Chicago:20290307T140000
DTSTAMP:20260425T115422
CREATED:20250301T230449Z
LAST-MODIFIED:20250301T230449Z
UID:10001497-1867572000-1867586400@centralalaa.org
SUMMARY:Central Office Open
DESCRIPTION:
URL:https://centralalaa.org/single-event/central-office-open/2029-03-07
LOCATION:Central Office\, 828 Forest Ave\, Montgomery\, AL\, 36106
END:VEVENT
BEGIN:VEVENT
DTSTART;TZID=America/Chicago:20290312T100000
DTEND;TZID=America/Chicago:20290312T140000
DTSTAMP:20260425T115422
CREATED:20260416T181911Z
LAST-MODIFIED:20260416T182034Z
UID:10003978-1868004000-1868018400@centralalaa.org
SUMMARY:Central Office Open
DESCRIPTION:Central office open
URL:https://centralalaa.org/single-event/central-office-open-1000am-200pm/2029-03-12
LOCATION:Central Office\, 828 Forest Ave\, Montgomery\, AL\, 36106
END:VEVENT
BEGIN:VEVENT
DTSTART;TZID=America/Chicago:20290314T100000
DTEND;TZID=America/Chicago:20290314T140000
DTSTAMP:20260425T115422
CREATED:20250301T230449Z
LAST-MODIFIED:20250301T230449Z
UID:10001498-1868176800-1868191200@centralalaa.org
SUMMARY:Central Office Open
DESCRIPTION:
URL:https://centralalaa.org/single-event/central-office-open/2029-03-14
LOCATION:Central Office\, 828 Forest Ave\, Montgomery\, AL\, 36106
END:VEVENT
BEGIN:VEVENT
DTSTART;TZID=America/Chicago:20290317T103000
DTEND;TZID=America/Chicago:20290317T113000
DTSTAMP:20260425T115422
CREATED:20260105T192731Z
LAST-MODIFIED:20260217T200953Z
UID:10003466-1868437800-1868441400@centralalaa.org
SUMMARY:Corrections/Treatment Committee Meeting
DESCRIPTION:Corrections/Treatment Committee Meeting \nEvery 3rd Saturday at 1030am \nLegacies and on Zoom \nZoom ID: 7987279234\nPW: Awakening
URL:https://centralalaa.org/single-event/corrections-treatment-committee-meeting/2029-03-17
LOCATION:Legacies and Zoom\, 3412 Atlanta Highway\, Montgomery\, AL\, 36109\, United States
CATEGORIES:Service Events
END:VEVENT
BEGIN:VEVENT
DTSTART;TZID=America/Chicago:20290318T133000
DTEND;TZID=America/Chicago:20290318T143000
DTSTAMP:20260425T115422
CREATED:20260105T192421Z
LAST-MODIFIED:20260105T192421Z
UID:10003406-1868535000-1868538600@centralalaa.org
SUMMARY:24hr Hotline Committee Meeting
DESCRIPTION:24hr Hotline Committee Meeting \n3rd Sunday of the Month \n130pm online \nZoom ID: 276 263 0376
URL:https://centralalaa.org/single-event/24hr-hotline-committee-meeting/2029-03-18
LOCATION:via Zoom
CATEGORIES:Service Events
END:VEVENT
BEGIN:VEVENT
DTSTART;TZID=America/Chicago:20290319T100000
DTEND;TZID=America/Chicago:20290319T140000
DTSTAMP:20260425T115422
CREATED:20260416T181911Z
LAST-MODIFIED:20260416T182034Z
UID:10003979-1868608800-1868623200@centralalaa.org
SUMMARY:Central Office Open
DESCRIPTION:Central office open
URL:https://centralalaa.org/single-event/central-office-open-1000am-200pm/2029-03-19
LOCATION:Central Office\, 828 Forest Ave\, Montgomery\, AL\, 36106
END:VEVENT
BEGIN:VEVENT
DTSTART;TZID=America/Chicago:20290321T100000
DTEND;TZID=America/Chicago:20290321T140000
DTSTAMP:20260425T115422
CREATED:20250301T230449Z
LAST-MODIFIED:20250301T230449Z
UID:10001499-1868781600-1868796000@centralalaa.org
SUMMARY:Central Office Open
DESCRIPTION:
URL:https://centralalaa.org/single-event/central-office-open/2029-03-21
LOCATION:Central Office\, 828 Forest Ave\, Montgomery\, AL\, 36106
END:VEVENT
BEGIN:VEVENT
DTSTART;TZID=America/Chicago:20290325T133000
DTEND;TZID=America/Chicago:20290325T143000
DTSTAMP:20260425T115422
CREATED:20260105T191931Z
LAST-MODIFIED:20260125T195507Z
UID:10003295-1869139800-1869143400@centralalaa.org
SUMMARY:Website Committee Meeting
DESCRIPTION:Last Sunday of each month. \n130p on Zoom. \n276 263 0376 \nhttps://us06web.zoom.us/j/2762630376
URL:https://centralalaa.org/single-event/website-committee-meeting/2029-03-25
LOCATION:via Zoom
CATEGORIES:Service Events
END:VEVENT
BEGIN:VEVENT
DTSTART;TZID=America/Chicago:20290326T100000
DTEND;TZID=America/Chicago:20290326T140000
DTSTAMP:20260425T115422
CREATED:20260416T181911Z
LAST-MODIFIED:20260416T182034Z
UID:10003980-1869213600-1869228000@centralalaa.org
SUMMARY:Central Office Open
DESCRIPTION:Central office open
URL:https://centralalaa.org/single-event/central-office-open-1000am-200pm/2029-03-26
LOCATION:Central Office\, 828 Forest Ave\, Montgomery\, AL\, 36106
END:VEVENT
BEGIN:VEVENT
DTSTART;TZID=America/Chicago:20290328T100000
DTEND;TZID=America/Chicago:20290328T140000
DTSTAMP:20260425T115422
CREATED:20250301T230449Z
LAST-MODIFIED:20250301T230449Z
UID:10001500-1869386400-1869400800@centralalaa.org
SUMMARY:Central Office Open
DESCRIPTION:
URL:https://centralalaa.org/single-event/central-office-open/2029-03-28
LOCATION:Central Office\, 828 Forest Ave\, Montgomery\, AL\, 36106
END:VEVENT
BEGIN:VEVENT
DTSTART;TZID=America/Chicago:20290329T120000
DTEND;TZID=America/Chicago:20290329T130000
DTSTAMP:20260425T115422
CREATED:20250525T232631Z
LAST-MODIFIED:20250525T232631Z
UID:10002270-1869480000-1869483600@centralalaa.org
SUMMARY:Autauga SOS Noon Pot Luck and Speaker Meeting
DESCRIPTION:Autauga SOS Noon Pot Luck and Speaker Meeting \nLast Thursday of the Month at Noon \nSpeaker and Pot Luck
URL:https://centralalaa.org/single-event/autauga-sos-noon-pot-luck-and-speaker-meeting/2029-03-29
LOCATION:St Marks Episcopal Church\, 178 E 4th St\, Prattville\, AL\, 36067\, United States
CATEGORIES:Events,Fellowship Events
END:VEVENT
BEGIN:VEVENT
DTSTART;TZID=America/Chicago:20290402T100000
DTEND;TZID=America/Chicago:20290402T140000
DTSTAMP:20260425T115422
CREATED:20260416T181911Z
LAST-MODIFIED:20260416T182034Z
UID:10003981-1869818400-1869832800@centralalaa.org
SUMMARY:Central Office Open
DESCRIPTION:Central office open
URL:https://centralalaa.org/single-event/central-office-open-1000am-200pm/2029-04-02
LOCATION:Central Office\, 828 Forest Ave\, Montgomery\, AL\, 36106
END:VEVENT
BEGIN:VEVENT
DTSTART;TZID=America/Chicago:20290404T100000
DTEND;TZID=America/Chicago:20290404T140000
DTSTAMP:20260425T115422
CREATED:20250301T230449Z
LAST-MODIFIED:20250301T230449Z
UID:10001501-1869991200-1870005600@centralalaa.org
SUMMARY:Central Office Open
DESCRIPTION:
URL:https://centralalaa.org/single-event/central-office-open/2029-04-04
LOCATION:Central Office\, 828 Forest Ave\, Montgomery\, AL\, 36106
END:VEVENT
BEGIN:VEVENT
DTSTART;TZID=America/Chicago:20290409T100000
DTEND;TZID=America/Chicago:20290409T140000
DTSTAMP:20260425T115422
CREATED:20260416T181911Z
LAST-MODIFIED:20260416T182034Z
UID:10003982-1870423200-1870437600@centralalaa.org
SUMMARY:Central Office Open
DESCRIPTION:Central office open
URL:https://centralalaa.org/single-event/central-office-open-1000am-200pm/2029-04-09
LOCATION:Central Office\, 828 Forest Ave\, Montgomery\, AL\, 36106
END:VEVENT
BEGIN:VEVENT
DTSTART;TZID=America/Chicago:20290411T100000
DTEND;TZID=America/Chicago:20290411T140000
DTSTAMP:20260425T115422
CREATED:20250301T230449Z
LAST-MODIFIED:20250301T230449Z
UID:10001502-1870596000-1870610400@centralalaa.org
SUMMARY:Central Office Open
DESCRIPTION:
URL:https://centralalaa.org/single-event/central-office-open/2029-04-11
LOCATION:Central Office\, 828 Forest Ave\, Montgomery\, AL\, 36106
END:VEVENT
BEGIN:VEVENT
DTSTART;TZID=America/Chicago:20290415T133000
DTEND;TZID=America/Chicago:20290415T143000
DTSTAMP:20260425T115422
CREATED:20260105T192421Z
LAST-MODIFIED:20260105T192421Z
UID:10003407-1870954200-1870957800@centralalaa.org
SUMMARY:24hr Hotline Committee Meeting
DESCRIPTION:24hr Hotline Committee Meeting \n3rd Sunday of the Month \n130pm online \nZoom ID: 276 263 0376
URL:https://centralalaa.org/single-event/24hr-hotline-committee-meeting/2029-04-15
LOCATION:via Zoom
CATEGORIES:Service Events
END:VEVENT
BEGIN:VEVENT
DTSTART;TZID=America/Chicago:20290416T100000
DTEND;TZID=America/Chicago:20290416T140000
DTSTAMP:20260425T115422
CREATED:20260416T181911Z
LAST-MODIFIED:20260416T182034Z
UID:10003983-1871028000-1871042400@centralalaa.org
SUMMARY:Central Office Open
DESCRIPTION:Central office open
URL:https://centralalaa.org/single-event/central-office-open-1000am-200pm/2029-04-16
LOCATION:Central Office\, 828 Forest Ave\, Montgomery\, AL\, 36106
END:VEVENT
BEGIN:VEVENT
DTSTART;TZID=America/Chicago:20290418T100000
DTEND;TZID=America/Chicago:20290418T140000
DTSTAMP:20260425T115422
CREATED:20250301T230449Z
LAST-MODIFIED:20250301T230449Z
UID:10001503-1871200800-1871215200@centralalaa.org
SUMMARY:Central Office Open
DESCRIPTION:
URL:https://centralalaa.org/single-event/central-office-open/2029-04-18
LOCATION:Central Office\, 828 Forest Ave\, Montgomery\, AL\, 36106
END:VEVENT
END:VCALENDAR