BEGIN:VCALENDAR
VERSION:2.0
PRODID:-//District 8, Area 1 - ECPv6.15.20//NONSGML v1.0//EN
CALSCALE:GREGORIAN
METHOD:PUBLISH
X-ORIGINAL-URL:https://centralalaa.org
X-WR-CALDESC:Events for District 8, Area 1
REFRESH-INTERVAL;VALUE=DURATION:PT1H
X-Robots-Tag:noindex
X-PUBLISHED-TTL:PT1H
BEGIN:VTIMEZONE
TZID:America/Chicago
BEGIN:DAYLIGHT
TZOFFSETFROM:-0600
TZOFFSETTO:-0500
TZNAME:CDT
DTSTART:20250309T080000
END:DAYLIGHT
BEGIN:STANDARD
TZOFFSETFROM:-0500
TZOFFSETTO:-0600
TZNAME:CST
DTSTART:20251102T070000
END:STANDARD
BEGIN:DAYLIGHT
TZOFFSETFROM:-0600
TZOFFSETTO:-0500
TZNAME:CDT
DTSTART:20260308T080000
END:DAYLIGHT
BEGIN:STANDARD
TZOFFSETFROM:-0500
TZOFFSETTO:-0600
TZNAME:CST
DTSTART:20261101T070000
END:STANDARD
BEGIN:DAYLIGHT
TZOFFSETFROM:-0600
TZOFFSETTO:-0500
TZNAME:CDT
DTSTART:20270314T080000
END:DAYLIGHT
BEGIN:STANDARD
TZOFFSETFROM:-0500
TZOFFSETTO:-0600
TZNAME:CST
DTSTART:20271107T070000
END:STANDARD
END:VTIMEZONE
BEGIN:VEVENT
DTSTART;TZID=America/Chicago:20260816T133000
DTEND;TZID=America/Chicago:20260816T143000
DTSTAMP:20260423T141504
CREATED:20260105T192421Z
LAST-MODIFIED:20260105T192421Z
UID:10003375-1786887000-1786890600@centralalaa.org
SUMMARY:24hr Hotline Committee Meeting
DESCRIPTION:24hr Hotline Committee Meeting \n3rd Sunday of the Month \n130pm online \nZoom ID: 276 263 0376
URL:https://centralalaa.org/single-event/24hr-hotline-committee-meeting/2026-08-16
LOCATION:via Zoom
CATEGORIES:Service Events
END:VEVENT
BEGIN:VEVENT
DTSTART;TZID=America/Chicago:20260817T100000
DTEND;TZID=America/Chicago:20260817T140000
DTSTAMP:20260423T141504
CREATED:20260416T181911Z
LAST-MODIFIED:20260416T182034Z
UID:10003844-1786960800-1786975200@centralalaa.org
SUMMARY:Central Office Open
DESCRIPTION:Central office open
URL:https://centralalaa.org/single-event/central-office-open-1000am-200pm/2026-08-17
LOCATION:Central Office\, 828 Forest Ave\, Montgomery\, AL\, 36106
END:VEVENT
BEGIN:VEVENT
DTSTART;TZID=America/Chicago:20260819T100000
DTEND;TZID=America/Chicago:20260819T140000
DTSTAMP:20260423T141504
CREATED:20250301T230449Z
LAST-MODIFIED:20250301T230449Z
UID:10001364-1787133600-1787148000@centralalaa.org
SUMMARY:Central Office Open
DESCRIPTION:
URL:https://centralalaa.org/single-event/central-office-open/2026-08-19
LOCATION:Central Office\, 828 Forest Ave\, Montgomery\, AL\, 36106
END:VEVENT
BEGIN:VEVENT
DTSTART;TZID=America/Chicago:20260824T100000
DTEND;TZID=America/Chicago:20260824T140000
DTSTAMP:20260423T141504
CREATED:20260416T181911Z
LAST-MODIFIED:20260416T182034Z
UID:10003845-1787565600-1787580000@centralalaa.org
SUMMARY:Central Office Open
DESCRIPTION:Central office open
URL:https://centralalaa.org/single-event/central-office-open-1000am-200pm/2026-08-24
LOCATION:Central Office\, 828 Forest Ave\, Montgomery\, AL\, 36106
END:VEVENT
BEGIN:VEVENT
DTSTART;TZID=America/Chicago:20260826T100000
DTEND;TZID=America/Chicago:20260826T140000
DTSTAMP:20260423T141504
CREATED:20250301T230449Z
LAST-MODIFIED:20250301T230449Z
UID:10001365-1787738400-1787752800@centralalaa.org
SUMMARY:Central Office Open
DESCRIPTION:
URL:https://centralalaa.org/single-event/central-office-open/2026-08-26
LOCATION:Central Office\, 828 Forest Ave\, Montgomery\, AL\, 36106
END:VEVENT
BEGIN:VEVENT
DTSTART;TZID=America/Chicago:20260827T120000
DTEND;TZID=America/Chicago:20260827T130000
DTSTAMP:20260423T141504
CREATED:20250525T232631Z
LAST-MODIFIED:20250525T232631Z
UID:10002345-1787832000-1787835600@centralalaa.org
SUMMARY:Autauga SOS Noon Pot Luck and Speaker Meeting
DESCRIPTION:Autauga SOS Noon Pot Luck and Speaker Meeting \nLast Thursday of the Month at Noon \nSpeaker and Pot Luck
URL:https://centralalaa.org/single-event/autauga-sos-noon-pot-luck-and-speaker-meeting/2026-08-27
LOCATION:St Marks Episcopal Church\, 178 E 4th St\, Prattville\, AL\, 36067\, United States
CATEGORIES:Events,Fellowship Events
END:VEVENT
BEGIN:VEVENT
DTSTART;TZID=America/Chicago:20260830T133000
DTEND;TZID=America/Chicago:20260830T143000
DTSTAMP:20260423T141504
CREATED:20260105T191931Z
LAST-MODIFIED:20260125T195507Z
UID:10003600-1788096600-1788100200@centralalaa.org
SUMMARY:Website Committee Meeting
DESCRIPTION:Last Sunday of each month. \n130p on Zoom. \n276 263 0376 \nhttps://us06web.zoom.us/j/2762630376
URL:https://centralalaa.org/single-event/website-committee-meeting/2026-08-30
LOCATION:via Zoom
CATEGORIES:Service Events
END:VEVENT
BEGIN:VEVENT
DTSTART;TZID=America/Chicago:20260831T100000
DTEND;TZID=America/Chicago:20260831T140000
DTSTAMP:20260423T141504
CREATED:20260416T181911Z
LAST-MODIFIED:20260416T182034Z
UID:10003846-1788170400-1788184800@centralalaa.org
SUMMARY:Central Office Open
DESCRIPTION:Central office open
URL:https://centralalaa.org/single-event/central-office-open-1000am-200pm/2026-08-31
LOCATION:Central Office\, 828 Forest Ave\, Montgomery\, AL\, 36106
END:VEVENT
BEGIN:VEVENT
DTSTART;TZID=America/Chicago:20260902T100000
DTEND;TZID=America/Chicago:20260902T140000
DTSTAMP:20260423T141504
CREATED:20250301T230449Z
LAST-MODIFIED:20250301T230449Z
UID:10001366-1788343200-1788357600@centralalaa.org
SUMMARY:Central Office Open
DESCRIPTION:
URL:https://centralalaa.org/single-event/central-office-open/2026-09-02
LOCATION:Central Office\, 828 Forest Ave\, Montgomery\, AL\, 36106
END:VEVENT
BEGIN:VEVENT
DTSTART;TZID=America/Chicago:20260907T100000
DTEND;TZID=America/Chicago:20260907T140000
DTSTAMP:20260423T141504
CREATED:20260416T181911Z
LAST-MODIFIED:20260416T182034Z
UID:10003847-1788775200-1788789600@centralalaa.org
SUMMARY:Central Office Open
DESCRIPTION:Central office open
URL:https://centralalaa.org/single-event/central-office-open-1000am-200pm/2026-09-07
LOCATION:Central Office\, 828 Forest Ave\, Montgomery\, AL\, 36106
END:VEVENT
BEGIN:VEVENT
DTSTART;TZID=America/Chicago:20260907T180000
DTEND;TZID=America/Chicago:20260907T190000
DTSTAMP:20260423T141504
CREATED:20250816T013304Z
LAST-MODIFIED:20250816T013308Z
UID:10003043-1788804000-1788807600@centralalaa.org
SUMMARY:District 8 Public Information (PI) Committee
DESCRIPTION:Please join to discuss ongoing projects in Public Information. District Committee meets at Legacies\, first Monday of each month\, 6:00-7:00. In-person and on Zoom.
URL:https://centralalaa.org/single-event/district-public-information-pi-committee-2-2/2026-09-07
LOCATION:Legacies and Zoom\, 3412 Atlanta Highway\, Montgomery\, AL\, 36109\, United States
END:VEVENT
BEGIN:VEVENT
DTSTART;TZID=America/Chicago:20260909T100000
DTEND;TZID=America/Chicago:20260909T140000
DTSTAMP:20260423T141504
CREATED:20250301T230449Z
LAST-MODIFIED:20250301T230449Z
UID:10001367-1788948000-1788962400@centralalaa.org
SUMMARY:Central Office Open
DESCRIPTION:
URL:https://centralalaa.org/single-event/central-office-open/2026-09-09
LOCATION:Central Office\, 828 Forest Ave\, Montgomery\, AL\, 36106
END:VEVENT
BEGIN:VEVENT
DTSTART;TZID=America/Chicago:20260914T100000
DTEND;TZID=America/Chicago:20260914T140000
DTSTAMP:20260423T141504
CREATED:20260416T181911Z
LAST-MODIFIED:20260416T182034Z
UID:10003848-1789380000-1789394400@centralalaa.org
SUMMARY:Central Office Open
DESCRIPTION:Central office open
URL:https://centralalaa.org/single-event/central-office-open-1000am-200pm/2026-09-14
LOCATION:Central Office\, 828 Forest Ave\, Montgomery\, AL\, 36106
END:VEVENT
BEGIN:VEVENT
DTSTART;TZID=America/Chicago:20260916T100000
DTEND;TZID=America/Chicago:20260916T140000
DTSTAMP:20260423T141504
CREATED:20250301T230449Z
LAST-MODIFIED:20250301T230449Z
UID:10001368-1789552800-1789567200@centralalaa.org
SUMMARY:Central Office Open
DESCRIPTION:
URL:https://centralalaa.org/single-event/central-office-open/2026-09-16
LOCATION:Central Office\, 828 Forest Ave\, Montgomery\, AL\, 36106
END:VEVENT
BEGIN:VEVENT
DTSTART;TZID=America/Chicago:20260919T103000
DTEND;TZID=America/Chicago:20260919T113000
DTSTAMP:20260423T141504
CREATED:20260105T192731Z
LAST-MODIFIED:20260217T200953Z
UID:10003714-1789813800-1789817400@centralalaa.org
SUMMARY:Corrections/Treatment Committee Meeting
DESCRIPTION:Corrections/Treatment Committee Meeting \nEvery 3rd Saturday at 1030am \nLegacies and on Zoom \nZoom ID: 7987279234\nPW: Awakening
URL:https://centralalaa.org/single-event/corrections-treatment-committee-meeting/2026-09-19
LOCATION:Legacies and Zoom\, 3412 Atlanta Highway\, Montgomery\, AL\, 36109\, United States
CATEGORIES:Service Events
END:VEVENT
BEGIN:VEVENT
DTSTART;TZID=America/Chicago:20260920T133000
DTEND;TZID=America/Chicago:20260920T143000
DTSTAMP:20260423T141504
CREATED:20260105T192421Z
LAST-MODIFIED:20260105T192421Z
UID:10003376-1789911000-1789914600@centralalaa.org
SUMMARY:24hr Hotline Committee Meeting
DESCRIPTION:24hr Hotline Committee Meeting \n3rd Sunday of the Month \n130pm online \nZoom ID: 276 263 0376
URL:https://centralalaa.org/single-event/24hr-hotline-committee-meeting/2026-09-20
LOCATION:via Zoom
CATEGORIES:Service Events
END:VEVENT
BEGIN:VEVENT
DTSTART;TZID=America/Chicago:20260921T100000
DTEND;TZID=America/Chicago:20260921T140000
DTSTAMP:20260423T141504
CREATED:20260416T181911Z
LAST-MODIFIED:20260416T182034Z
UID:10003849-1789984800-1789999200@centralalaa.org
SUMMARY:Central Office Open
DESCRIPTION:Central office open
URL:https://centralalaa.org/single-event/central-office-open-1000am-200pm/2026-09-21
LOCATION:Central Office\, 828 Forest Ave\, Montgomery\, AL\, 36106
END:VEVENT
BEGIN:VEVENT
DTSTART;TZID=America/Chicago:20260923T100000
DTEND;TZID=America/Chicago:20260923T140000
DTSTAMP:20260423T141504
CREATED:20250301T230449Z
LAST-MODIFIED:20250301T230449Z
UID:10001369-1790157600-1790172000@centralalaa.org
SUMMARY:Central Office Open
DESCRIPTION:
URL:https://centralalaa.org/single-event/central-office-open/2026-09-23
LOCATION:Central Office\, 828 Forest Ave\, Montgomery\, AL\, 36106
END:VEVENT
BEGIN:VEVENT
DTSTART;TZID=America/Chicago:20260924T120000
DTEND;TZID=America/Chicago:20260924T130000
DTSTAMP:20260423T141504
CREATED:20250525T232631Z
LAST-MODIFIED:20250525T232631Z
UID:10002346-1790251200-1790254800@centralalaa.org
SUMMARY:Autauga SOS Noon Pot Luck and Speaker Meeting
DESCRIPTION:Autauga SOS Noon Pot Luck and Speaker Meeting \nLast Thursday of the Month at Noon \nSpeaker and Pot Luck
URL:https://centralalaa.org/single-event/autauga-sos-noon-pot-luck-and-speaker-meeting/2026-09-24
LOCATION:St Marks Episcopal Church\, 178 E 4th St\, Prattville\, AL\, 36067\, United States
CATEGORIES:Events,Fellowship Events
END:VEVENT
BEGIN:VEVENT
DTSTART;TZID=America/Chicago:20260927T133000
DTEND;TZID=America/Chicago:20260927T143000
DTSTAMP:20260423T141504
CREATED:20260105T191931Z
LAST-MODIFIED:20260125T195507Z
UID:10003601-1790515800-1790519400@centralalaa.org
SUMMARY:Website Committee Meeting
DESCRIPTION:Last Sunday of each month. \n130p on Zoom. \n276 263 0376 \nhttps://us06web.zoom.us/j/2762630376
URL:https://centralalaa.org/single-event/website-committee-meeting/2026-09-27
LOCATION:via Zoom
CATEGORIES:Service Events
END:VEVENT
BEGIN:VEVENT
DTSTART;TZID=America/Chicago:20260928T100000
DTEND;TZID=America/Chicago:20260928T140000
DTSTAMP:20260423T141504
CREATED:20260416T181911Z
LAST-MODIFIED:20260416T182034Z
UID:10003850-1790589600-1790604000@centralalaa.org
SUMMARY:Central Office Open
DESCRIPTION:Central office open
URL:https://centralalaa.org/single-event/central-office-open-1000am-200pm/2026-09-28
LOCATION:Central Office\, 828 Forest Ave\, Montgomery\, AL\, 36106
END:VEVENT
BEGIN:VEVENT
DTSTART;TZID=America/Chicago:20260930T100000
DTEND;TZID=America/Chicago:20260930T140000
DTSTAMP:20260423T141504
CREATED:20250301T230449Z
LAST-MODIFIED:20250301T230449Z
UID:10001370-1790762400-1790776800@centralalaa.org
SUMMARY:Central Office Open
DESCRIPTION:
URL:https://centralalaa.org/single-event/central-office-open/2026-09-30
LOCATION:Central Office\, 828 Forest Ave\, Montgomery\, AL\, 36106
END:VEVENT
BEGIN:VEVENT
DTSTART;TZID=America/Chicago:20261005T100000
DTEND;TZID=America/Chicago:20261005T140000
DTSTAMP:20260423T141504
CREATED:20260416T181911Z
LAST-MODIFIED:20260416T182034Z
UID:10003851-1791194400-1791208800@centralalaa.org
SUMMARY:Central Office Open
DESCRIPTION:Central office open
URL:https://centralalaa.org/single-event/central-office-open-1000am-200pm/2026-10-05
LOCATION:Central Office\, 828 Forest Ave\, Montgomery\, AL\, 36106
END:VEVENT
BEGIN:VEVENT
DTSTART;TZID=America/Chicago:20261005T180000
DTEND;TZID=America/Chicago:20261005T190000
DTSTAMP:20260423T141504
CREATED:20250816T013304Z
LAST-MODIFIED:20250816T013308Z
UID:10003044-1791223200-1791226800@centralalaa.org
SUMMARY:District 8 Public Information (PI) Committee
DESCRIPTION:Please join to discuss ongoing projects in Public Information. District Committee meets at Legacies\, first Monday of each month\, 6:00-7:00. In-person and on Zoom.
URL:https://centralalaa.org/single-event/district-public-information-pi-committee-2-2/2026-10-05
LOCATION:Legacies and Zoom\, 3412 Atlanta Highway\, Montgomery\, AL\, 36109\, United States
END:VEVENT
BEGIN:VEVENT
DTSTART;TZID=America/Chicago:20261007T100000
DTEND;TZID=America/Chicago:20261007T140000
DTSTAMP:20260423T141504
CREATED:20250301T230449Z
LAST-MODIFIED:20250301T230449Z
UID:10001371-1791367200-1791381600@centralalaa.org
SUMMARY:Central Office Open
DESCRIPTION:
URL:https://centralalaa.org/single-event/central-office-open/2026-10-07
LOCATION:Central Office\, 828 Forest Ave\, Montgomery\, AL\, 36106
END:VEVENT
BEGIN:VEVENT
DTSTART;VALUE=DATE:20261009
DTEND;VALUE=DATE:20261012
DTSTAMP:20260423T141504
CREATED:20250728T151115Z
LAST-MODIFIED:20250728T151115Z
UID:10002980-1791504000-1791763199@centralalaa.org
SUMMARY:AA Area 1 Assembly
DESCRIPTION:Ramada Inn & Suites 5216 Messer Airport Highway Birmingham\, AL 35212\n(205) 719-1656
URL:https://centralalaa.org/single-event/aa-area-1-assembly-8
LOCATION:Birmingham Ramada Airport\, 5216 Messer Airport Hwy\, Birmingham\, AL\, 35212
END:VEVENT
BEGIN:VEVENT
DTSTART;TZID=America/Chicago:20261012T100000
DTEND;TZID=America/Chicago:20261012T140000
DTSTAMP:20260423T141504
CREATED:20260416T181911Z
LAST-MODIFIED:20260416T182034Z
UID:10003852-1791799200-1791813600@centralalaa.org
SUMMARY:Central Office Open
DESCRIPTION:Central office open
URL:https://centralalaa.org/single-event/central-office-open-1000am-200pm/2026-10-12
LOCATION:Central Office\, 828 Forest Ave\, Montgomery\, AL\, 36106
END:VEVENT
BEGIN:VEVENT
DTSTART;TZID=America/Chicago:20261014T100000
DTEND;TZID=America/Chicago:20261014T140000
DTSTAMP:20260423T141504
CREATED:20250301T230449Z
LAST-MODIFIED:20250301T230449Z
UID:10001372-1791972000-1791986400@centralalaa.org
SUMMARY:Central Office Open
DESCRIPTION:
URL:https://centralalaa.org/single-event/central-office-open/2026-10-14
LOCATION:Central Office\, 828 Forest Ave\, Montgomery\, AL\, 36106
END:VEVENT
BEGIN:VEVENT
DTSTART;TZID=America/Chicago:20261017T103000
DTEND;TZID=America/Chicago:20261017T113000
DTSTAMP:20260423T141504
CREATED:20260105T192731Z
LAST-MODIFIED:20260217T200953Z
UID:10003437-1792233000-1792236600@centralalaa.org
SUMMARY:Corrections/Treatment Committee Meeting
DESCRIPTION:Corrections/Treatment Committee Meeting \nEvery 3rd Saturday at 1030am \nLegacies and on Zoom \nZoom ID: 7987279234\nPW: Awakening
URL:https://centralalaa.org/single-event/corrections-treatment-committee-meeting/2026-10-17
LOCATION:Legacies and Zoom\, 3412 Atlanta Highway\, Montgomery\, AL\, 36109\, United States
CATEGORIES:Service Events
END:VEVENT
BEGIN:VEVENT
DTSTART;TZID=America/Chicago:20261018T133000
DTEND;TZID=America/Chicago:20261018T143000
DTSTAMP:20260423T141504
CREATED:20260105T192421Z
LAST-MODIFIED:20260105T192421Z
UID:10003377-1792330200-1792333800@centralalaa.org
SUMMARY:24hr Hotline Committee Meeting
DESCRIPTION:24hr Hotline Committee Meeting \n3rd Sunday of the Month \n130pm online \nZoom ID: 276 263 0376
URL:https://centralalaa.org/single-event/24hr-hotline-committee-meeting/2026-10-18
LOCATION:via Zoom
CATEGORIES:Service Events
END:VEVENT
END:VCALENDAR