BEGIN:VCALENDAR
VERSION:2.0
PRODID:-//District 8, Area 1 - ECPv6.15.20//NONSGML v1.0//EN
CALSCALE:GREGORIAN
METHOD:PUBLISH
X-ORIGINAL-URL:https://centralalaa.org
X-WR-CALDESC:Events for District 8, Area 1
REFRESH-INTERVAL;VALUE=DURATION:PT1H
X-Robots-Tag:noindex
X-PUBLISHED-TTL:PT1H
BEGIN:VTIMEZONE
TZID:America/Chicago
BEGIN:DAYLIGHT
TZOFFSETFROM:-0600
TZOFFSETTO:-0500
TZNAME:CDT
DTSTART:20260308T080000
END:DAYLIGHT
BEGIN:STANDARD
TZOFFSETFROM:-0500
TZOFFSETTO:-0600
TZNAME:CST
DTSTART:20261101T070000
END:STANDARD
BEGIN:DAYLIGHT
TZOFFSETFROM:-0600
TZOFFSETTO:-0500
TZNAME:CDT
DTSTART:20270314T080000
END:DAYLIGHT
BEGIN:STANDARD
TZOFFSETFROM:-0500
TZOFFSETTO:-0600
TZNAME:CST
DTSTART:20271107T070000
END:STANDARD
BEGIN:DAYLIGHT
TZOFFSETFROM:-0600
TZOFFSETTO:-0500
TZNAME:CDT
DTSTART:20280312T080000
END:DAYLIGHT
BEGIN:STANDARD
TZOFFSETFROM:-0500
TZOFFSETTO:-0600
TZNAME:CST
DTSTART:20281105T070000
END:STANDARD
END:VTIMEZONE
BEGIN:VEVENT
DTSTART;TZID=America/Chicago:20270315T100000
DTEND;TZID=America/Chicago:20270315T140000
DTSTAMP:20260424T005213
CREATED:20260416T181911Z
LAST-MODIFIED:20260416T182034Z
UID:10003874-1805104800-1805119200@centralalaa.org
SUMMARY:Central Office Open
DESCRIPTION:Central office open
URL:https://centralalaa.org/single-event/central-office-open-1000am-200pm/2027-03-15
LOCATION:Central Office\, 828 Forest Ave\, Montgomery\, AL\, 36106
END:VEVENT
BEGIN:VEVENT
DTSTART;TZID=America/Chicago:20270317T100000
DTEND;TZID=America/Chicago:20270317T140000
DTSTAMP:20260424T005213
CREATED:20250301T230449Z
LAST-MODIFIED:20250301T230449Z
UID:10001394-1805277600-1805292000@centralalaa.org
SUMMARY:Central Office Open
DESCRIPTION:
URL:https://centralalaa.org/single-event/central-office-open/2027-03-17
LOCATION:Central Office\, 828 Forest Ave\, Montgomery\, AL\, 36106
END:VEVENT
BEGIN:VEVENT
DTSTART;TZID=America/Chicago:20270320T103000
DTEND;TZID=America/Chicago:20270320T113000
DTSTAMP:20260424T005213
CREATED:20260105T192731Z
LAST-MODIFIED:20260217T200953Z
UID:10003719-1805538600-1805542200@centralalaa.org
SUMMARY:Corrections/Treatment Committee Meeting
DESCRIPTION:Corrections/Treatment Committee Meeting \nEvery 3rd Saturday at 1030am \nLegacies and on Zoom \nZoom ID: 7987279234\nPW: Awakening
URL:https://centralalaa.org/single-event/corrections-treatment-committee-meeting/2027-03-20
LOCATION:Legacies and Zoom\, 3412 Atlanta Highway\, Montgomery\, AL\, 36109\, United States
CATEGORIES:Service Events
END:VEVENT
BEGIN:VEVENT
DTSTART;TZID=America/Chicago:20270321T133000
DTEND;TZID=America/Chicago:20270321T143000
DTSTAMP:20260424T005213
CREATED:20260105T192421Z
LAST-MODIFIED:20260105T192421Z
UID:10003382-1805635800-1805639400@centralalaa.org
SUMMARY:24hr Hotline Committee Meeting
DESCRIPTION:24hr Hotline Committee Meeting \n3rd Sunday of the Month \n130pm online \nZoom ID: 276 263 0376
URL:https://centralalaa.org/single-event/24hr-hotline-committee-meeting/2027-03-21
LOCATION:via Zoom
CATEGORIES:Service Events
END:VEVENT
BEGIN:VEVENT
DTSTART;TZID=America/Chicago:20270322T100000
DTEND;TZID=America/Chicago:20270322T140000
DTSTAMP:20260424T005213
CREATED:20260416T181911Z
LAST-MODIFIED:20260416T182034Z
UID:10003875-1805709600-1805724000@centralalaa.org
SUMMARY:Central Office Open
DESCRIPTION:Central office open
URL:https://centralalaa.org/single-event/central-office-open-1000am-200pm/2027-03-22
LOCATION:Central Office\, 828 Forest Ave\, Montgomery\, AL\, 36106
END:VEVENT
BEGIN:VEVENT
DTSTART;TZID=America/Chicago:20270324T100000
DTEND;TZID=America/Chicago:20270324T140000
DTSTAMP:20260424T005213
CREATED:20250301T230449Z
LAST-MODIFIED:20250301T230449Z
UID:10001395-1805882400-1805896800@centralalaa.org
SUMMARY:Central Office Open
DESCRIPTION:
URL:https://centralalaa.org/single-event/central-office-open/2027-03-24
LOCATION:Central Office\, 828 Forest Ave\, Montgomery\, AL\, 36106
END:VEVENT
BEGIN:VEVENT
DTSTART;TZID=America/Chicago:20270325T120000
DTEND;TZID=America/Chicago:20270325T130000
DTSTAMP:20260424T005213
CREATED:20250525T232631Z
LAST-MODIFIED:20250525T232631Z
UID:10002351-1805976000-1805979600@centralalaa.org
SUMMARY:Autauga SOS Noon Pot Luck and Speaker Meeting
DESCRIPTION:Autauga SOS Noon Pot Luck and Speaker Meeting \nLast Thursday of the Month at Noon \nSpeaker and Pot Luck
URL:https://centralalaa.org/single-event/autauga-sos-noon-pot-luck-and-speaker-meeting/2027-03-25
LOCATION:St Marks Episcopal Church\, 178 E 4th St\, Prattville\, AL\, 36067\, United States
CATEGORIES:Events,Fellowship Events
END:VEVENT
BEGIN:VEVENT
DTSTART;TZID=America/Chicago:20270328T133000
DTEND;TZID=America/Chicago:20270328T143000
DTSTAMP:20260424T005213
CREATED:20260105T191931Z
LAST-MODIFIED:20260125T195507Z
UID:10003606-1806240600-1806244200@centralalaa.org
SUMMARY:Website Committee Meeting
DESCRIPTION:Last Sunday of each month. \n130p on Zoom. \n276 263 0376 \nhttps://us06web.zoom.us/j/2762630376
URL:https://centralalaa.org/single-event/website-committee-meeting/2027-03-28
LOCATION:via Zoom
CATEGORIES:Service Events
END:VEVENT
BEGIN:VEVENT
DTSTART;TZID=America/Chicago:20270329T100000
DTEND;TZID=America/Chicago:20270329T140000
DTSTAMP:20260424T005213
CREATED:20260416T181911Z
LAST-MODIFIED:20260416T182034Z
UID:10003876-1806314400-1806328800@centralalaa.org
SUMMARY:Central Office Open
DESCRIPTION:Central office open
URL:https://centralalaa.org/single-event/central-office-open-1000am-200pm/2027-03-29
LOCATION:Central Office\, 828 Forest Ave\, Montgomery\, AL\, 36106
END:VEVENT
BEGIN:VEVENT
DTSTART;TZID=America/Chicago:20270331T100000
DTEND;TZID=America/Chicago:20270331T140000
DTSTAMP:20260424T005213
CREATED:20250301T230449Z
LAST-MODIFIED:20250301T230449Z
UID:10001396-1806487200-1806501600@centralalaa.org
SUMMARY:Central Office Open
DESCRIPTION:
URL:https://centralalaa.org/single-event/central-office-open/2027-03-31
LOCATION:Central Office\, 828 Forest Ave\, Montgomery\, AL\, 36106
END:VEVENT
BEGIN:VEVENT
DTSTART;TZID=America/Chicago:20270405T100000
DTEND;TZID=America/Chicago:20270405T140000
DTSTAMP:20260424T005213
CREATED:20260416T181911Z
LAST-MODIFIED:20260416T182034Z
UID:10003877-1806919200-1806933600@centralalaa.org
SUMMARY:Central Office Open
DESCRIPTION:Central office open
URL:https://centralalaa.org/single-event/central-office-open-1000am-200pm/2027-04-05
LOCATION:Central Office\, 828 Forest Ave\, Montgomery\, AL\, 36106
END:VEVENT
BEGIN:VEVENT
DTSTART;TZID=America/Chicago:20270407T100000
DTEND;TZID=America/Chicago:20270407T140000
DTSTAMP:20260424T005213
CREATED:20250301T230449Z
LAST-MODIFIED:20250301T230449Z
UID:10001397-1807092000-1807106400@centralalaa.org
SUMMARY:Central Office Open
DESCRIPTION:
URL:https://centralalaa.org/single-event/central-office-open/2027-04-07
LOCATION:Central Office\, 828 Forest Ave\, Montgomery\, AL\, 36106
END:VEVENT
BEGIN:VEVENT
DTSTART;TZID=America/Chicago:20270412T100000
DTEND;TZID=America/Chicago:20270412T140000
DTSTAMP:20260424T005213
CREATED:20260416T181911Z
LAST-MODIFIED:20260416T182034Z
UID:10003878-1807524000-1807538400@centralalaa.org
SUMMARY:Central Office Open
DESCRIPTION:Central office open
URL:https://centralalaa.org/single-event/central-office-open-1000am-200pm/2027-04-12
LOCATION:Central Office\, 828 Forest Ave\, Montgomery\, AL\, 36106
END:VEVENT
BEGIN:VEVENT
DTSTART;TZID=America/Chicago:20270414T100000
DTEND;TZID=America/Chicago:20270414T140000
DTSTAMP:20260424T005213
CREATED:20250301T230449Z
LAST-MODIFIED:20250301T230449Z
UID:10001398-1807696800-1807711200@centralalaa.org
SUMMARY:Central Office Open
DESCRIPTION:
URL:https://centralalaa.org/single-event/central-office-open/2027-04-14
LOCATION:Central Office\, 828 Forest Ave\, Montgomery\, AL\, 36106
END:VEVENT
BEGIN:VEVENT
DTSTART;TZID=America/Chicago:20270417T103000
DTEND;TZID=America/Chicago:20270417T113000
DTSTAMP:20260424T005213
CREATED:20260105T192731Z
LAST-MODIFIED:20260217T200953Z
UID:10003443-1807957800-1807961400@centralalaa.org
SUMMARY:Corrections/Treatment Committee Meeting
DESCRIPTION:Corrections/Treatment Committee Meeting \nEvery 3rd Saturday at 1030am \nLegacies and on Zoom \nZoom ID: 7987279234\nPW: Awakening
URL:https://centralalaa.org/single-event/corrections-treatment-committee-meeting/2027-04-17
LOCATION:Legacies and Zoom\, 3412 Atlanta Highway\, Montgomery\, AL\, 36109\, United States
CATEGORIES:Service Events
END:VEVENT
BEGIN:VEVENT
DTSTART;TZID=America/Chicago:20270418T133000
DTEND;TZID=America/Chicago:20270418T143000
DTSTAMP:20260424T005213
CREATED:20260105T192421Z
LAST-MODIFIED:20260105T192421Z
UID:10003383-1808055000-1808058600@centralalaa.org
SUMMARY:24hr Hotline Committee Meeting
DESCRIPTION:24hr Hotline Committee Meeting \n3rd Sunday of the Month \n130pm online \nZoom ID: 276 263 0376
URL:https://centralalaa.org/single-event/24hr-hotline-committee-meeting/2027-04-18
LOCATION:via Zoom
CATEGORIES:Service Events
END:VEVENT
BEGIN:VEVENT
DTSTART;TZID=America/Chicago:20270419T100000
DTEND;TZID=America/Chicago:20270419T140000
DTSTAMP:20260424T005213
CREATED:20260416T181911Z
LAST-MODIFIED:20260416T182034Z
UID:10003879-1808128800-1808143200@centralalaa.org
SUMMARY:Central Office Open
DESCRIPTION:Central office open
URL:https://centralalaa.org/single-event/central-office-open-1000am-200pm/2027-04-19
LOCATION:Central Office\, 828 Forest Ave\, Montgomery\, AL\, 36106
END:VEVENT
BEGIN:VEVENT
DTSTART;TZID=America/Chicago:20270421T100000
DTEND;TZID=America/Chicago:20270421T140000
DTSTAMP:20260424T005213
CREATED:20250301T230449Z
LAST-MODIFIED:20250301T230449Z
UID:10001399-1808301600-1808316000@centralalaa.org
SUMMARY:Central Office Open
DESCRIPTION:
URL:https://centralalaa.org/single-event/central-office-open/2027-04-21
LOCATION:Central Office\, 828 Forest Ave\, Montgomery\, AL\, 36106
END:VEVENT
BEGIN:VEVENT
DTSTART;TZID=America/Chicago:20270425T133000
DTEND;TZID=America/Chicago:20270425T143000
DTSTAMP:20260424T005213
CREATED:20260105T191931Z
LAST-MODIFIED:20260125T195507Z
UID:10003272-1808659800-1808663400@centralalaa.org
SUMMARY:Website Committee Meeting
DESCRIPTION:Last Sunday of each month. \n130p on Zoom. \n276 263 0376 \nhttps://us06web.zoom.us/j/2762630376
URL:https://centralalaa.org/single-event/website-committee-meeting/2027-04-25
LOCATION:via Zoom
CATEGORIES:Service Events
END:VEVENT
BEGIN:VEVENT
DTSTART;TZID=America/Chicago:20270426T100000
DTEND;TZID=America/Chicago:20270426T140000
DTSTAMP:20260424T005213
CREATED:20260416T181911Z
LAST-MODIFIED:20260416T182034Z
UID:10003880-1808733600-1808748000@centralalaa.org
SUMMARY:Central Office Open
DESCRIPTION:Central office open
URL:https://centralalaa.org/single-event/central-office-open-1000am-200pm/2027-04-26
LOCATION:Central Office\, 828 Forest Ave\, Montgomery\, AL\, 36106
END:VEVENT
BEGIN:VEVENT
DTSTART;TZID=America/Chicago:20270428T100000
DTEND;TZID=America/Chicago:20270428T140000
DTSTAMP:20260424T005213
CREATED:20250301T230449Z
LAST-MODIFIED:20250301T230449Z
UID:10001400-1808906400-1808920800@centralalaa.org
SUMMARY:Central Office Open
DESCRIPTION:
URL:https://centralalaa.org/single-event/central-office-open/2027-04-28
LOCATION:Central Office\, 828 Forest Ave\, Montgomery\, AL\, 36106
END:VEVENT
BEGIN:VEVENT
DTSTART;TZID=America/Chicago:20270429T120000
DTEND;TZID=America/Chicago:20270429T130000
DTSTAMP:20260424T005213
CREATED:20250525T232631Z
LAST-MODIFIED:20250525T232631Z
UID:10002247-1809000000-1809003600@centralalaa.org
SUMMARY:Autauga SOS Noon Pot Luck and Speaker Meeting
DESCRIPTION:Autauga SOS Noon Pot Luck and Speaker Meeting \nLast Thursday of the Month at Noon \nSpeaker and Pot Luck
URL:https://centralalaa.org/single-event/autauga-sos-noon-pot-luck-and-speaker-meeting/2027-04-29
LOCATION:St Marks Episcopal Church\, 178 E 4th St\, Prattville\, AL\, 36067\, United States
CATEGORIES:Events,Fellowship Events
END:VEVENT
BEGIN:VEVENT
DTSTART;TZID=America/Chicago:20270503T100000
DTEND;TZID=America/Chicago:20270503T140000
DTSTAMP:20260424T005213
CREATED:20260416T181911Z
LAST-MODIFIED:20260416T182034Z
UID:10003881-1809338400-1809352800@centralalaa.org
SUMMARY:Central Office Open
DESCRIPTION:Central office open
URL:https://centralalaa.org/single-event/central-office-open-1000am-200pm/2027-05-03
LOCATION:Central Office\, 828 Forest Ave\, Montgomery\, AL\, 36106
END:VEVENT
BEGIN:VEVENT
DTSTART;TZID=America/Chicago:20270505T100000
DTEND;TZID=America/Chicago:20270505T140000
DTSTAMP:20260424T005213
CREATED:20250301T230449Z
LAST-MODIFIED:20250301T230449Z
UID:10001401-1809511200-1809525600@centralalaa.org
SUMMARY:Central Office Open
DESCRIPTION:
URL:https://centralalaa.org/single-event/central-office-open/2027-05-05
LOCATION:Central Office\, 828 Forest Ave\, Montgomery\, AL\, 36106
END:VEVENT
BEGIN:VEVENT
DTSTART;TZID=America/Chicago:20270510T100000
DTEND;TZID=America/Chicago:20270510T140000
DTSTAMP:20260424T005213
CREATED:20260416T181911Z
LAST-MODIFIED:20260416T182034Z
UID:10003882-1809943200-1809957600@centralalaa.org
SUMMARY:Central Office Open
DESCRIPTION:Central office open
URL:https://centralalaa.org/single-event/central-office-open-1000am-200pm/2027-05-10
LOCATION:Central Office\, 828 Forest Ave\, Montgomery\, AL\, 36106
END:VEVENT
BEGIN:VEVENT
DTSTART;TZID=America/Chicago:20270512T100000
DTEND;TZID=America/Chicago:20270512T140000
DTSTAMP:20260424T005213
CREATED:20250301T230449Z
LAST-MODIFIED:20250301T230449Z
UID:10001402-1810116000-1810130400@centralalaa.org
SUMMARY:Central Office Open
DESCRIPTION:
URL:https://centralalaa.org/single-event/central-office-open/2027-05-12
LOCATION:Central Office\, 828 Forest Ave\, Montgomery\, AL\, 36106
END:VEVENT
BEGIN:VEVENT
DTSTART;TZID=America/Chicago:20270515T103000
DTEND;TZID=America/Chicago:20270515T113000
DTSTAMP:20260424T005213
CREATED:20260105T192731Z
LAST-MODIFIED:20260217T200953Z
UID:10003720-1810377000-1810380600@centralalaa.org
SUMMARY:Corrections/Treatment Committee Meeting
DESCRIPTION:Corrections/Treatment Committee Meeting \nEvery 3rd Saturday at 1030am \nLegacies and on Zoom \nZoom ID: 7987279234\nPW: Awakening
URL:https://centralalaa.org/single-event/corrections-treatment-committee-meeting/2027-05-15
LOCATION:Legacies and Zoom\, 3412 Atlanta Highway\, Montgomery\, AL\, 36109\, United States
CATEGORIES:Service Events
END:VEVENT
BEGIN:VEVENT
DTSTART;TZID=America/Chicago:20270516T133000
DTEND;TZID=America/Chicago:20270516T143000
DTSTAMP:20260424T005213
CREATED:20260105T192421Z
LAST-MODIFIED:20260105T192421Z
UID:10003384-1810474200-1810477800@centralalaa.org
SUMMARY:24hr Hotline Committee Meeting
DESCRIPTION:24hr Hotline Committee Meeting \n3rd Sunday of the Month \n130pm online \nZoom ID: 276 263 0376
URL:https://centralalaa.org/single-event/24hr-hotline-committee-meeting/2027-05-16
LOCATION:via Zoom
CATEGORIES:Service Events
END:VEVENT
BEGIN:VEVENT
DTSTART;TZID=America/Chicago:20270517T100000
DTEND;TZID=America/Chicago:20270517T140000
DTSTAMP:20260424T005213
CREATED:20260416T181911Z
LAST-MODIFIED:20260416T182034Z
UID:10003883-1810548000-1810562400@centralalaa.org
SUMMARY:Central Office Open
DESCRIPTION:Central office open
URL:https://centralalaa.org/single-event/central-office-open-1000am-200pm/2027-05-17
LOCATION:Central Office\, 828 Forest Ave\, Montgomery\, AL\, 36106
END:VEVENT
BEGIN:VEVENT
DTSTART;TZID=America/Chicago:20270519T100000
DTEND;TZID=America/Chicago:20270519T140000
DTSTAMP:20260424T005213
CREATED:20250301T230449Z
LAST-MODIFIED:20250301T230449Z
UID:10001403-1810720800-1810735200@centralalaa.org
SUMMARY:Central Office Open
DESCRIPTION:
URL:https://centralalaa.org/single-event/central-office-open/2027-05-19
LOCATION:Central Office\, 828 Forest Ave\, Montgomery\, AL\, 36106
END:VEVENT
END:VCALENDAR