BEGIN:VCALENDAR
VERSION:2.0
PRODID:-//District 8, Area 1 - ECPv6.15.20//NONSGML v1.0//EN
CALSCALE:GREGORIAN
METHOD:PUBLISH
X-ORIGINAL-URL:https://centralalaa.org
X-WR-CALDESC:Events for District 8, Area 1
REFRESH-INTERVAL;VALUE=DURATION:PT1H
X-Robots-Tag:noindex
X-PUBLISHED-TTL:PT1H
BEGIN:VTIMEZONE
TZID:America/Chicago
BEGIN:DAYLIGHT
TZOFFSETFROM:-0600
TZOFFSETTO:-0500
TZNAME:CDT
DTSTART:20250309T080000
END:DAYLIGHT
BEGIN:STANDARD
TZOFFSETFROM:-0500
TZOFFSETTO:-0600
TZNAME:CST
DTSTART:20251102T070000
END:STANDARD
BEGIN:DAYLIGHT
TZOFFSETFROM:-0600
TZOFFSETTO:-0500
TZNAME:CDT
DTSTART:20260308T080000
END:DAYLIGHT
BEGIN:STANDARD
TZOFFSETFROM:-0500
TZOFFSETTO:-0600
TZNAME:CST
DTSTART:20261101T070000
END:STANDARD
BEGIN:DAYLIGHT
TZOFFSETFROM:-0600
TZOFFSETTO:-0500
TZNAME:CDT
DTSTART:20270314T080000
END:DAYLIGHT
BEGIN:STANDARD
TZOFFSETFROM:-0500
TZOFFSETTO:-0600
TZNAME:CST
DTSTART:20271107T070000
END:STANDARD
END:VTIMEZONE
BEGIN:VEVENT
DTSTART;TZID=America/Chicago:20260202T100000
DTEND;TZID=America/Chicago:20260202T140000
DTSTAMP:20260423T063718
CREATED:20250301T230244Z
LAST-MODIFIED:20250301T230244Z
UID:10001283-1770026400-1770040800@centralalaa.org
SUMMARY:Central Office Open (Except Holidays)
DESCRIPTION:828 Forest Ave\, Montgomery\, AL 36106
URL:https://centralalaa.org/single-event/central-office-open-except-holidays/2026-02-02
LOCATION:Central Office\, 828 Forest Ave\, Montgomery\, AL\, 36106
END:VEVENT
BEGIN:VEVENT
DTSTART;TZID=America/Chicago:20260202T180000
DTEND;TZID=America/Chicago:20260202T190000
DTSTAMP:20260423T063718
CREATED:20250816T013304Z
LAST-MODIFIED:20250816T013308Z
UID:10003036-1770055200-1770058800@centralalaa.org
SUMMARY:District 8 Public Information (PI) Committee
DESCRIPTION:Please join to discuss ongoing projects in Public Information. District Committee meets at Legacies\, first Monday of each month\, 6:00-7:00. In-person and on Zoom.
URL:https://centralalaa.org/single-event/district-public-information-pi-committee-2-2/2026-02-02
LOCATION:Legacies and Zoom\, 3412 Atlanta Highway\, Montgomery\, AL\, 36109\, United States
END:VEVENT
BEGIN:VEVENT
DTSTART;TZID=America/Chicago:20260202T190000
DTEND;TZID=America/Chicago:20260202T200000
DTSTAMP:20260423T063718
CREATED:20260131T164617Z
LAST-MODIFIED:20260131T164756Z
UID:10003648-1770058800-1770062400@centralalaa.org
SUMMARY:Web site committee Discussion
DESCRIPTION:Web site committee Discussion.  \n2/2/2026 @ 7pm. \nLocation: District Zoom Meeting. \nhttps://us06web.zoom.us/j/2762630376
URL:https://centralalaa.org/single-event/web-site-committee-discussion
LOCATION:via Zoom
CATEGORIES:Service Events
ORGANIZER;CN="District 8 Web Chair":MAILTO:webchair@centralalaa.org
END:VEVENT
BEGIN:VEVENT
DTSTART;TZID=America/Chicago:20260204T100000
DTEND;TZID=America/Chicago:20260204T140000
DTSTAMP:20260423T063718
CREATED:20250301T230449Z
LAST-MODIFIED:20250301T230449Z
UID:10001336-1770199200-1770213600@centralalaa.org
SUMMARY:Central Office Open
DESCRIPTION:
URL:https://centralalaa.org/single-event/central-office-open/2026-02-04
LOCATION:Central Office\, 828 Forest Ave\, Montgomery\, AL\, 36106
END:VEVENT
BEGIN:VEVENT
DTSTART;TZID=America/Chicago:20260207T133000
DTEND;TZID=America/Chicago:20260207T143000
DTSTAMP:20260423T063718
CREATED:20260122T205355Z
LAST-MODIFIED:20260122T205355Z
UID:10003592-1770471000-1770474600@centralalaa.org
SUMMARY:District 8 Archives Committee Meeting
DESCRIPTION:
URL:https://centralalaa.org/single-event/district-8-archives-committee-meeting-4
LOCATION:Happy Hour Group\, 3466 Eastdale Circle\, Montgomery\, AL\, 36117\, United States
ORGANIZER;CN="District 8 Archives Committee":MAILTO:archives@centralalaa.org
GEO:32.3853615;-86.2014771
X-APPLE-STRUCTURED-LOCATION;VALUE=URI;X-ADDRESS=Happy Hour Group 3466 Eastdale Circle Montgomery AL 36117 United States;X-APPLE-RADIUS=500;X-TITLE=3466 Eastdale Circle:geo:-86.2014771,32.3853615
END:VEVENT
BEGIN:VEVENT
DTSTART;TZID=America/Chicago:20260208T133000
DTEND;TZID=America/Chicago:20260208T143000
DTSTAMP:20260423T063718
CREATED:20260120T174150Z
LAST-MODIFIED:20260207T191657Z
UID:10003591-1770557400-1770561000@centralalaa.org
SUMMARY:Big Book Comes Alive Committee Meeting
DESCRIPTION:This committee will plan the Big Book Comes Alive event.  Intergroup Zoom 276 263 0376.
URL:https://centralalaa.org/single-event/big-book-comes-alive-committee-meeting
LOCATION:Legacies Meeting Space\, 3412 Atlanta Highway\, Montgomery\, AL\, 36109\, United States
GEO:32.3841815;-86.2582272
X-APPLE-STRUCTURED-LOCATION;VALUE=URI;X-ADDRESS=Legacies Meeting Space 3412 Atlanta Highway Montgomery AL 36109 United States;X-APPLE-RADIUS=500;X-TITLE=3412 Atlanta Highway:geo:-86.2582272,32.3841815
END:VEVENT
BEGIN:VEVENT
DTSTART;TZID=America/Chicago:20260209T100000
DTEND;TZID=America/Chicago:20260209T140000
DTSTAMP:20260423T063718
CREATED:20250301T230244Z
LAST-MODIFIED:20250301T230244Z
UID:10001284-1770631200-1770645600@centralalaa.org
SUMMARY:Central Office Open (Except Holidays)
DESCRIPTION:828 Forest Ave\, Montgomery\, AL 36106
URL:https://centralalaa.org/single-event/central-office-open-except-holidays/2026-02-09
LOCATION:Central Office\, 828 Forest Ave\, Montgomery\, AL\, 36106
END:VEVENT
BEGIN:VEVENT
DTSTART;TZID=America/Chicago:20260209T190000
DTEND;TZID=America/Chicago:20260209T200000
DTSTAMP:20260423T063718
CREATED:20260206T173841Z
LAST-MODIFIED:20260206T174144Z
UID:10003649-1770663600-1770667200@centralalaa.org
SUMMARY:AA Area 1 Pre-Conference Workshop
DESCRIPTION:Screenshot
URL:https://centralalaa.org/single-event/aa-area-1-pre-conference-workshop
LOCATION:via Zoom
CATEGORIES:Events
END:VEVENT
BEGIN:VEVENT
DTSTART;TZID=America/Chicago:20260211T100000
DTEND;TZID=America/Chicago:20260211T140000
DTSTAMP:20260423T063718
CREATED:20250301T230449Z
LAST-MODIFIED:20250301T230449Z
UID:10001337-1770804000-1770818400@centralalaa.org
SUMMARY:Central Office Open
DESCRIPTION:
URL:https://centralalaa.org/single-event/central-office-open/2026-02-11
LOCATION:Central Office\, 828 Forest Ave\, Montgomery\, AL\, 36106
END:VEVENT
BEGIN:VEVENT
DTSTART;TZID=America/Chicago:20260211T190000
DTEND;TZID=America/Chicago:20260211T200000
DTSTAMP:20260423T063718
CREATED:20260206T174017Z
LAST-MODIFIED:20260206T174017Z
UID:10003650-1770836400-1770840000@centralalaa.org
SUMMARY:AA Area 1 Pre-Conference Workshop
DESCRIPTION:Screenshot
URL:https://centralalaa.org/single-event/aa-area-1-pre-conference-workshop-2
LOCATION:via Zoom
CATEGORIES:Events
END:VEVENT
BEGIN:VEVENT
DTSTART;TZID=America/Chicago:20260215T133000
DTEND;TZID=America/Chicago:20260215T143000
DTSTAMP:20260423T063718
CREATED:20260105T192421Z
LAST-MODIFIED:20260105T192421Z
UID:10003369-1771162200-1771165800@centralalaa.org
SUMMARY:24hr Hotline Committee Meeting
DESCRIPTION:24hr Hotline Committee Meeting \n3rd Sunday of the Month \n130pm online \nZoom ID: 276 263 0376
URL:https://centralalaa.org/single-event/24hr-hotline-committee-meeting/2026-02-15
LOCATION:via Zoom
CATEGORIES:Service Events
END:VEVENT
BEGIN:VEVENT
DTSTART;TZID=America/Chicago:20260215T150000
DTEND;TZID=America/Chicago:20260215T160000
DTSTAMP:20260423T063718
CREATED:20260209T180842Z
LAST-MODIFIED:20260209T182107Z
UID:10003651-1771167600-1771171200@centralalaa.org
SUMMARY:BBCA - Planning committee meeting.
DESCRIPTION:BBCA \nFebruary 15\, 2026 3:00 PM \nPlanning committee meeting. \nLegacies \nMeeting will be hybrid using Intergroup zoom \nZoom ID: 276 263 0376
URL:https://centralalaa.org/single-event/bbca-planning-committee-meeting
LOCATION:Legacies Meeting Space\, 3412 Atlanta Highway\, Montgomery\, AL\, 36109\, United States
CATEGORIES:Service Events
GEO:32.3841815;-86.2582272
X-APPLE-STRUCTURED-LOCATION;VALUE=URI;X-ADDRESS=Legacies Meeting Space 3412 Atlanta Highway Montgomery AL 36109 United States;X-APPLE-RADIUS=500;X-TITLE=3412 Atlanta Highway:geo:-86.2582272,32.3841815
END:VEVENT
BEGIN:VEVENT
DTSTART;TZID=America/Chicago:20260216T100000
DTEND;TZID=America/Chicago:20260216T140000
DTSTAMP:20260423T063718
CREATED:20250301T230244Z
LAST-MODIFIED:20250301T230244Z
UID:10001285-1771236000-1771250400@centralalaa.org
SUMMARY:Central Office Open (Except Holidays)
DESCRIPTION:828 Forest Ave\, Montgomery\, AL 36106
URL:https://centralalaa.org/single-event/central-office-open-except-holidays/2026-02-16
LOCATION:Central Office\, 828 Forest Ave\, Montgomery\, AL\, 36106
END:VEVENT
BEGIN:VEVENT
DTSTART;TZID=America/Chicago:20260218T100000
DTEND;TZID=America/Chicago:20260218T140000
DTSTAMP:20260423T063718
CREATED:20250301T230449Z
LAST-MODIFIED:20250301T230449Z
UID:10001338-1771408800-1771423200@centralalaa.org
SUMMARY:Central Office Open
DESCRIPTION:
URL:https://centralalaa.org/single-event/central-office-open/2026-02-18
LOCATION:Central Office\, 828 Forest Ave\, Montgomery\, AL\, 36106
END:VEVENT
BEGIN:VEVENT
DTSTART;TZID=America/Chicago:20260221T103000
DTEND;TZID=America/Chicago:20260221T113000
DTSTAMP:20260423T063718
CREATED:20260105T192731Z
LAST-MODIFIED:20260217T200953Z
UID:10003707-1771669800-1771673400@centralalaa.org
SUMMARY:Corrections/Treatment Committee Meeting
DESCRIPTION:Corrections/Treatment Committee Meeting \nEvery 3rd Saturday at 1030am \nLegacies and on Zoom \nZoom ID: 7987279234\nPW: Awakening
URL:https://centralalaa.org/single-event/corrections-treatment-committee-meeting/2026-02-21
LOCATION:Legacies and Zoom\, 3412 Atlanta Highway\, Montgomery\, AL\, 36109\, United States
CATEGORIES:Service Events
END:VEVENT
BEGIN:VEVENT
DTSTART;TZID=America/Chicago:20260221T180000
DTEND;TZID=America/Chicago:20260221T210000
DTSTAMP:20260423T063718
CREATED:20260126T122817Z
LAST-MODIFIED:20260126T123124Z
UID:10003645-1771696800-1771707600@centralalaa.org
SUMMARY:Gumpypaa / Mask Off Sober Gras
DESCRIPTION:
URL:https://centralalaa.org/single-event/gumpypaa-mask-off-sober-gras
LOCATION:Eastern HIlls Baptist Church\, 3604 Pleasant Ridge Road\, Montgomery\, AL\, 36109\, United States
CATEGORIES:Service Events
END:VEVENT
BEGIN:VEVENT
DTSTART;TZID=America/Chicago:20260222T133000
DTEND;TZID=America/Chicago:20260222T143000
DTSTAMP:20260423T063718
CREATED:20260105T191931Z
LAST-MODIFIED:20260125T195507Z
UID:10003594-1771767000-1771770600@centralalaa.org
SUMMARY:Website Committee Meeting
DESCRIPTION:Last Sunday of each month. \n130p on Zoom. \n276 263 0376 \nhttps://us06web.zoom.us/j/2762630376
URL:https://centralalaa.org/single-event/website-committee-meeting/2026-02-22
LOCATION:via Zoom
CATEGORIES:Service Events
END:VEVENT
BEGIN:VEVENT
DTSTART;TZID=America/Chicago:20260223T100000
DTEND;TZID=America/Chicago:20260223T140000
DTSTAMP:20260423T063718
CREATED:20250301T230244Z
LAST-MODIFIED:20250301T230244Z
UID:10001286-1771840800-1771855200@centralalaa.org
SUMMARY:Central Office Open (Except Holidays)
DESCRIPTION:828 Forest Ave\, Montgomery\, AL 36106
URL:https://centralalaa.org/single-event/central-office-open-except-holidays/2026-02-23
LOCATION:Central Office\, 828 Forest Ave\, Montgomery\, AL\, 36106
END:VEVENT
BEGIN:VEVENT
DTSTART;TZID=America/Chicago:20260224T190000
DTEND;TZID=America/Chicago:20260224T200000
DTSTAMP:20260423T063718
CREATED:20260128T202141Z
LAST-MODIFIED:20260128T202141Z
UID:10003646-1771959600-1771963200@centralalaa.org
SUMMARY:Area 1 Literature Committee Workshop
DESCRIPTION:Area_201_20Literature_20Committee_20Flyer_202026_20Q1 (1)
URL:https://centralalaa.org/single-event/area-1-literature-committee-workshop
LOCATION:via Zoom
END:VEVENT
BEGIN:VEVENT
DTSTART;TZID=America/Chicago:20260225T100000
DTEND;TZID=America/Chicago:20260225T140000
DTSTAMP:20260423T063718
CREATED:20250301T230449Z
LAST-MODIFIED:20250301T230449Z
UID:10001339-1772013600-1772028000@centralalaa.org
SUMMARY:Central Office Open
DESCRIPTION:
URL:https://centralalaa.org/single-event/central-office-open/2026-02-25
LOCATION:Central Office\, 828 Forest Ave\, Montgomery\, AL\, 36106
END:VEVENT
BEGIN:VEVENT
DTSTART;TZID=America/Chicago:20260226T120000
DTEND;TZID=America/Chicago:20260226T130000
DTSTAMP:20260423T063718
CREATED:20250525T232631Z
LAST-MODIFIED:20250525T232631Z
UID:10002339-1772107200-1772110800@centralalaa.org
SUMMARY:Autauga SOS Noon Pot Luck and Speaker Meeting
DESCRIPTION:Autauga SOS Noon Pot Luck and Speaker Meeting \nLast Thursday of the Month at Noon \nSpeaker and Pot Luck
URL:https://centralalaa.org/single-event/autauga-sos-noon-pot-luck-and-speaker-meeting/2026-02-26
LOCATION:St Marks Episcopal Church\, 178 E 4th St\, Prattville\, AL\, 36067\, United States
CATEGORIES:Events,Fellowship Events
END:VEVENT
END:VCALENDAR