BEGIN:VCALENDAR
VERSION:2.0
PRODID:-//District 8, Area 1 - ECPv6.15.20//NONSGML v1.0//EN
CALSCALE:GREGORIAN
METHOD:PUBLISH
X-ORIGINAL-URL:https://centralalaa.org
X-WR-CALDESC:Events for District 8, Area 1
REFRESH-INTERVAL;VALUE=DURATION:PT1H
X-Robots-Tag:noindex
X-PUBLISHED-TTL:PT1H
BEGIN:VTIMEZONE
TZID:America/Chicago
BEGIN:DAYLIGHT
TZOFFSETFROM:-0600
TZOFFSETTO:-0500
TZNAME:CDT
DTSTART:20240310T080000
END:DAYLIGHT
BEGIN:STANDARD
TZOFFSETFROM:-0500
TZOFFSETTO:-0600
TZNAME:CST
DTSTART:20241103T070000
END:STANDARD
BEGIN:DAYLIGHT
TZOFFSETFROM:-0600
TZOFFSETTO:-0500
TZNAME:CDT
DTSTART:20250309T080000
END:DAYLIGHT
BEGIN:STANDARD
TZOFFSETFROM:-0500
TZOFFSETTO:-0600
TZNAME:CST
DTSTART:20251102T070000
END:STANDARD
BEGIN:DAYLIGHT
TZOFFSETFROM:-0600
TZOFFSETTO:-0500
TZNAME:CDT
DTSTART:20260308T080000
END:DAYLIGHT
BEGIN:STANDARD
TZOFFSETFROM:-0500
TZOFFSETTO:-0600
TZNAME:CST
DTSTART:20261101T070000
END:STANDARD
BEGIN:DAYLIGHT
TZOFFSETFROM:-0600
TZOFFSETTO:-0500
TZNAME:CDT
DTSTART:20270314T080000
END:DAYLIGHT
BEGIN:STANDARD
TZOFFSETFROM:-0500
TZOFFSETTO:-0600
TZNAME:CST
DTSTART:20271107T070000
END:STANDARD
END:VTIMEZONE
BEGIN:VEVENT
DTSTART;TZID=America/Chicago:20260406T180000
DTEND;TZID=America/Chicago:20260406T190000
DTSTAMP:20260423T080654
CREATED:20250816T013304Z
LAST-MODIFIED:20250816T013308Z
UID:10003038-1775498400-1775502000@centralalaa.org
SUMMARY:District 8 Public Information (PI) Committee
DESCRIPTION:Please join to discuss ongoing projects in Public Information. District Committee meets at Legacies\, first Monday of each month\, 6:00-7:00. In-person and on Zoom.
URL:https://centralalaa.org/single-event/district-public-information-pi-committee-2-2/2026-04-06
LOCATION:Legacies and Zoom\, 3412 Atlanta Highway\, Montgomery\, AL\, 36109\, United States
END:VEVENT
BEGIN:VEVENT
DTSTART;TZID=America/Chicago:20260302T180000
DTEND;TZID=America/Chicago:20260302T190000
DTSTAMP:20260423T080654
CREATED:20250816T013304Z
LAST-MODIFIED:20250816T013308Z
UID:10003037-1772474400-1772478000@centralalaa.org
SUMMARY:District 8 Public Information (PI) Committee
DESCRIPTION:Please join to discuss ongoing projects in Public Information. District Committee meets at Legacies\, first Monday of each month\, 6:00-7:00. In-person and on Zoom.
URL:https://centralalaa.org/single-event/district-public-information-pi-committee-2-2/2026-03-02
LOCATION:Legacies and Zoom\, 3412 Atlanta Highway\, Montgomery\, AL\, 36109\, United States
END:VEVENT
BEGIN:VEVENT
DTSTART;TZID=America/Chicago:20260202T180000
DTEND;TZID=America/Chicago:20260202T190000
DTSTAMP:20260423T080654
CREATED:20250816T013304Z
LAST-MODIFIED:20250816T013308Z
UID:10003036-1770055200-1770058800@centralalaa.org
SUMMARY:District 8 Public Information (PI) Committee
DESCRIPTION:Please join to discuss ongoing projects in Public Information. District Committee meets at Legacies\, first Monday of each month\, 6:00-7:00. In-person and on Zoom.
URL:https://centralalaa.org/single-event/district-public-information-pi-committee-2-2/2026-02-02
LOCATION:Legacies and Zoom\, 3412 Atlanta Highway\, Montgomery\, AL\, 36109\, United States
END:VEVENT
BEGIN:VEVENT
DTSTART;TZID=America/Chicago:20260105T180000
DTEND;TZID=America/Chicago:20260105T190000
DTSTAMP:20260423T080654
CREATED:20250816T013304Z
LAST-MODIFIED:20250816T013308Z
UID:10003035-1767636000-1767639600@centralalaa.org
SUMMARY:District 8 Public Information (PI) Committee
DESCRIPTION:Please join to discuss ongoing projects in Public Information. District Committee meets at Legacies\, first Monday of each month\, 6:00-7:00. In-person and on Zoom.
URL:https://centralalaa.org/single-event/district-public-information-pi-committee-2-2/2026-01-05
LOCATION:Legacies and Zoom\, 3412 Atlanta Highway\, Montgomery\, AL\, 36109\, United States
END:VEVENT
BEGIN:VEVENT
DTSTART;TZID=America/Chicago:20251201T180000
DTEND;TZID=America/Chicago:20251201T190000
DTSTAMP:20260423T080654
CREATED:20250816T013304Z
LAST-MODIFIED:20250816T013308Z
UID:10003034-1764612000-1764615600@centralalaa.org
SUMMARY:District 8 Public Information (PI) Committee
DESCRIPTION:Please join to discuss ongoing projects in Public Information. District Committee meets at Legacies\, first Monday of each month\, 6:00-7:00. In-person and on Zoom.
URL:https://centralalaa.org/single-event/district-public-information-pi-committee-2-2/2025-12-01
LOCATION:Legacies and Zoom\, 3412 Atlanta Highway\, Montgomery\, AL\, 36109\, United States
END:VEVENT
BEGIN:VEVENT
DTSTART;TZID=America/Chicago:20251103T180000
DTEND;TZID=America/Chicago:20251103T190000
DTSTAMP:20260423T080654
CREATED:20250816T013304Z
LAST-MODIFIED:20250816T013308Z
UID:10003033-1762192800-1762196400@centralalaa.org
SUMMARY:District 8 Public Information (PI) Committee
DESCRIPTION:Please join to discuss ongoing projects in Public Information. District Committee meets at Legacies\, first Monday of each month\, 6:00-7:00. In-person and on Zoom.
URL:https://centralalaa.org/single-event/district-public-information-pi-committee-2-2/2025-11-03
LOCATION:Legacies and Zoom\, 3412 Atlanta Highway\, Montgomery\, AL\, 36109\, United States
END:VEVENT
BEGIN:VEVENT
DTSTART;TZID=America/Chicago:20251006T180000
DTEND;TZID=America/Chicago:20251006T190000
DTSTAMP:20260423T080654
CREATED:20250816T013304Z
LAST-MODIFIED:20250816T013308Z
UID:10003032-1759773600-1759777200@centralalaa.org
SUMMARY:District 8 Public Information (PI) Committee
DESCRIPTION:Please join to discuss ongoing projects in Public Information. District Committee meets at Legacies\, first Monday of each month\, 6:00-7:00. In-person and on Zoom.
URL:https://centralalaa.org/single-event/district-public-information-pi-committee-2-2/2025-10-06
LOCATION:Legacies and Zoom\, 3412 Atlanta Highway\, Montgomery\, AL\, 36109\, United States
END:VEVENT
BEGIN:VEVENT
DTSTART;TZID=America/Chicago:20250908T180000
DTEND;TZID=America/Chicago:20250908T190000
DTSTAMP:20260423T080654
CREATED:20250816T013034Z
LAST-MODIFIED:20250816T013038Z
UID:10003002-1757354400-1757358000@centralalaa.org
SUMMARY:District 8 Public Information (PI) Committee
DESCRIPTION:Please join to discuss ongoing projects in Public Information. District Committee meets at Legacies\, first Monday of each month\, 6:00-7:00. In-person and on Zoom.
URL:https://centralalaa.org/single-event/district-public-information-pi-committee-2
LOCATION:Legacies and Zoom\, 3412 Atlanta Highway\, Montgomery\, AL\, 36109\, United States
END:VEVENT
BEGIN:VEVENT
DTSTART;TZID=America/Chicago:20250804T180000
DTEND;TZID=America/Chicago:20250804T190000
DTSTAMP:20260423T080654
CREATED:20250721T162506Z
LAST-MODIFIED:20250721T162741Z
UID:10002732-1754330400-1754334000@centralalaa.org
SUMMARY:District 8 Public Information (PI) Committee
DESCRIPTION:Please join to discuss ongoing projects in Public Information. District Committee meets at Legacies\, first Monday of each month\, 6:00-7:00. In-person and on Zoom.
URL:https://centralalaa.org/single-event/district-public-information-pi-committee
LOCATION:Legacies and Zoom\, 3412 Atlanta Highway\, Montgomery\, AL\, 36109\, United States
END:VEVENT
END:VCALENDAR