BEGIN:VCALENDAR
VERSION:2.0
PRODID:-//District 8, Area 1 - ECPv6.15.20//NONSGML v1.0//EN
CALSCALE:GREGORIAN
METHOD:PUBLISH
X-ORIGINAL-URL:https://centralalaa.org
X-WR-CALDESC:Events for District 8, Area 1
REFRESH-INTERVAL;VALUE=DURATION:PT1H
X-Robots-Tag:noindex
X-PUBLISHED-TTL:PT1H
BEGIN:VTIMEZONE
TZID:America/Chicago
BEGIN:DAYLIGHT
TZOFFSETFROM:-0600
TZOFFSETTO:-0500
TZNAME:CDT
DTSTART:20240310T080000
END:DAYLIGHT
BEGIN:STANDARD
TZOFFSETFROM:-0500
TZOFFSETTO:-0600
TZNAME:CST
DTSTART:20241103T070000
END:STANDARD
BEGIN:DAYLIGHT
TZOFFSETFROM:-0600
TZOFFSETTO:-0500
TZNAME:CDT
DTSTART:20250309T080000
END:DAYLIGHT
BEGIN:STANDARD
TZOFFSETFROM:-0500
TZOFFSETTO:-0600
TZNAME:CST
DTSTART:20251102T070000
END:STANDARD
BEGIN:DAYLIGHT
TZOFFSETFROM:-0600
TZOFFSETTO:-0500
TZNAME:CDT
DTSTART:20260308T080000
END:DAYLIGHT
BEGIN:STANDARD
TZOFFSETFROM:-0500
TZOFFSETTO:-0600
TZNAME:CST
DTSTART:20261101T070000
END:STANDARD
END:VTIMEZONE
BEGIN:VEVENT
DTSTART;TZID=America/Chicago:20251107T173000
DTEND;TZID=America/Chicago:20251107T190000
DTSTAMP:20260423T122554
CREATED:20251030T155523Z
LAST-MODIFIED:20251030T155523Z
UID:10003076-1762536600-1762542000@centralalaa.org
SUMMARY:Happy Hour Eat and Speak
DESCRIPTION:
URL:https://centralalaa.org/single-event/happy-hour-eat-and-speak
LOCATION:Happy Hour Group\, 3466 Eastdale Circle\, Montgomery\, AL\, 36117\, United States
ORGANIZER;CN="Happy Hour Group":MAILTO:Intergroup.Chair@centralalaa.org
GEO:32.3853615;-86.2014771
X-APPLE-STRUCTURED-LOCATION;VALUE=URI;X-ADDRESS=Happy Hour Group 3466 Eastdale Circle Montgomery AL 36117 United States;X-APPLE-RADIUS=500;X-TITLE=3466 Eastdale Circle:geo:-86.2014771,32.3853615
END:VEVENT
BEGIN:VEVENT
DTSTART;TZID=America/Chicago:20250801T180000
DTEND;TZID=America/Chicago:20250801T200000
DTSTAMP:20260423T122554
CREATED:20250723T161059Z
LAST-MODIFIED:20250723T161059Z
UID:10002782-1754071200-1754078400@centralalaa.org
SUMMARY:Happy Hour Eat & Speak
DESCRIPTION:
URL:https://centralalaa.org/single-event/happy-hour-eat-speak
LOCATION:Happy Hour Group\, 3466 Eastdale Circle\, Montgomery\, AL\, 36117\, United States
ORGANIZER;CN="Happy Hour Group":MAILTO:Intergroup.Chair@centralalaa.org
GEO:32.3853615;-86.2014771
X-APPLE-STRUCTURED-LOCATION;VALUE=URI;X-ADDRESS=Happy Hour Group 3466 Eastdale Circle Montgomery AL 36117 United States;X-APPLE-RADIUS=500;X-TITLE=3466 Eastdale Circle:geo:-86.2014771,32.3853615
END:VEVENT
BEGIN:VEVENT
DTSTART;TZID=America/Chicago:20250606T180000
DTEND;TZID=America/Chicago:20250606T200000
DTSTAMP:20260423T122554
CREATED:20250530T161149Z
LAST-MODIFIED:20250530T161149Z
UID:10002386-1749232800-1749240000@centralalaa.org
SUMMARY:Happy Hour\, June Eat and Speak
DESCRIPTION:
URL:https://centralalaa.org/single-event/happy-hour-june-eat-and-speak
CATEGORIES:Events,Fellowship Events
ORGANIZER;CN="Happy Hour Group":MAILTO:Intergroup.Chair@centralalaa.org
END:VEVENT
BEGIN:VEVENT
DTSTART;TZID=America/Chicago:20250502T180000
DTEND;TZID=America/Chicago:20250502T200000
DTSTAMP:20260423T122554
CREATED:20250427T192927Z
LAST-MODIFIED:20250427T192958Z
UID:10002166-1746208800-1746216000@centralalaa.org
SUMMARY:Happy Hour May Eat and Speak
DESCRIPTION:Dinner begins at 6pm with Make Your Own Deli Sandwiches. Please sign up for chips/dips\, dessert or drinks! \nSpeaker is SAM N. \nPlease join us!!!
URL:https://centralalaa.org/single-event/happy-hour-may-eat-and-speak
LOCATION:Happy Hour Group\, 3466 Eastdale Circle\, Montgomery\, AL\, 36117\, United States
ORGANIZER;CN="Happy Hour Group":MAILTO:Intergroup.Chair@centralalaa.org
GEO:32.3853615;-86.2014771
X-APPLE-STRUCTURED-LOCATION;VALUE=URI;X-ADDRESS=Happy Hour Group 3466 Eastdale Circle Montgomery AL 36117 United States;X-APPLE-RADIUS=500;X-TITLE=3466 Eastdale Circle:geo:-86.2014771,32.3853615
END:VEVENT
END:VCALENDAR