BEGIN:VCALENDAR
VERSION:2.0
PRODID:-//District 8, Area 1 - ECPv6.15.20//NONSGML v1.0//EN
CALSCALE:GREGORIAN
METHOD:PUBLISH
X-ORIGINAL-URL:https://centralalaa.org
X-WR-CALDESC:Events for District 8, Area 1
REFRESH-INTERVAL;VALUE=DURATION:PT1H
X-Robots-Tag:noindex
X-PUBLISHED-TTL:PT1H
BEGIN:VTIMEZONE
TZID:America/Chicago
BEGIN:DAYLIGHT
TZOFFSETFROM:-0600
TZOFFSETTO:-0500
TZNAME:CDT
DTSTART:20250309T080000
END:DAYLIGHT
BEGIN:STANDARD
TZOFFSETFROM:-0500
TZOFFSETTO:-0600
TZNAME:CST
DTSTART:20251102T070000
END:STANDARD
BEGIN:DAYLIGHT
TZOFFSETFROM:-0600
TZOFFSETTO:-0500
TZNAME:CDT
DTSTART:20260308T080000
END:DAYLIGHT
BEGIN:STANDARD
TZOFFSETFROM:-0500
TZOFFSETTO:-0600
TZNAME:CST
DTSTART:20261101T070000
END:STANDARD
BEGIN:DAYLIGHT
TZOFFSETFROM:-0600
TZOFFSETTO:-0500
TZNAME:CDT
DTSTART:20270314T080000
END:DAYLIGHT
BEGIN:STANDARD
TZOFFSETFROM:-0500
TZOFFSETTO:-0600
TZNAME:CST
DTSTART:20271107T070000
END:STANDARD
END:VTIMEZONE
BEGIN:VEVENT
DTSTART;TZID=America/Chicago:20260427T100000
DTEND;TZID=America/Chicago:20260427T140000
DTSTAMP:20260423T061734
CREATED:20260416T181911Z
LAST-MODIFIED:20260416T182034Z
UID:10003828-1777284000-1777298400@centralalaa.org
SUMMARY:Central Office Open
DESCRIPTION:Central office open
URL:https://centralalaa.org/single-event/central-office-open-1000am-200pm/2026-04-27
LOCATION:Central Office\, 828 Forest Ave\, Montgomery\, AL\, 36106
END:VEVENT
BEGIN:VEVENT
DTSTART;TZID=America/Chicago:20260429T100000
DTEND;TZID=America/Chicago:20260429T140000
DTSTAMP:20260423T061734
CREATED:20250301T230449Z
LAST-MODIFIED:20250301T230449Z
UID:10001348-1777456800-1777471200@centralalaa.org
SUMMARY:Central Office Open
DESCRIPTION:
URL:https://centralalaa.org/single-event/central-office-open/2026-04-29
LOCATION:Central Office\, 828 Forest Ave\, Montgomery\, AL\, 36106
END:VEVENT
BEGIN:VEVENT
DTSTART;TZID=America/Chicago:20260504T100000
DTEND;TZID=America/Chicago:20260504T140000
DTSTAMP:20260423T061734
CREATED:20260416T181911Z
LAST-MODIFIED:20260416T182034Z
UID:10003829-1777888800-1777903200@centralalaa.org
SUMMARY:Central Office Open
DESCRIPTION:Central office open
URL:https://centralalaa.org/single-event/central-office-open-1000am-200pm/2026-05-04
LOCATION:Central Office\, 828 Forest Ave\, Montgomery\, AL\, 36106
END:VEVENT
BEGIN:VEVENT
DTSTART;TZID=America/Chicago:20260506T100000
DTEND;TZID=America/Chicago:20260506T140000
DTSTAMP:20260423T061734
CREATED:20250301T230449Z
LAST-MODIFIED:20250301T230449Z
UID:10001349-1778061600-1778076000@centralalaa.org
SUMMARY:Central Office Open
DESCRIPTION:
URL:https://centralalaa.org/single-event/central-office-open/2026-05-06
LOCATION:Central Office\, 828 Forest Ave\, Montgomery\, AL\, 36106
END:VEVENT
BEGIN:VEVENT
DTSTART;TZID=America/Chicago:20260511T100000
DTEND;TZID=America/Chicago:20260511T140000
DTSTAMP:20260423T061734
CREATED:20260416T181911Z
LAST-MODIFIED:20260416T182034Z
UID:10003830-1778493600-1778508000@centralalaa.org
SUMMARY:Central Office Open
DESCRIPTION:Central office open
URL:https://centralalaa.org/single-event/central-office-open-1000am-200pm/2026-05-11
LOCATION:Central Office\, 828 Forest Ave\, Montgomery\, AL\, 36106
END:VEVENT
BEGIN:VEVENT
DTSTART;TZID=America/Chicago:20260513T100000
DTEND;TZID=America/Chicago:20260513T140000
DTSTAMP:20260423T061734
CREATED:20250301T230449Z
LAST-MODIFIED:20250301T230449Z
UID:10001350-1778666400-1778680800@centralalaa.org
SUMMARY:Central Office Open
DESCRIPTION:
URL:https://centralalaa.org/single-event/central-office-open/2026-05-13
LOCATION:Central Office\, 828 Forest Ave\, Montgomery\, AL\, 36106
END:VEVENT
BEGIN:VEVENT
DTSTART;TZID=America/Chicago:20260518T100000
DTEND;TZID=America/Chicago:20260518T140000
DTSTAMP:20260423T061734
CREATED:20260416T181911Z
LAST-MODIFIED:20260416T182034Z
UID:10003831-1779098400-1779112800@centralalaa.org
SUMMARY:Central Office Open
DESCRIPTION:Central office open
URL:https://centralalaa.org/single-event/central-office-open-1000am-200pm/2026-05-18
LOCATION:Central Office\, 828 Forest Ave\, Montgomery\, AL\, 36106
END:VEVENT
BEGIN:VEVENT
DTSTART;TZID=America/Chicago:20260520T100000
DTEND;TZID=America/Chicago:20260520T140000
DTSTAMP:20260423T061734
CREATED:20250301T230449Z
LAST-MODIFIED:20250301T230449Z
UID:10001351-1779271200-1779285600@centralalaa.org
SUMMARY:Central Office Open
DESCRIPTION:
URL:https://centralalaa.org/single-event/central-office-open/2026-05-20
LOCATION:Central Office\, 828 Forest Ave\, Montgomery\, AL\, 36106
END:VEVENT
BEGIN:VEVENT
DTSTART;TZID=America/Chicago:20260525T100000
DTEND;TZID=America/Chicago:20260525T140000
DTSTAMP:20260423T061734
CREATED:20260416T181911Z
LAST-MODIFIED:20260416T182034Z
UID:10003832-1779703200-1779717600@centralalaa.org
SUMMARY:Central Office Open
DESCRIPTION:Central office open
URL:https://centralalaa.org/single-event/central-office-open-1000am-200pm/2026-05-25
LOCATION:Central Office\, 828 Forest Ave\, Montgomery\, AL\, 36106
END:VEVENT
BEGIN:VEVENT
DTSTART;TZID=America/Chicago:20260527T100000
DTEND;TZID=America/Chicago:20260527T140000
DTSTAMP:20260423T061734
CREATED:20250301T230449Z
LAST-MODIFIED:20250301T230449Z
UID:10001352-1779876000-1779890400@centralalaa.org
SUMMARY:Central Office Open
DESCRIPTION:
URL:https://centralalaa.org/single-event/central-office-open/2026-05-27
LOCATION:Central Office\, 828 Forest Ave\, Montgomery\, AL\, 36106
END:VEVENT
BEGIN:VEVENT
DTSTART;TZID=America/Chicago:20260601T100000
DTEND;TZID=America/Chicago:20260601T140000
DTSTAMP:20260423T061734
CREATED:20260416T181911Z
LAST-MODIFIED:20260416T182034Z
UID:10003833-1780308000-1780322400@centralalaa.org
SUMMARY:Central Office Open
DESCRIPTION:Central office open
URL:https://centralalaa.org/single-event/central-office-open-1000am-200pm/2026-06-01
LOCATION:Central Office\, 828 Forest Ave\, Montgomery\, AL\, 36106
END:VEVENT
BEGIN:VEVENT
DTSTART;TZID=America/Chicago:20260603T100000
DTEND;TZID=America/Chicago:20260603T140000
DTSTAMP:20260423T061734
CREATED:20250301T230449Z
LAST-MODIFIED:20250301T230449Z
UID:10001353-1780480800-1780495200@centralalaa.org
SUMMARY:Central Office Open
DESCRIPTION:
URL:https://centralalaa.org/single-event/central-office-open/2026-06-03
LOCATION:Central Office\, 828 Forest Ave\, Montgomery\, AL\, 36106
END:VEVENT
BEGIN:VEVENT
DTSTART;TZID=America/Chicago:20260608T100000
DTEND;TZID=America/Chicago:20260608T140000
DTSTAMP:20260423T061734
CREATED:20260416T181911Z
LAST-MODIFIED:20260416T182034Z
UID:10003834-1780912800-1780927200@centralalaa.org
SUMMARY:Central Office Open
DESCRIPTION:Central office open
URL:https://centralalaa.org/single-event/central-office-open-1000am-200pm/2026-06-08
LOCATION:Central Office\, 828 Forest Ave\, Montgomery\, AL\, 36106
END:VEVENT
BEGIN:VEVENT
DTSTART;TZID=America/Chicago:20260610T100000
DTEND;TZID=America/Chicago:20260610T140000
DTSTAMP:20260423T061734
CREATED:20250301T230449Z
LAST-MODIFIED:20250301T230449Z
UID:10001354-1781085600-1781100000@centralalaa.org
SUMMARY:Central Office Open
DESCRIPTION:
URL:https://centralalaa.org/single-event/central-office-open/2026-06-10
LOCATION:Central Office\, 828 Forest Ave\, Montgomery\, AL\, 36106
END:VEVENT
BEGIN:VEVENT
DTSTART;TZID=America/Chicago:20260615T100000
DTEND;TZID=America/Chicago:20260615T140000
DTSTAMP:20260423T061734
CREATED:20260416T181911Z
LAST-MODIFIED:20260416T182034Z
UID:10003835-1781517600-1781532000@centralalaa.org
SUMMARY:Central Office Open
DESCRIPTION:Central office open
URL:https://centralalaa.org/single-event/central-office-open-1000am-200pm/2026-06-15
LOCATION:Central Office\, 828 Forest Ave\, Montgomery\, AL\, 36106
END:VEVENT
BEGIN:VEVENT
DTSTART;TZID=America/Chicago:20260617T100000
DTEND;TZID=America/Chicago:20260617T140000
DTSTAMP:20260423T061734
CREATED:20250301T230449Z
LAST-MODIFIED:20250301T230449Z
UID:10001355-1781690400-1781704800@centralalaa.org
SUMMARY:Central Office Open
DESCRIPTION:
URL:https://centralalaa.org/single-event/central-office-open/2026-06-17
LOCATION:Central Office\, 828 Forest Ave\, Montgomery\, AL\, 36106
END:VEVENT
BEGIN:VEVENT
DTSTART;TZID=America/Chicago:20260622T100000
DTEND;TZID=America/Chicago:20260622T140000
DTSTAMP:20260423T061734
CREATED:20260416T181911Z
LAST-MODIFIED:20260416T182034Z
UID:10003836-1782122400-1782136800@centralalaa.org
SUMMARY:Central Office Open
DESCRIPTION:Central office open
URL:https://centralalaa.org/single-event/central-office-open-1000am-200pm/2026-06-22
LOCATION:Central Office\, 828 Forest Ave\, Montgomery\, AL\, 36106
END:VEVENT
BEGIN:VEVENT
DTSTART;TZID=America/Chicago:20260624T100000
DTEND;TZID=America/Chicago:20260624T140000
DTSTAMP:20260423T061734
CREATED:20250301T230449Z
LAST-MODIFIED:20250301T230449Z
UID:10001356-1782295200-1782309600@centralalaa.org
SUMMARY:Central Office Open
DESCRIPTION:
URL:https://centralalaa.org/single-event/central-office-open/2026-06-24
LOCATION:Central Office\, 828 Forest Ave\, Montgomery\, AL\, 36106
END:VEVENT
BEGIN:VEVENT
DTSTART;TZID=America/Chicago:20260629T100000
DTEND;TZID=America/Chicago:20260629T140000
DTSTAMP:20260423T061734
CREATED:20260416T181911Z
LAST-MODIFIED:20260416T182034Z
UID:10003837-1782727200-1782741600@centralalaa.org
SUMMARY:Central Office Open
DESCRIPTION:Central office open
URL:https://centralalaa.org/single-event/central-office-open-1000am-200pm/2026-06-29
LOCATION:Central Office\, 828 Forest Ave\, Montgomery\, AL\, 36106
END:VEVENT
BEGIN:VEVENT
DTSTART;TZID=America/Chicago:20260701T100000
DTEND;TZID=America/Chicago:20260701T140000
DTSTAMP:20260423T061734
CREATED:20250301T230449Z
LAST-MODIFIED:20250301T230449Z
UID:10001357-1782900000-1782914400@centralalaa.org
SUMMARY:Central Office Open
DESCRIPTION:
URL:https://centralalaa.org/single-event/central-office-open/2026-07-01
LOCATION:Central Office\, 828 Forest Ave\, Montgomery\, AL\, 36106
END:VEVENT
BEGIN:VEVENT
DTSTART;TZID=America/Chicago:20260706T100000
DTEND;TZID=America/Chicago:20260706T140000
DTSTAMP:20260423T061734
CREATED:20260416T181911Z
LAST-MODIFIED:20260416T182034Z
UID:10003838-1783332000-1783346400@centralalaa.org
SUMMARY:Central Office Open
DESCRIPTION:Central office open
URL:https://centralalaa.org/single-event/central-office-open-1000am-200pm/2026-07-06
LOCATION:Central Office\, 828 Forest Ave\, Montgomery\, AL\, 36106
END:VEVENT
BEGIN:VEVENT
DTSTART;TZID=America/Chicago:20260708T100000
DTEND;TZID=America/Chicago:20260708T140000
DTSTAMP:20260423T061734
CREATED:20250301T230449Z
LAST-MODIFIED:20250301T230449Z
UID:10001358-1783504800-1783519200@centralalaa.org
SUMMARY:Central Office Open
DESCRIPTION:
URL:https://centralalaa.org/single-event/central-office-open/2026-07-08
LOCATION:Central Office\, 828 Forest Ave\, Montgomery\, AL\, 36106
END:VEVENT
BEGIN:VEVENT
DTSTART;TZID=America/Chicago:20260713T100000
DTEND;TZID=America/Chicago:20260713T140000
DTSTAMP:20260423T061734
CREATED:20260416T181911Z
LAST-MODIFIED:20260416T182034Z
UID:10003839-1783936800-1783951200@centralalaa.org
SUMMARY:Central Office Open
DESCRIPTION:Central office open
URL:https://centralalaa.org/single-event/central-office-open-1000am-200pm/2026-07-13
LOCATION:Central Office\, 828 Forest Ave\, Montgomery\, AL\, 36106
END:VEVENT
BEGIN:VEVENT
DTSTART;TZID=America/Chicago:20260715T100000
DTEND;TZID=America/Chicago:20260715T140000
DTSTAMP:20260423T061734
CREATED:20250301T230449Z
LAST-MODIFIED:20250301T230449Z
UID:10001359-1784109600-1784124000@centralalaa.org
SUMMARY:Central Office Open
DESCRIPTION:
URL:https://centralalaa.org/single-event/central-office-open/2026-07-15
LOCATION:Central Office\, 828 Forest Ave\, Montgomery\, AL\, 36106
END:VEVENT
BEGIN:VEVENT
DTSTART;TZID=America/Chicago:20260720T100000
DTEND;TZID=America/Chicago:20260720T140000
DTSTAMP:20260423T061734
CREATED:20260416T181911Z
LAST-MODIFIED:20260416T182034Z
UID:10003840-1784541600-1784556000@centralalaa.org
SUMMARY:Central Office Open
DESCRIPTION:Central office open
URL:https://centralalaa.org/single-event/central-office-open-1000am-200pm/2026-07-20
LOCATION:Central Office\, 828 Forest Ave\, Montgomery\, AL\, 36106
END:VEVENT
BEGIN:VEVENT
DTSTART;TZID=America/Chicago:20260722T100000
DTEND;TZID=America/Chicago:20260722T140000
DTSTAMP:20260423T061734
CREATED:20250301T230449Z
LAST-MODIFIED:20250301T230449Z
UID:10001360-1784714400-1784728800@centralalaa.org
SUMMARY:Central Office Open
DESCRIPTION:
URL:https://centralalaa.org/single-event/central-office-open/2026-07-22
LOCATION:Central Office\, 828 Forest Ave\, Montgomery\, AL\, 36106
END:VEVENT
BEGIN:VEVENT
DTSTART;TZID=America/Chicago:20260727T100000
DTEND;TZID=America/Chicago:20260727T140000
DTSTAMP:20260423T061734
CREATED:20260416T181911Z
LAST-MODIFIED:20260416T182034Z
UID:10003841-1785146400-1785160800@centralalaa.org
SUMMARY:Central Office Open
DESCRIPTION:Central office open
URL:https://centralalaa.org/single-event/central-office-open-1000am-200pm/2026-07-27
LOCATION:Central Office\, 828 Forest Ave\, Montgomery\, AL\, 36106
END:VEVENT
BEGIN:VEVENT
DTSTART;TZID=America/Chicago:20260729T100000
DTEND;TZID=America/Chicago:20260729T140000
DTSTAMP:20260423T061734
CREATED:20250301T230449Z
LAST-MODIFIED:20250301T230449Z
UID:10001361-1785319200-1785333600@centralalaa.org
SUMMARY:Central Office Open
DESCRIPTION:
URL:https://centralalaa.org/single-event/central-office-open/2026-07-29
LOCATION:Central Office\, 828 Forest Ave\, Montgomery\, AL\, 36106
END:VEVENT
BEGIN:VEVENT
DTSTART;TZID=America/Chicago:20260803T100000
DTEND;TZID=America/Chicago:20260803T140000
DTSTAMP:20260423T061734
CREATED:20260416T181911Z
LAST-MODIFIED:20260416T182034Z
UID:10003842-1785751200-1785765600@centralalaa.org
SUMMARY:Central Office Open
DESCRIPTION:Central office open
URL:https://centralalaa.org/single-event/central-office-open-1000am-200pm/2026-08-03
LOCATION:Central Office\, 828 Forest Ave\, Montgomery\, AL\, 36106
END:VEVENT
BEGIN:VEVENT
DTSTART;TZID=America/Chicago:20260805T100000
DTEND;TZID=America/Chicago:20260805T140000
DTSTAMP:20260423T061734
CREATED:20250301T230449Z
LAST-MODIFIED:20250301T230449Z
UID:10001362-1785924000-1785938400@centralalaa.org
SUMMARY:Central Office Open
DESCRIPTION:
URL:https://centralalaa.org/single-event/central-office-open/2026-08-05
LOCATION:Central Office\, 828 Forest Ave\, Montgomery\, AL\, 36106
END:VEVENT
END:VCALENDAR