BEGIN:VCALENDAR
VERSION:2.0
PRODID:-//District 8, Area 1 - ECPv6.15.20//NONSGML v1.0//EN
CALSCALE:GREGORIAN
METHOD:PUBLISH
X-ORIGINAL-URL:https://centralalaa.org
X-WR-CALDESC:Events for District 8, Area 1
REFRESH-INTERVAL;VALUE=DURATION:PT1H
X-Robots-Tag:noindex
X-PUBLISHED-TTL:PT1H
BEGIN:VTIMEZONE
TZID:America/Chicago
BEGIN:DAYLIGHT
TZOFFSETFROM:-0600
TZOFFSETTO:-0500
TZNAME:CDT
DTSTART:20260308T080000
END:DAYLIGHT
BEGIN:STANDARD
TZOFFSETFROM:-0500
TZOFFSETTO:-0600
TZNAME:CST
DTSTART:20261101T070000
END:STANDARD
BEGIN:DAYLIGHT
TZOFFSETFROM:-0600
TZOFFSETTO:-0500
TZNAME:CDT
DTSTART:20270314T080000
END:DAYLIGHT
BEGIN:STANDARD
TZOFFSETFROM:-0500
TZOFFSETTO:-0600
TZNAME:CST
DTSTART:20271107T070000
END:STANDARD
BEGIN:DAYLIGHT
TZOFFSETFROM:-0600
TZOFFSETTO:-0500
TZNAME:CDT
DTSTART:20280312T080000
END:DAYLIGHT
BEGIN:STANDARD
TZOFFSETFROM:-0500
TZOFFSETTO:-0600
TZNAME:CST
DTSTART:20281105T070000
END:STANDARD
END:VTIMEZONE
BEGIN:VEVENT
DTSTART;TZID=America/Chicago:20270830T100000
DTEND;TZID=America/Chicago:20270830T140000
DTSTAMP:20260424T034342
CREATED:20260416T181911Z
LAST-MODIFIED:20260416T182034Z
UID:10003898-1819620000-1819634400@centralalaa.org
SUMMARY:Central Office Open
DESCRIPTION:Central office open
URL:https://centralalaa.org/single-event/central-office-open-1000am-200pm/2027-08-30
LOCATION:Central Office\, 828 Forest Ave\, Montgomery\, AL\, 36106
END:VEVENT
BEGIN:VEVENT
DTSTART;TZID=America/Chicago:20270901T100000
DTEND;TZID=America/Chicago:20270901T140000
DTSTAMP:20260424T034342
CREATED:20250301T230449Z
LAST-MODIFIED:20250301T230449Z
UID:10001418-1819792800-1819807200@centralalaa.org
SUMMARY:Central Office Open
DESCRIPTION:
URL:https://centralalaa.org/single-event/central-office-open/2027-09-01
LOCATION:Central Office\, 828 Forest Ave\, Montgomery\, AL\, 36106
END:VEVENT
BEGIN:VEVENT
DTSTART;TZID=America/Chicago:20270906T100000
DTEND;TZID=America/Chicago:20270906T140000
DTSTAMP:20260424T034342
CREATED:20260416T181911Z
LAST-MODIFIED:20260416T182034Z
UID:10003899-1820224800-1820239200@centralalaa.org
SUMMARY:Central Office Open
DESCRIPTION:Central office open
URL:https://centralalaa.org/single-event/central-office-open-1000am-200pm/2027-09-06
LOCATION:Central Office\, 828 Forest Ave\, Montgomery\, AL\, 36106
END:VEVENT
BEGIN:VEVENT
DTSTART;TZID=America/Chicago:20270908T100000
DTEND;TZID=America/Chicago:20270908T140000
DTSTAMP:20260424T034342
CREATED:20250301T230449Z
LAST-MODIFIED:20250301T230449Z
UID:10001419-1820397600-1820412000@centralalaa.org
SUMMARY:Central Office Open
DESCRIPTION:
URL:https://centralalaa.org/single-event/central-office-open/2027-09-08
LOCATION:Central Office\, 828 Forest Ave\, Montgomery\, AL\, 36106
END:VEVENT
BEGIN:VEVENT
DTSTART;TZID=America/Chicago:20270913T100000
DTEND;TZID=America/Chicago:20270913T140000
DTSTAMP:20260424T034342
CREATED:20260416T181911Z
LAST-MODIFIED:20260416T182034Z
UID:10003900-1820829600-1820844000@centralalaa.org
SUMMARY:Central Office Open
DESCRIPTION:Central office open
URL:https://centralalaa.org/single-event/central-office-open-1000am-200pm/2027-09-13
LOCATION:Central Office\, 828 Forest Ave\, Montgomery\, AL\, 36106
END:VEVENT
BEGIN:VEVENT
DTSTART;TZID=America/Chicago:20270915T100000
DTEND;TZID=America/Chicago:20270915T140000
DTSTAMP:20260424T034342
CREATED:20250301T230449Z
LAST-MODIFIED:20250301T230449Z
UID:10001420-1821002400-1821016800@centralalaa.org
SUMMARY:Central Office Open
DESCRIPTION:
URL:https://centralalaa.org/single-event/central-office-open/2027-09-15
LOCATION:Central Office\, 828 Forest Ave\, Montgomery\, AL\, 36106
END:VEVENT
BEGIN:VEVENT
DTSTART;TZID=America/Chicago:20270920T100000
DTEND;TZID=America/Chicago:20270920T140000
DTSTAMP:20260424T034342
CREATED:20260416T181911Z
LAST-MODIFIED:20260416T182034Z
UID:10003901-1821434400-1821448800@centralalaa.org
SUMMARY:Central Office Open
DESCRIPTION:Central office open
URL:https://centralalaa.org/single-event/central-office-open-1000am-200pm/2027-09-20
LOCATION:Central Office\, 828 Forest Ave\, Montgomery\, AL\, 36106
END:VEVENT
BEGIN:VEVENT
DTSTART;TZID=America/Chicago:20270922T100000
DTEND;TZID=America/Chicago:20270922T140000
DTSTAMP:20260424T034342
CREATED:20250301T230449Z
LAST-MODIFIED:20250301T230449Z
UID:10001421-1821607200-1821621600@centralalaa.org
SUMMARY:Central Office Open
DESCRIPTION:
URL:https://centralalaa.org/single-event/central-office-open/2027-09-22
LOCATION:Central Office\, 828 Forest Ave\, Montgomery\, AL\, 36106
END:VEVENT
BEGIN:VEVENT
DTSTART;TZID=America/Chicago:20270927T100000
DTEND;TZID=America/Chicago:20270927T140000
DTSTAMP:20260424T034342
CREATED:20260416T181911Z
LAST-MODIFIED:20260416T182034Z
UID:10003902-1822039200-1822053600@centralalaa.org
SUMMARY:Central Office Open
DESCRIPTION:Central office open
URL:https://centralalaa.org/single-event/central-office-open-1000am-200pm/2027-09-27
LOCATION:Central Office\, 828 Forest Ave\, Montgomery\, AL\, 36106
END:VEVENT
BEGIN:VEVENT
DTSTART;TZID=America/Chicago:20270929T100000
DTEND;TZID=America/Chicago:20270929T140000
DTSTAMP:20260424T034342
CREATED:20250301T230449Z
LAST-MODIFIED:20250301T230449Z
UID:10001422-1822212000-1822226400@centralalaa.org
SUMMARY:Central Office Open
DESCRIPTION:
URL:https://centralalaa.org/single-event/central-office-open/2027-09-29
LOCATION:Central Office\, 828 Forest Ave\, Montgomery\, AL\, 36106
END:VEVENT
BEGIN:VEVENT
DTSTART;TZID=America/Chicago:20271004T100000
DTEND;TZID=America/Chicago:20271004T140000
DTSTAMP:20260424T034342
CREATED:20260416T181911Z
LAST-MODIFIED:20260416T182034Z
UID:10003903-1822644000-1822658400@centralalaa.org
SUMMARY:Central Office Open
DESCRIPTION:Central office open
URL:https://centralalaa.org/single-event/central-office-open-1000am-200pm/2027-10-04
LOCATION:Central Office\, 828 Forest Ave\, Montgomery\, AL\, 36106
END:VEVENT
BEGIN:VEVENT
DTSTART;TZID=America/Chicago:20271006T100000
DTEND;TZID=America/Chicago:20271006T140000
DTSTAMP:20260424T034342
CREATED:20250301T230449Z
LAST-MODIFIED:20250301T230449Z
UID:10001423-1822816800-1822831200@centralalaa.org
SUMMARY:Central Office Open
DESCRIPTION:
URL:https://centralalaa.org/single-event/central-office-open/2027-10-06
LOCATION:Central Office\, 828 Forest Ave\, Montgomery\, AL\, 36106
END:VEVENT
BEGIN:VEVENT
DTSTART;TZID=America/Chicago:20271011T100000
DTEND;TZID=America/Chicago:20271011T140000
DTSTAMP:20260424T034342
CREATED:20260416T181911Z
LAST-MODIFIED:20260416T182034Z
UID:10003904-1823248800-1823263200@centralalaa.org
SUMMARY:Central Office Open
DESCRIPTION:Central office open
URL:https://centralalaa.org/single-event/central-office-open-1000am-200pm/2027-10-11
LOCATION:Central Office\, 828 Forest Ave\, Montgomery\, AL\, 36106
END:VEVENT
BEGIN:VEVENT
DTSTART;TZID=America/Chicago:20271013T100000
DTEND;TZID=America/Chicago:20271013T140000
DTSTAMP:20260424T034342
CREATED:20250301T230449Z
LAST-MODIFIED:20250301T230449Z
UID:10001424-1823421600-1823436000@centralalaa.org
SUMMARY:Central Office Open
DESCRIPTION:
URL:https://centralalaa.org/single-event/central-office-open/2027-10-13
LOCATION:Central Office\, 828 Forest Ave\, Montgomery\, AL\, 36106
END:VEVENT
BEGIN:VEVENT
DTSTART;TZID=America/Chicago:20271018T100000
DTEND;TZID=America/Chicago:20271018T140000
DTSTAMP:20260424T034342
CREATED:20260416T181911Z
LAST-MODIFIED:20260416T182034Z
UID:10003905-1823853600-1823868000@centralalaa.org
SUMMARY:Central Office Open
DESCRIPTION:Central office open
URL:https://centralalaa.org/single-event/central-office-open-1000am-200pm/2027-10-18
LOCATION:Central Office\, 828 Forest Ave\, Montgomery\, AL\, 36106
END:VEVENT
BEGIN:VEVENT
DTSTART;TZID=America/Chicago:20271020T100000
DTEND;TZID=America/Chicago:20271020T140000
DTSTAMP:20260424T034342
CREATED:20250301T230449Z
LAST-MODIFIED:20250301T230449Z
UID:10001425-1824026400-1824040800@centralalaa.org
SUMMARY:Central Office Open
DESCRIPTION:
URL:https://centralalaa.org/single-event/central-office-open/2027-10-20
LOCATION:Central Office\, 828 Forest Ave\, Montgomery\, AL\, 36106
END:VEVENT
BEGIN:VEVENT
DTSTART;TZID=America/Chicago:20271025T100000
DTEND;TZID=America/Chicago:20271025T140000
DTSTAMP:20260424T034342
CREATED:20260416T181911Z
LAST-MODIFIED:20260416T182034Z
UID:10003906-1824458400-1824472800@centralalaa.org
SUMMARY:Central Office Open
DESCRIPTION:Central office open
URL:https://centralalaa.org/single-event/central-office-open-1000am-200pm/2027-10-25
LOCATION:Central Office\, 828 Forest Ave\, Montgomery\, AL\, 36106
END:VEVENT
BEGIN:VEVENT
DTSTART;TZID=America/Chicago:20271027T100000
DTEND;TZID=America/Chicago:20271027T140000
DTSTAMP:20260424T034342
CREATED:20250301T230449Z
LAST-MODIFIED:20250301T230449Z
UID:10001426-1824631200-1824645600@centralalaa.org
SUMMARY:Central Office Open
DESCRIPTION:
URL:https://centralalaa.org/single-event/central-office-open/2027-10-27
LOCATION:Central Office\, 828 Forest Ave\, Montgomery\, AL\, 36106
END:VEVENT
BEGIN:VEVENT
DTSTART;TZID=America/Chicago:20271101T100000
DTEND;TZID=America/Chicago:20271101T140000
DTSTAMP:20260424T034342
CREATED:20260416T181911Z
LAST-MODIFIED:20260416T182034Z
UID:10003907-1825063200-1825077600@centralalaa.org
SUMMARY:Central Office Open
DESCRIPTION:Central office open
URL:https://centralalaa.org/single-event/central-office-open-1000am-200pm/2027-11-01
LOCATION:Central Office\, 828 Forest Ave\, Montgomery\, AL\, 36106
END:VEVENT
BEGIN:VEVENT
DTSTART;TZID=America/Chicago:20271103T100000
DTEND;TZID=America/Chicago:20271103T140000
DTSTAMP:20260424T034342
CREATED:20250301T230449Z
LAST-MODIFIED:20250301T230449Z
UID:10001427-1825236000-1825250400@centralalaa.org
SUMMARY:Central Office Open
DESCRIPTION:
URL:https://centralalaa.org/single-event/central-office-open/2027-11-03
LOCATION:Central Office\, 828 Forest Ave\, Montgomery\, AL\, 36106
END:VEVENT
BEGIN:VEVENT
DTSTART;TZID=America/Chicago:20271108T100000
DTEND;TZID=America/Chicago:20271108T140000
DTSTAMP:20260424T034342
CREATED:20260416T181911Z
LAST-MODIFIED:20260416T182034Z
UID:10003908-1825668000-1825682400@centralalaa.org
SUMMARY:Central Office Open
DESCRIPTION:Central office open
URL:https://centralalaa.org/single-event/central-office-open-1000am-200pm/2027-11-08
LOCATION:Central Office\, 828 Forest Ave\, Montgomery\, AL\, 36106
END:VEVENT
BEGIN:VEVENT
DTSTART;TZID=America/Chicago:20271110T100000
DTEND;TZID=America/Chicago:20271110T140000
DTSTAMP:20260424T034342
CREATED:20250301T230449Z
LAST-MODIFIED:20250301T230449Z
UID:10001428-1825840800-1825855200@centralalaa.org
SUMMARY:Central Office Open
DESCRIPTION:
URL:https://centralalaa.org/single-event/central-office-open/2027-11-10
LOCATION:Central Office\, 828 Forest Ave\, Montgomery\, AL\, 36106
END:VEVENT
BEGIN:VEVENT
DTSTART;TZID=America/Chicago:20271115T100000
DTEND;TZID=America/Chicago:20271115T140000
DTSTAMP:20260424T034342
CREATED:20260416T181911Z
LAST-MODIFIED:20260416T182034Z
UID:10003909-1826272800-1826287200@centralalaa.org
SUMMARY:Central Office Open
DESCRIPTION:Central office open
URL:https://centralalaa.org/single-event/central-office-open-1000am-200pm/2027-11-15
LOCATION:Central Office\, 828 Forest Ave\, Montgomery\, AL\, 36106
END:VEVENT
BEGIN:VEVENT
DTSTART;TZID=America/Chicago:20271117T100000
DTEND;TZID=America/Chicago:20271117T140000
DTSTAMP:20260424T034342
CREATED:20250301T230449Z
LAST-MODIFIED:20250301T230449Z
UID:10001429-1826445600-1826460000@centralalaa.org
SUMMARY:Central Office Open
DESCRIPTION:
URL:https://centralalaa.org/single-event/central-office-open/2027-11-17
LOCATION:Central Office\, 828 Forest Ave\, Montgomery\, AL\, 36106
END:VEVENT
BEGIN:VEVENT
DTSTART;TZID=America/Chicago:20271122T100000
DTEND;TZID=America/Chicago:20271122T140000
DTSTAMP:20260424T034342
CREATED:20260416T181911Z
LAST-MODIFIED:20260416T182034Z
UID:10003910-1826877600-1826892000@centralalaa.org
SUMMARY:Central Office Open
DESCRIPTION:Central office open
URL:https://centralalaa.org/single-event/central-office-open-1000am-200pm/2027-11-22
LOCATION:Central Office\, 828 Forest Ave\, Montgomery\, AL\, 36106
END:VEVENT
BEGIN:VEVENT
DTSTART;TZID=America/Chicago:20271124T100000
DTEND;TZID=America/Chicago:20271124T140000
DTSTAMP:20260424T034342
CREATED:20250301T230449Z
LAST-MODIFIED:20250301T230449Z
UID:10001430-1827050400-1827064800@centralalaa.org
SUMMARY:Central Office Open
DESCRIPTION:
URL:https://centralalaa.org/single-event/central-office-open/2027-11-24
LOCATION:Central Office\, 828 Forest Ave\, Montgomery\, AL\, 36106
END:VEVENT
BEGIN:VEVENT
DTSTART;TZID=America/Chicago:20271129T100000
DTEND;TZID=America/Chicago:20271129T140000
DTSTAMP:20260424T034342
CREATED:20260416T181911Z
LAST-MODIFIED:20260416T182034Z
UID:10003911-1827482400-1827496800@centralalaa.org
SUMMARY:Central Office Open
DESCRIPTION:Central office open
URL:https://centralalaa.org/single-event/central-office-open-1000am-200pm/2027-11-29
LOCATION:Central Office\, 828 Forest Ave\, Montgomery\, AL\, 36106
END:VEVENT
BEGIN:VEVENT
DTSTART;TZID=America/Chicago:20271201T100000
DTEND;TZID=America/Chicago:20271201T140000
DTSTAMP:20260424T034342
CREATED:20250301T230449Z
LAST-MODIFIED:20250301T230449Z
UID:10001431-1827655200-1827669600@centralalaa.org
SUMMARY:Central Office Open
DESCRIPTION:
URL:https://centralalaa.org/single-event/central-office-open/2027-12-01
LOCATION:Central Office\, 828 Forest Ave\, Montgomery\, AL\, 36106
END:VEVENT
BEGIN:VEVENT
DTSTART;TZID=America/Chicago:20271206T100000
DTEND;TZID=America/Chicago:20271206T140000
DTSTAMP:20260424T034342
CREATED:20260416T181911Z
LAST-MODIFIED:20260416T182034Z
UID:10003912-1828087200-1828101600@centralalaa.org
SUMMARY:Central Office Open
DESCRIPTION:Central office open
URL:https://centralalaa.org/single-event/central-office-open-1000am-200pm/2027-12-06
LOCATION:Central Office\, 828 Forest Ave\, Montgomery\, AL\, 36106
END:VEVENT
BEGIN:VEVENT
DTSTART;TZID=America/Chicago:20271208T100000
DTEND;TZID=America/Chicago:20271208T140000
DTSTAMP:20260424T034342
CREATED:20250301T230449Z
LAST-MODIFIED:20250301T230449Z
UID:10001432-1828260000-1828274400@centralalaa.org
SUMMARY:Central Office Open
DESCRIPTION:
URL:https://centralalaa.org/single-event/central-office-open/2027-12-08
LOCATION:Central Office\, 828 Forest Ave\, Montgomery\, AL\, 36106
END:VEVENT
END:VCALENDAR