BEGIN:VCALENDAR
VERSION:2.0
PRODID:-//District 8, Area 1 - ECPv6.15.20//NONSGML v1.0//EN
CALSCALE:GREGORIAN
METHOD:PUBLISH
X-ORIGINAL-URL:https://centralalaa.org
X-WR-CALDESC:Events for District 8, Area 1
REFRESH-INTERVAL;VALUE=DURATION:PT1H
X-Robots-Tag:noindex
X-PUBLISHED-TTL:PT1H
BEGIN:VTIMEZONE
TZID:America/Chicago
BEGIN:DAYLIGHT
TZOFFSETFROM:-0600
TZOFFSETTO:-0500
TZNAME:CDT
DTSTART:20270314T080000
END:DAYLIGHT
BEGIN:STANDARD
TZOFFSETFROM:-0500
TZOFFSETTO:-0600
TZNAME:CST
DTSTART:20271107T070000
END:STANDARD
BEGIN:DAYLIGHT
TZOFFSETFROM:-0600
TZOFFSETTO:-0500
TZNAME:CDT
DTSTART:20280312T080000
END:DAYLIGHT
BEGIN:STANDARD
TZOFFSETFROM:-0500
TZOFFSETTO:-0600
TZNAME:CST
DTSTART:20281105T070000
END:STANDARD
BEGIN:DAYLIGHT
TZOFFSETFROM:-0600
TZOFFSETTO:-0500
TZNAME:CDT
DTSTART:20290311T080000
END:DAYLIGHT
BEGIN:STANDARD
TZOFFSETFROM:-0500
TZOFFSETTO:-0600
TZNAME:CST
DTSTART:20291104T070000
END:STANDARD
BEGIN:DAYLIGHT
TZOFFSETFROM:-0600
TZOFFSETTO:-0500
TZNAME:CDT
DTSTART:20300310T080000
END:DAYLIGHT
BEGIN:STANDARD
TZOFFSETFROM:-0500
TZOFFSETTO:-0600
TZNAME:CST
DTSTART:20301103T070000
END:STANDARD
END:VTIMEZONE
BEGIN:VEVENT
DTSTART;TZID=America/Chicago:20281023T100000
DTEND;TZID=America/Chicago:20281023T140000
DTSTAMP:20260424T221525
CREATED:20260416T181911Z
LAST-MODIFIED:20260416T182034Z
UID:10003958-1855908000-1855922400@centralalaa.org
SUMMARY:Central Office Open
DESCRIPTION:Central office open
URL:https://centralalaa.org/single-event/central-office-open-1000am-200pm/2028-10-23
LOCATION:Central Office\, 828 Forest Ave\, Montgomery\, AL\, 36106
END:VEVENT
BEGIN:VEVENT
DTSTART;TZID=America/Chicago:20281025T100000
DTEND;TZID=America/Chicago:20281025T140000
DTSTAMP:20260424T221525
CREATED:20250301T230449Z
LAST-MODIFIED:20250301T230449Z
UID:10001478-1856080800-1856095200@centralalaa.org
SUMMARY:Central Office Open
DESCRIPTION:
URL:https://centralalaa.org/single-event/central-office-open/2028-10-25
LOCATION:Central Office\, 828 Forest Ave\, Montgomery\, AL\, 36106
END:VEVENT
BEGIN:VEVENT
DTSTART;TZID=America/Chicago:20281030T100000
DTEND;TZID=America/Chicago:20281030T140000
DTSTAMP:20260424T221525
CREATED:20260416T181911Z
LAST-MODIFIED:20260416T182034Z
UID:10003959-1856512800-1856527200@centralalaa.org
SUMMARY:Central Office Open
DESCRIPTION:Central office open
URL:https://centralalaa.org/single-event/central-office-open-1000am-200pm/2028-10-30
LOCATION:Central Office\, 828 Forest Ave\, Montgomery\, AL\, 36106
END:VEVENT
BEGIN:VEVENT
DTSTART;TZID=America/Chicago:20281101T100000
DTEND;TZID=America/Chicago:20281101T140000
DTSTAMP:20260424T221525
CREATED:20250301T230449Z
LAST-MODIFIED:20250301T230449Z
UID:10001479-1856685600-1856700000@centralalaa.org
SUMMARY:Central Office Open
DESCRIPTION:
URL:https://centralalaa.org/single-event/central-office-open/2028-11-01
LOCATION:Central Office\, 828 Forest Ave\, Montgomery\, AL\, 36106
END:VEVENT
BEGIN:VEVENT
DTSTART;TZID=America/Chicago:20281106T100000
DTEND;TZID=America/Chicago:20281106T140000
DTSTAMP:20260424T221525
CREATED:20260416T181911Z
LAST-MODIFIED:20260416T182034Z
UID:10003960-1857117600-1857132000@centralalaa.org
SUMMARY:Central Office Open
DESCRIPTION:Central office open
URL:https://centralalaa.org/single-event/central-office-open-1000am-200pm/2028-11-06
LOCATION:Central Office\, 828 Forest Ave\, Montgomery\, AL\, 36106
END:VEVENT
BEGIN:VEVENT
DTSTART;TZID=America/Chicago:20281108T100000
DTEND;TZID=America/Chicago:20281108T140000
DTSTAMP:20260424T221525
CREATED:20250301T230449Z
LAST-MODIFIED:20250301T230449Z
UID:10001480-1857290400-1857304800@centralalaa.org
SUMMARY:Central Office Open
DESCRIPTION:
URL:https://centralalaa.org/single-event/central-office-open/2028-11-08
LOCATION:Central Office\, 828 Forest Ave\, Montgomery\, AL\, 36106
END:VEVENT
BEGIN:VEVENT
DTSTART;TZID=America/Chicago:20281113T100000
DTEND;TZID=America/Chicago:20281113T140000
DTSTAMP:20260424T221525
CREATED:20260416T181911Z
LAST-MODIFIED:20260416T182034Z
UID:10003961-1857722400-1857736800@centralalaa.org
SUMMARY:Central Office Open
DESCRIPTION:Central office open
URL:https://centralalaa.org/single-event/central-office-open-1000am-200pm/2028-11-13
LOCATION:Central Office\, 828 Forest Ave\, Montgomery\, AL\, 36106
END:VEVENT
BEGIN:VEVENT
DTSTART;TZID=America/Chicago:20281115T100000
DTEND;TZID=America/Chicago:20281115T140000
DTSTAMP:20260424T221525
CREATED:20250301T230449Z
LAST-MODIFIED:20250301T230449Z
UID:10001481-1857895200-1857909600@centralalaa.org
SUMMARY:Central Office Open
DESCRIPTION:
URL:https://centralalaa.org/single-event/central-office-open/2028-11-15
LOCATION:Central Office\, 828 Forest Ave\, Montgomery\, AL\, 36106
END:VEVENT
BEGIN:VEVENT
DTSTART;TZID=America/Chicago:20281120T100000
DTEND;TZID=America/Chicago:20281120T140000
DTSTAMP:20260424T221525
CREATED:20260416T181911Z
LAST-MODIFIED:20260416T182034Z
UID:10003962-1858327200-1858341600@centralalaa.org
SUMMARY:Central Office Open
DESCRIPTION:Central office open
URL:https://centralalaa.org/single-event/central-office-open-1000am-200pm/2028-11-20
LOCATION:Central Office\, 828 Forest Ave\, Montgomery\, AL\, 36106
END:VEVENT
BEGIN:VEVENT
DTSTART;TZID=America/Chicago:20281122T100000
DTEND;TZID=America/Chicago:20281122T140000
DTSTAMP:20260424T221525
CREATED:20250301T230449Z
LAST-MODIFIED:20250301T230449Z
UID:10001482-1858500000-1858514400@centralalaa.org
SUMMARY:Central Office Open
DESCRIPTION:
URL:https://centralalaa.org/single-event/central-office-open/2028-11-22
LOCATION:Central Office\, 828 Forest Ave\, Montgomery\, AL\, 36106
END:VEVENT
BEGIN:VEVENT
DTSTART;TZID=America/Chicago:20281127T100000
DTEND;TZID=America/Chicago:20281127T140000
DTSTAMP:20260424T221525
CREATED:20260416T181911Z
LAST-MODIFIED:20260416T182034Z
UID:10003963-1858932000-1858946400@centralalaa.org
SUMMARY:Central Office Open
DESCRIPTION:Central office open
URL:https://centralalaa.org/single-event/central-office-open-1000am-200pm/2028-11-27
LOCATION:Central Office\, 828 Forest Ave\, Montgomery\, AL\, 36106
END:VEVENT
BEGIN:VEVENT
DTSTART;TZID=America/Chicago:20281129T100000
DTEND;TZID=America/Chicago:20281129T140000
DTSTAMP:20260424T221525
CREATED:20250301T230449Z
LAST-MODIFIED:20250301T230449Z
UID:10001483-1859104800-1859119200@centralalaa.org
SUMMARY:Central Office Open
DESCRIPTION:
URL:https://centralalaa.org/single-event/central-office-open/2028-11-29
LOCATION:Central Office\, 828 Forest Ave\, Montgomery\, AL\, 36106
END:VEVENT
BEGIN:VEVENT
DTSTART;TZID=America/Chicago:20281204T100000
DTEND;TZID=America/Chicago:20281204T140000
DTSTAMP:20260424T221525
CREATED:20260416T181911Z
LAST-MODIFIED:20260416T182034Z
UID:10003964-1859536800-1859551200@centralalaa.org
SUMMARY:Central Office Open
DESCRIPTION:Central office open
URL:https://centralalaa.org/single-event/central-office-open-1000am-200pm/2028-12-04
LOCATION:Central Office\, 828 Forest Ave\, Montgomery\, AL\, 36106
END:VEVENT
BEGIN:VEVENT
DTSTART;TZID=America/Chicago:20281206T100000
DTEND;TZID=America/Chicago:20281206T140000
DTSTAMP:20260424T221525
CREATED:20250301T230449Z
LAST-MODIFIED:20250301T230449Z
UID:10001484-1859709600-1859724000@centralalaa.org
SUMMARY:Central Office Open
DESCRIPTION:
URL:https://centralalaa.org/single-event/central-office-open/2028-12-06
LOCATION:Central Office\, 828 Forest Ave\, Montgomery\, AL\, 36106
END:VEVENT
BEGIN:VEVENT
DTSTART;TZID=America/Chicago:20281211T100000
DTEND;TZID=America/Chicago:20281211T140000
DTSTAMP:20260424T221525
CREATED:20260416T181911Z
LAST-MODIFIED:20260416T182034Z
UID:10003965-1860141600-1860156000@centralalaa.org
SUMMARY:Central Office Open
DESCRIPTION:Central office open
URL:https://centralalaa.org/single-event/central-office-open-1000am-200pm/2028-12-11
LOCATION:Central Office\, 828 Forest Ave\, Montgomery\, AL\, 36106
END:VEVENT
BEGIN:VEVENT
DTSTART;TZID=America/Chicago:20281213T100000
DTEND;TZID=America/Chicago:20281213T140000
DTSTAMP:20260424T221525
CREATED:20250301T230449Z
LAST-MODIFIED:20250301T230449Z
UID:10001485-1860314400-1860328800@centralalaa.org
SUMMARY:Central Office Open
DESCRIPTION:
URL:https://centralalaa.org/single-event/central-office-open/2028-12-13
LOCATION:Central Office\, 828 Forest Ave\, Montgomery\, AL\, 36106
END:VEVENT
BEGIN:VEVENT
DTSTART;TZID=America/Chicago:20281218T100000
DTEND;TZID=America/Chicago:20281218T140000
DTSTAMP:20260424T221525
CREATED:20260416T181911Z
LAST-MODIFIED:20260416T182034Z
UID:10003966-1860746400-1860760800@centralalaa.org
SUMMARY:Central Office Open
DESCRIPTION:Central office open
URL:https://centralalaa.org/single-event/central-office-open-1000am-200pm/2028-12-18
LOCATION:Central Office\, 828 Forest Ave\, Montgomery\, AL\, 36106
END:VEVENT
BEGIN:VEVENT
DTSTART;TZID=America/Chicago:20281220T100000
DTEND;TZID=America/Chicago:20281220T140000
DTSTAMP:20260424T221525
CREATED:20250301T230449Z
LAST-MODIFIED:20250301T230449Z
UID:10001486-1860919200-1860933600@centralalaa.org
SUMMARY:Central Office Open
DESCRIPTION:
URL:https://centralalaa.org/single-event/central-office-open/2028-12-20
LOCATION:Central Office\, 828 Forest Ave\, Montgomery\, AL\, 36106
END:VEVENT
BEGIN:VEVENT
DTSTART;TZID=America/Chicago:20281225T100000
DTEND;TZID=America/Chicago:20281225T140000
DTSTAMP:20260424T221525
CREATED:20260416T181911Z
LAST-MODIFIED:20260416T182034Z
UID:10003967-1861351200-1861365600@centralalaa.org
SUMMARY:Central Office Open
DESCRIPTION:Central office open
URL:https://centralalaa.org/single-event/central-office-open-1000am-200pm/2028-12-25
LOCATION:Central Office\, 828 Forest Ave\, Montgomery\, AL\, 36106
END:VEVENT
BEGIN:VEVENT
DTSTART;TZID=America/Chicago:20281227T100000
DTEND;TZID=America/Chicago:20281227T140000
DTSTAMP:20260424T221525
CREATED:20250301T230449Z
LAST-MODIFIED:20250301T230449Z
UID:10001487-1861524000-1861538400@centralalaa.org
SUMMARY:Central Office Open
DESCRIPTION:
URL:https://centralalaa.org/single-event/central-office-open/2028-12-27
LOCATION:Central Office\, 828 Forest Ave\, Montgomery\, AL\, 36106
END:VEVENT
BEGIN:VEVENT
DTSTART;TZID=America/Chicago:20290101T100000
DTEND;TZID=America/Chicago:20290101T140000
DTSTAMP:20260424T221525
CREATED:20260416T181911Z
LAST-MODIFIED:20260416T182034Z
UID:10003968-1861956000-1861970400@centralalaa.org
SUMMARY:Central Office Open
DESCRIPTION:Central office open
URL:https://centralalaa.org/single-event/central-office-open-1000am-200pm/2029-01-01
LOCATION:Central Office\, 828 Forest Ave\, Montgomery\, AL\, 36106
END:VEVENT
BEGIN:VEVENT
DTSTART;TZID=America/Chicago:20290103T100000
DTEND;TZID=America/Chicago:20290103T140000
DTSTAMP:20260424T221525
CREATED:20250301T230449Z
LAST-MODIFIED:20250301T230449Z
UID:10001488-1862128800-1862143200@centralalaa.org
SUMMARY:Central Office Open
DESCRIPTION:
URL:https://centralalaa.org/single-event/central-office-open/2029-01-03
LOCATION:Central Office\, 828 Forest Ave\, Montgomery\, AL\, 36106
END:VEVENT
BEGIN:VEVENT
DTSTART;TZID=America/Chicago:20290108T100000
DTEND;TZID=America/Chicago:20290108T140000
DTSTAMP:20260424T221525
CREATED:20260416T181911Z
LAST-MODIFIED:20260416T182034Z
UID:10003969-1862560800-1862575200@centralalaa.org
SUMMARY:Central Office Open
DESCRIPTION:Central office open
URL:https://centralalaa.org/single-event/central-office-open-1000am-200pm/2029-01-08
LOCATION:Central Office\, 828 Forest Ave\, Montgomery\, AL\, 36106
END:VEVENT
BEGIN:VEVENT
DTSTART;TZID=America/Chicago:20290110T100000
DTEND;TZID=America/Chicago:20290110T140000
DTSTAMP:20260424T221525
CREATED:20250301T230449Z
LAST-MODIFIED:20250301T230449Z
UID:10001489-1862733600-1862748000@centralalaa.org
SUMMARY:Central Office Open
DESCRIPTION:
URL:https://centralalaa.org/single-event/central-office-open/2029-01-10
LOCATION:Central Office\, 828 Forest Ave\, Montgomery\, AL\, 36106
END:VEVENT
BEGIN:VEVENT
DTSTART;TZID=America/Chicago:20290115T100000
DTEND;TZID=America/Chicago:20290115T140000
DTSTAMP:20260424T221525
CREATED:20260416T181911Z
LAST-MODIFIED:20260416T182034Z
UID:10003970-1863165600-1863180000@centralalaa.org
SUMMARY:Central Office Open
DESCRIPTION:Central office open
URL:https://centralalaa.org/single-event/central-office-open-1000am-200pm/2029-01-15
LOCATION:Central Office\, 828 Forest Ave\, Montgomery\, AL\, 36106
END:VEVENT
BEGIN:VEVENT
DTSTART;TZID=America/Chicago:20290117T100000
DTEND;TZID=America/Chicago:20290117T140000
DTSTAMP:20260424T221525
CREATED:20250301T230449Z
LAST-MODIFIED:20250301T230449Z
UID:10001490-1863338400-1863352800@centralalaa.org
SUMMARY:Central Office Open
DESCRIPTION:
URL:https://centralalaa.org/single-event/central-office-open/2029-01-17
LOCATION:Central Office\, 828 Forest Ave\, Montgomery\, AL\, 36106
END:VEVENT
BEGIN:VEVENT
DTSTART;TZID=America/Chicago:20290122T100000
DTEND;TZID=America/Chicago:20290122T140000
DTSTAMP:20260424T221525
CREATED:20260416T181911Z
LAST-MODIFIED:20260416T182034Z
UID:10003971-1863770400-1863784800@centralalaa.org
SUMMARY:Central Office Open
DESCRIPTION:Central office open
URL:https://centralalaa.org/single-event/central-office-open-1000am-200pm/2029-01-22
LOCATION:Central Office\, 828 Forest Ave\, Montgomery\, AL\, 36106
END:VEVENT
BEGIN:VEVENT
DTSTART;TZID=America/Chicago:20290124T100000
DTEND;TZID=America/Chicago:20290124T140000
DTSTAMP:20260424T221525
CREATED:20250301T230449Z
LAST-MODIFIED:20250301T230449Z
UID:10001491-1863943200-1863957600@centralalaa.org
SUMMARY:Central Office Open
DESCRIPTION:
URL:https://centralalaa.org/single-event/central-office-open/2029-01-24
LOCATION:Central Office\, 828 Forest Ave\, Montgomery\, AL\, 36106
END:VEVENT
BEGIN:VEVENT
DTSTART;TZID=America/Chicago:20290129T100000
DTEND;TZID=America/Chicago:20290129T140000
DTSTAMP:20260424T221525
CREATED:20260416T181911Z
LAST-MODIFIED:20260416T182034Z
UID:10003972-1864375200-1864389600@centralalaa.org
SUMMARY:Central Office Open
DESCRIPTION:Central office open
URL:https://centralalaa.org/single-event/central-office-open-1000am-200pm/2029-01-29
LOCATION:Central Office\, 828 Forest Ave\, Montgomery\, AL\, 36106
END:VEVENT
BEGIN:VEVENT
DTSTART;TZID=America/Chicago:20290131T100000
DTEND;TZID=America/Chicago:20290131T140000
DTSTAMP:20260424T221525
CREATED:20250301T230449Z
LAST-MODIFIED:20250301T230449Z
UID:10001492-1864548000-1864562400@centralalaa.org
SUMMARY:Central Office Open
DESCRIPTION:
URL:https://centralalaa.org/single-event/central-office-open/2029-01-31
LOCATION:Central Office\, 828 Forest Ave\, Montgomery\, AL\, 36106
END:VEVENT
END:VCALENDAR