BEGIN:VCALENDAR
VERSION:2.0
PRODID:-//District 8, Area 1 - ECPv6.15.20//NONSGML v1.0//EN
CALSCALE:GREGORIAN
METHOD:PUBLISH
X-ORIGINAL-URL:https://centralalaa.org
X-WR-CALDESC:Events for District 8, Area 1
REFRESH-INTERVAL;VALUE=DURATION:PT1H
X-Robots-Tag:noindex
X-PUBLISHED-TTL:PT1H
BEGIN:VTIMEZONE
TZID:America/Chicago
BEGIN:DAYLIGHT
TZOFFSETFROM:-0600
TZOFFSETTO:-0500
TZNAME:CDT
DTSTART:20280312T080000
END:DAYLIGHT
BEGIN:STANDARD
TZOFFSETFROM:-0500
TZOFFSETTO:-0600
TZNAME:CST
DTSTART:20281105T070000
END:STANDARD
BEGIN:DAYLIGHT
TZOFFSETFROM:-0600
TZOFFSETTO:-0500
TZNAME:CDT
DTSTART:20290311T080000
END:DAYLIGHT
BEGIN:STANDARD
TZOFFSETFROM:-0500
TZOFFSETTO:-0600
TZNAME:CST
DTSTART:20291104T070000
END:STANDARD
BEGIN:DAYLIGHT
TZOFFSETFROM:-0600
TZOFFSETTO:-0500
TZNAME:CDT
DTSTART:20300310T080000
END:DAYLIGHT
BEGIN:STANDARD
TZOFFSETFROM:-0500
TZOFFSETTO:-0600
TZNAME:CST
DTSTART:20301103T070000
END:STANDARD
END:VTIMEZONE
BEGIN:VEVENT
DTSTART;TZID=America/Chicago:20290416T100000
DTEND;TZID=America/Chicago:20290416T140000
DTSTAMP:20260425T064813
CREATED:20260416T181911Z
LAST-MODIFIED:20260416T182034Z
UID:10003983-1871028000-1871042400@centralalaa.org
SUMMARY:Central Office Open
DESCRIPTION:Central office open
URL:https://centralalaa.org/single-event/central-office-open-1000am-200pm/2029-04-16
LOCATION:Central Office\, 828 Forest Ave\, Montgomery\, AL\, 36106
END:VEVENT
BEGIN:VEVENT
DTSTART;TZID=America/Chicago:20290418T100000
DTEND;TZID=America/Chicago:20290418T140000
DTSTAMP:20260425T064813
CREATED:20250301T230449Z
LAST-MODIFIED:20250301T230449Z
UID:10001503-1871200800-1871215200@centralalaa.org
SUMMARY:Central Office Open
DESCRIPTION:
URL:https://centralalaa.org/single-event/central-office-open/2029-04-18
LOCATION:Central Office\, 828 Forest Ave\, Montgomery\, AL\, 36106
END:VEVENT
BEGIN:VEVENT
DTSTART;TZID=America/Chicago:20290423T100000
DTEND;TZID=America/Chicago:20290423T140000
DTSTAMP:20260425T064813
CREATED:20260416T181911Z
LAST-MODIFIED:20260416T182034Z
UID:10003984-1871632800-1871647200@centralalaa.org
SUMMARY:Central Office Open
DESCRIPTION:Central office open
URL:https://centralalaa.org/single-event/central-office-open-1000am-200pm/2029-04-23
LOCATION:Central Office\, 828 Forest Ave\, Montgomery\, AL\, 36106
END:VEVENT
BEGIN:VEVENT
DTSTART;TZID=America/Chicago:20290425T100000
DTEND;TZID=America/Chicago:20290425T140000
DTSTAMP:20260425T064813
CREATED:20250301T230449Z
LAST-MODIFIED:20250301T230449Z
UID:10001504-1871805600-1871820000@centralalaa.org
SUMMARY:Central Office Open
DESCRIPTION:
URL:https://centralalaa.org/single-event/central-office-open/2029-04-25
LOCATION:Central Office\, 828 Forest Ave\, Montgomery\, AL\, 36106
END:VEVENT
BEGIN:VEVENT
DTSTART;TZID=America/Chicago:20290430T100000
DTEND;TZID=America/Chicago:20290430T140000
DTSTAMP:20260425T064813
CREATED:20260416T181911Z
LAST-MODIFIED:20260416T182034Z
UID:10003985-1872237600-1872252000@centralalaa.org
SUMMARY:Central Office Open
DESCRIPTION:Central office open
URL:https://centralalaa.org/single-event/central-office-open-1000am-200pm/2029-04-30
LOCATION:Central Office\, 828 Forest Ave\, Montgomery\, AL\, 36106
END:VEVENT
BEGIN:VEVENT
DTSTART;TZID=America/Chicago:20290502T100000
DTEND;TZID=America/Chicago:20290502T140000
DTSTAMP:20260425T064813
CREATED:20250301T230449Z
LAST-MODIFIED:20250301T230449Z
UID:10001505-1872410400-1872424800@centralalaa.org
SUMMARY:Central Office Open
DESCRIPTION:
URL:https://centralalaa.org/single-event/central-office-open/2029-05-02
LOCATION:Central Office\, 828 Forest Ave\, Montgomery\, AL\, 36106
END:VEVENT
BEGIN:VEVENT
DTSTART;TZID=America/Chicago:20290507T100000
DTEND;TZID=America/Chicago:20290507T140000
DTSTAMP:20260425T064813
CREATED:20260416T181911Z
LAST-MODIFIED:20260416T182034Z
UID:10003986-1872842400-1872856800@centralalaa.org
SUMMARY:Central Office Open
DESCRIPTION:Central office open
URL:https://centralalaa.org/single-event/central-office-open-1000am-200pm/2029-05-07
LOCATION:Central Office\, 828 Forest Ave\, Montgomery\, AL\, 36106
END:VEVENT
BEGIN:VEVENT
DTSTART;TZID=America/Chicago:20290509T100000
DTEND;TZID=America/Chicago:20290509T140000
DTSTAMP:20260425T064813
CREATED:20250301T230449Z
LAST-MODIFIED:20250301T230449Z
UID:10001506-1873015200-1873029600@centralalaa.org
SUMMARY:Central Office Open
DESCRIPTION:
URL:https://centralalaa.org/single-event/central-office-open/2029-05-09
LOCATION:Central Office\, 828 Forest Ave\, Montgomery\, AL\, 36106
END:VEVENT
BEGIN:VEVENT
DTSTART;TZID=America/Chicago:20290514T100000
DTEND;TZID=America/Chicago:20290514T140000
DTSTAMP:20260425T064813
CREATED:20260416T181911Z
LAST-MODIFIED:20260416T182034Z
UID:10003987-1873447200-1873461600@centralalaa.org
SUMMARY:Central Office Open
DESCRIPTION:Central office open
URL:https://centralalaa.org/single-event/central-office-open-1000am-200pm/2029-05-14
LOCATION:Central Office\, 828 Forest Ave\, Montgomery\, AL\, 36106
END:VEVENT
BEGIN:VEVENT
DTSTART;TZID=America/Chicago:20290516T100000
DTEND;TZID=America/Chicago:20290516T140000
DTSTAMP:20260425T064813
CREATED:20250301T230449Z
LAST-MODIFIED:20250301T230449Z
UID:10001507-1873620000-1873634400@centralalaa.org
SUMMARY:Central Office Open
DESCRIPTION:
URL:https://centralalaa.org/single-event/central-office-open/2029-05-16
LOCATION:Central Office\, 828 Forest Ave\, Montgomery\, AL\, 36106
END:VEVENT
BEGIN:VEVENT
DTSTART;TZID=America/Chicago:20290521T100000
DTEND;TZID=America/Chicago:20290521T140000
DTSTAMP:20260425T064813
CREATED:20260416T181911Z
LAST-MODIFIED:20260416T182034Z
UID:10003988-1874052000-1874066400@centralalaa.org
SUMMARY:Central Office Open
DESCRIPTION:Central office open
URL:https://centralalaa.org/single-event/central-office-open-1000am-200pm/2029-05-21
LOCATION:Central Office\, 828 Forest Ave\, Montgomery\, AL\, 36106
END:VEVENT
BEGIN:VEVENT
DTSTART;TZID=America/Chicago:20290523T100000
DTEND;TZID=America/Chicago:20290523T140000
DTSTAMP:20260425T064813
CREATED:20250301T230449Z
LAST-MODIFIED:20250301T230449Z
UID:10001508-1874224800-1874239200@centralalaa.org
SUMMARY:Central Office Open
DESCRIPTION:
URL:https://centralalaa.org/single-event/central-office-open/2029-05-23
LOCATION:Central Office\, 828 Forest Ave\, Montgomery\, AL\, 36106
END:VEVENT
BEGIN:VEVENT
DTSTART;TZID=America/Chicago:20290528T100000
DTEND;TZID=America/Chicago:20290528T140000
DTSTAMP:20260425T064813
CREATED:20260416T181911Z
LAST-MODIFIED:20260416T182034Z
UID:10003989-1874656800-1874671200@centralalaa.org
SUMMARY:Central Office Open
DESCRIPTION:Central office open
URL:https://centralalaa.org/single-event/central-office-open-1000am-200pm/2029-05-28
LOCATION:Central Office\, 828 Forest Ave\, Montgomery\, AL\, 36106
END:VEVENT
BEGIN:VEVENT
DTSTART;TZID=America/Chicago:20290530T100000
DTEND;TZID=America/Chicago:20290530T140000
DTSTAMP:20260425T064813
CREATED:20250301T230449Z
LAST-MODIFIED:20250301T230449Z
UID:10001509-1874829600-1874844000@centralalaa.org
SUMMARY:Central Office Open
DESCRIPTION:
URL:https://centralalaa.org/single-event/central-office-open/2029-05-30
LOCATION:Central Office\, 828 Forest Ave\, Montgomery\, AL\, 36106
END:VEVENT
BEGIN:VEVENT
DTSTART;TZID=America/Chicago:20290604T100000
DTEND;TZID=America/Chicago:20290604T140000
DTSTAMP:20260425T064813
CREATED:20260416T181911Z
LAST-MODIFIED:20260416T182034Z
UID:10003990-1875261600-1875276000@centralalaa.org
SUMMARY:Central Office Open
DESCRIPTION:Central office open
URL:https://centralalaa.org/single-event/central-office-open-1000am-200pm/2029-06-04
LOCATION:Central Office\, 828 Forest Ave\, Montgomery\, AL\, 36106
END:VEVENT
BEGIN:VEVENT
DTSTART;TZID=America/Chicago:20290606T100000
DTEND;TZID=America/Chicago:20290606T140000
DTSTAMP:20260425T064813
CREATED:20250301T230449Z
LAST-MODIFIED:20250301T230449Z
UID:10001510-1875434400-1875448800@centralalaa.org
SUMMARY:Central Office Open
DESCRIPTION:
URL:https://centralalaa.org/single-event/central-office-open/2029-06-06
LOCATION:Central Office\, 828 Forest Ave\, Montgomery\, AL\, 36106
END:VEVENT
BEGIN:VEVENT
DTSTART;TZID=America/Chicago:20290611T100000
DTEND;TZID=America/Chicago:20290611T140000
DTSTAMP:20260425T064813
CREATED:20260416T181911Z
LAST-MODIFIED:20260416T182034Z
UID:10003991-1875866400-1875880800@centralalaa.org
SUMMARY:Central Office Open
DESCRIPTION:Central office open
URL:https://centralalaa.org/single-event/central-office-open-1000am-200pm/2029-06-11
LOCATION:Central Office\, 828 Forest Ave\, Montgomery\, AL\, 36106
END:VEVENT
BEGIN:VEVENT
DTSTART;TZID=America/Chicago:20290613T100000
DTEND;TZID=America/Chicago:20290613T140000
DTSTAMP:20260425T064813
CREATED:20250301T230449Z
LAST-MODIFIED:20250301T230449Z
UID:10001511-1876039200-1876053600@centralalaa.org
SUMMARY:Central Office Open
DESCRIPTION:
URL:https://centralalaa.org/single-event/central-office-open/2029-06-13
LOCATION:Central Office\, 828 Forest Ave\, Montgomery\, AL\, 36106
END:VEVENT
BEGIN:VEVENT
DTSTART;TZID=America/Chicago:20290618T100000
DTEND;TZID=America/Chicago:20290618T140000
DTSTAMP:20260425T064813
CREATED:20260416T181911Z
LAST-MODIFIED:20260416T182034Z
UID:10003992-1876471200-1876485600@centralalaa.org
SUMMARY:Central Office Open
DESCRIPTION:Central office open
URL:https://centralalaa.org/single-event/central-office-open-1000am-200pm/2029-06-18
LOCATION:Central Office\, 828 Forest Ave\, Montgomery\, AL\, 36106
END:VEVENT
BEGIN:VEVENT
DTSTART;TZID=America/Chicago:20290620T100000
DTEND;TZID=America/Chicago:20290620T140000
DTSTAMP:20260425T064813
CREATED:20250301T230449Z
LAST-MODIFIED:20250301T230449Z
UID:10001512-1876644000-1876658400@centralalaa.org
SUMMARY:Central Office Open
DESCRIPTION:
URL:https://centralalaa.org/single-event/central-office-open/2029-06-20
LOCATION:Central Office\, 828 Forest Ave\, Montgomery\, AL\, 36106
END:VEVENT
BEGIN:VEVENT
DTSTART;TZID=America/Chicago:20290625T100000
DTEND;TZID=America/Chicago:20290625T140000
DTSTAMP:20260425T064813
CREATED:20260416T181911Z
LAST-MODIFIED:20260416T182034Z
UID:10003993-1877076000-1877090400@centralalaa.org
SUMMARY:Central Office Open
DESCRIPTION:Central office open
URL:https://centralalaa.org/single-event/central-office-open-1000am-200pm/2029-06-25
LOCATION:Central Office\, 828 Forest Ave\, Montgomery\, AL\, 36106
END:VEVENT
BEGIN:VEVENT
DTSTART;TZID=America/Chicago:20290627T100000
DTEND;TZID=America/Chicago:20290627T140000
DTSTAMP:20260425T064813
CREATED:20250301T230449Z
LAST-MODIFIED:20250301T230449Z
UID:10001513-1877248800-1877263200@centralalaa.org
SUMMARY:Central Office Open
DESCRIPTION:
URL:https://centralalaa.org/single-event/central-office-open/2029-06-27
LOCATION:Central Office\, 828 Forest Ave\, Montgomery\, AL\, 36106
END:VEVENT
BEGIN:VEVENT
DTSTART;TZID=America/Chicago:20290702T100000
DTEND;TZID=America/Chicago:20290702T140000
DTSTAMP:20260425T064813
CREATED:20260416T181911Z
LAST-MODIFIED:20260416T182034Z
UID:10003994-1877680800-1877695200@centralalaa.org
SUMMARY:Central Office Open
DESCRIPTION:Central office open
URL:https://centralalaa.org/single-event/central-office-open-1000am-200pm/2029-07-02
LOCATION:Central Office\, 828 Forest Ave\, Montgomery\, AL\, 36106
END:VEVENT
BEGIN:VEVENT
DTSTART;TZID=America/Chicago:20290704T100000
DTEND;TZID=America/Chicago:20290704T140000
DTSTAMP:20260425T064813
CREATED:20250301T230449Z
LAST-MODIFIED:20250301T230449Z
UID:10001514-1877853600-1877868000@centralalaa.org
SUMMARY:Central Office Open
DESCRIPTION:
URL:https://centralalaa.org/single-event/central-office-open/2029-07-04
LOCATION:Central Office\, 828 Forest Ave\, Montgomery\, AL\, 36106
END:VEVENT
BEGIN:VEVENT
DTSTART;TZID=America/Chicago:20290709T100000
DTEND;TZID=America/Chicago:20290709T140000
DTSTAMP:20260425T064813
CREATED:20260416T181911Z
LAST-MODIFIED:20260416T182034Z
UID:10003995-1878285600-1878300000@centralalaa.org
SUMMARY:Central Office Open
DESCRIPTION:Central office open
URL:https://centralalaa.org/single-event/central-office-open-1000am-200pm/2029-07-09
LOCATION:Central Office\, 828 Forest Ave\, Montgomery\, AL\, 36106
END:VEVENT
BEGIN:VEVENT
DTSTART;TZID=America/Chicago:20290711T100000
DTEND;TZID=America/Chicago:20290711T140000
DTSTAMP:20260425T064813
CREATED:20250301T230449Z
LAST-MODIFIED:20250301T230449Z
UID:10001515-1878458400-1878472800@centralalaa.org
SUMMARY:Central Office Open
DESCRIPTION:
URL:https://centralalaa.org/single-event/central-office-open/2029-07-11
LOCATION:Central Office\, 828 Forest Ave\, Montgomery\, AL\, 36106
END:VEVENT
BEGIN:VEVENT
DTSTART;TZID=America/Chicago:20290716T100000
DTEND;TZID=America/Chicago:20290716T140000
DTSTAMP:20260425T064813
CREATED:20260416T181911Z
LAST-MODIFIED:20260416T182034Z
UID:10003996-1878890400-1878904800@centralalaa.org
SUMMARY:Central Office Open
DESCRIPTION:Central office open
URL:https://centralalaa.org/single-event/central-office-open-1000am-200pm/2029-07-16
LOCATION:Central Office\, 828 Forest Ave\, Montgomery\, AL\, 36106
END:VEVENT
BEGIN:VEVENT
DTSTART;TZID=America/Chicago:20290718T100000
DTEND;TZID=America/Chicago:20290718T140000
DTSTAMP:20260425T064813
CREATED:20250301T230449Z
LAST-MODIFIED:20250301T230449Z
UID:10001516-1879063200-1879077600@centralalaa.org
SUMMARY:Central Office Open
DESCRIPTION:
URL:https://centralalaa.org/single-event/central-office-open/2029-07-18
LOCATION:Central Office\, 828 Forest Ave\, Montgomery\, AL\, 36106
END:VEVENT
BEGIN:VEVENT
DTSTART;TZID=America/Chicago:20290723T100000
DTEND;TZID=America/Chicago:20290723T140000
DTSTAMP:20260425T064813
CREATED:20260416T181911Z
LAST-MODIFIED:20260416T182034Z
UID:10003997-1879495200-1879509600@centralalaa.org
SUMMARY:Central Office Open
DESCRIPTION:Central office open
URL:https://centralalaa.org/single-event/central-office-open-1000am-200pm/2029-07-23
LOCATION:Central Office\, 828 Forest Ave\, Montgomery\, AL\, 36106
END:VEVENT
BEGIN:VEVENT
DTSTART;TZID=America/Chicago:20290725T100000
DTEND;TZID=America/Chicago:20290725T140000
DTSTAMP:20260425T064813
CREATED:20250301T230449Z
LAST-MODIFIED:20250301T230449Z
UID:10001517-1879668000-1879682400@centralalaa.org
SUMMARY:Central Office Open
DESCRIPTION:
URL:https://centralalaa.org/single-event/central-office-open/2029-07-25
LOCATION:Central Office\, 828 Forest Ave\, Montgomery\, AL\, 36106
END:VEVENT
END:VCALENDAR