BEGIN:VCALENDAR
VERSION:2.0
PRODID:-//District 8, Area 1 - ECPv6.15.20//NONSGML v1.0//EN
CALSCALE:GREGORIAN
METHOD:PUBLISH
X-WR-CALNAME:District 8, Area 1
X-ORIGINAL-URL:https://centralalaa.org
X-WR-CALDESC:Events for District 8, Area 1
REFRESH-INTERVAL;VALUE=DURATION:PT1H
X-Robots-Tag:noindex
X-PUBLISHED-TTL:PT1H
BEGIN:VTIMEZONE
TZID:America/Chicago
BEGIN:DAYLIGHT
TZOFFSETFROM:-0600
TZOFFSETTO:-0500
TZNAME:CDT
DTSTART:20280312T080000
END:DAYLIGHT
BEGIN:STANDARD
TZOFFSETFROM:-0500
TZOFFSETTO:-0600
TZNAME:CST
DTSTART:20281105T070000
END:STANDARD
BEGIN:DAYLIGHT
TZOFFSETFROM:-0600
TZOFFSETTO:-0500
TZNAME:CDT
DTSTART:20290311T080000
END:DAYLIGHT
BEGIN:STANDARD
TZOFFSETFROM:-0500
TZOFFSETTO:-0600
TZNAME:CST
DTSTART:20291104T070000
END:STANDARD
BEGIN:DAYLIGHT
TZOFFSETFROM:-0600
TZOFFSETTO:-0500
TZNAME:CDT
DTSTART:20300310T080000
END:DAYLIGHT
BEGIN:STANDARD
TZOFFSETFROM:-0500
TZOFFSETTO:-0600
TZNAME:CST
DTSTART:20301103T070000
END:STANDARD
END:VTIMEZONE
BEGIN:VEVENT
DTSTART;TZID=America/Chicago:20290625T100000
DTEND;TZID=America/Chicago:20290625T140000
DTSTAMP:20260425T095857
CREATED:20260416T181911Z
LAST-MODIFIED:20260416T182034Z
UID:10003993-1877076000-1877090400@centralalaa.org
SUMMARY:Central Office Open
DESCRIPTION:Central office open
URL:https://centralalaa.org/single-event/central-office-open-1000am-200pm/2029-06-25
LOCATION:Central Office\, 828 Forest Ave\, Montgomery\, AL\, 36106
END:VEVENT
BEGIN:VEVENT
DTSTART;TZID=America/Chicago:20290627T100000
DTEND;TZID=America/Chicago:20290627T140000
DTSTAMP:20260425T095857
CREATED:20250301T230449Z
LAST-MODIFIED:20250301T230449Z
UID:10001513-1877248800-1877263200@centralalaa.org
SUMMARY:Central Office Open
DESCRIPTION:
URL:https://centralalaa.org/single-event/central-office-open/2029-06-27
LOCATION:Central Office\, 828 Forest Ave\, Montgomery\, AL\, 36106
END:VEVENT
BEGIN:VEVENT
DTSTART;TZID=America/Chicago:20290702T100000
DTEND;TZID=America/Chicago:20290702T140000
DTSTAMP:20260425T095857
CREATED:20260416T181911Z
LAST-MODIFIED:20260416T182034Z
UID:10003994-1877680800-1877695200@centralalaa.org
SUMMARY:Central Office Open
DESCRIPTION:Central office open
URL:https://centralalaa.org/single-event/central-office-open-1000am-200pm/2029-07-02
LOCATION:Central Office\, 828 Forest Ave\, Montgomery\, AL\, 36106
END:VEVENT
BEGIN:VEVENT
DTSTART;TZID=America/Chicago:20290704T100000
DTEND;TZID=America/Chicago:20290704T140000
DTSTAMP:20260425T095857
CREATED:20250301T230449Z
LAST-MODIFIED:20250301T230449Z
UID:10001514-1877853600-1877868000@centralalaa.org
SUMMARY:Central Office Open
DESCRIPTION:
URL:https://centralalaa.org/single-event/central-office-open/2029-07-04
LOCATION:Central Office\, 828 Forest Ave\, Montgomery\, AL\, 36106
END:VEVENT
BEGIN:VEVENT
DTSTART;TZID=America/Chicago:20290709T100000
DTEND;TZID=America/Chicago:20290709T140000
DTSTAMP:20260425T095857
CREATED:20260416T181911Z
LAST-MODIFIED:20260416T182034Z
UID:10003995-1878285600-1878300000@centralalaa.org
SUMMARY:Central Office Open
DESCRIPTION:Central office open
URL:https://centralalaa.org/single-event/central-office-open-1000am-200pm/2029-07-09
LOCATION:Central Office\, 828 Forest Ave\, Montgomery\, AL\, 36106
END:VEVENT
BEGIN:VEVENT
DTSTART;TZID=America/Chicago:20290711T100000
DTEND;TZID=America/Chicago:20290711T140000
DTSTAMP:20260425T095857
CREATED:20250301T230449Z
LAST-MODIFIED:20250301T230449Z
UID:10001515-1878458400-1878472800@centralalaa.org
SUMMARY:Central Office Open
DESCRIPTION:
URL:https://centralalaa.org/single-event/central-office-open/2029-07-11
LOCATION:Central Office\, 828 Forest Ave\, Montgomery\, AL\, 36106
END:VEVENT
BEGIN:VEVENT
DTSTART;TZID=America/Chicago:20290716T100000
DTEND;TZID=America/Chicago:20290716T140000
DTSTAMP:20260425T095857
CREATED:20260416T181911Z
LAST-MODIFIED:20260416T182034Z
UID:10003996-1878890400-1878904800@centralalaa.org
SUMMARY:Central Office Open
DESCRIPTION:Central office open
URL:https://centralalaa.org/single-event/central-office-open-1000am-200pm/2029-07-16
LOCATION:Central Office\, 828 Forest Ave\, Montgomery\, AL\, 36106
END:VEVENT
BEGIN:VEVENT
DTSTART;TZID=America/Chicago:20290718T100000
DTEND;TZID=America/Chicago:20290718T140000
DTSTAMP:20260425T095857
CREATED:20250301T230449Z
LAST-MODIFIED:20250301T230449Z
UID:10001516-1879063200-1879077600@centralalaa.org
SUMMARY:Central Office Open
DESCRIPTION:
URL:https://centralalaa.org/single-event/central-office-open/2029-07-18
LOCATION:Central Office\, 828 Forest Ave\, Montgomery\, AL\, 36106
END:VEVENT
BEGIN:VEVENT
DTSTART;TZID=America/Chicago:20290723T100000
DTEND;TZID=America/Chicago:20290723T140000
DTSTAMP:20260425T095857
CREATED:20260416T181911Z
LAST-MODIFIED:20260416T182034Z
UID:10003997-1879495200-1879509600@centralalaa.org
SUMMARY:Central Office Open
DESCRIPTION:Central office open
URL:https://centralalaa.org/single-event/central-office-open-1000am-200pm/2029-07-23
LOCATION:Central Office\, 828 Forest Ave\, Montgomery\, AL\, 36106
END:VEVENT
BEGIN:VEVENT
DTSTART;TZID=America/Chicago:20290725T100000
DTEND;TZID=America/Chicago:20290725T140000
DTSTAMP:20260425T095857
CREATED:20250301T230449Z
LAST-MODIFIED:20250301T230449Z
UID:10001517-1879668000-1879682400@centralalaa.org
SUMMARY:Central Office Open
DESCRIPTION:
URL:https://centralalaa.org/single-event/central-office-open/2029-07-25
LOCATION:Central Office\, 828 Forest Ave\, Montgomery\, AL\, 36106
END:VEVENT
BEGIN:VEVENT
DTSTART;TZID=America/Chicago:20290730T100000
DTEND;TZID=America/Chicago:20290730T140000
DTSTAMP:20260425T095857
CREATED:20260416T181911Z
LAST-MODIFIED:20260416T182034Z
UID:10003998-1880100000-1880114400@centralalaa.org
SUMMARY:Central Office Open
DESCRIPTION:Central office open
URL:https://centralalaa.org/single-event/central-office-open-1000am-200pm/2029-07-30
LOCATION:Central Office\, 828 Forest Ave\, Montgomery\, AL\, 36106
END:VEVENT
BEGIN:VEVENT
DTSTART;TZID=America/Chicago:20290801T100000
DTEND;TZID=America/Chicago:20290801T140000
DTSTAMP:20260425T095857
CREATED:20250301T230449Z
LAST-MODIFIED:20250301T230449Z
UID:10001518-1880272800-1880287200@centralalaa.org
SUMMARY:Central Office Open
DESCRIPTION:
URL:https://centralalaa.org/single-event/central-office-open/2029-08-01
LOCATION:Central Office\, 828 Forest Ave\, Montgomery\, AL\, 36106
END:VEVENT
BEGIN:VEVENT
DTSTART;TZID=America/Chicago:20290806T100000
DTEND;TZID=America/Chicago:20290806T140000
DTSTAMP:20260425T095857
CREATED:20260416T181911Z
LAST-MODIFIED:20260416T182034Z
UID:10003999-1880704800-1880719200@centralalaa.org
SUMMARY:Central Office Open
DESCRIPTION:Central office open
URL:https://centralalaa.org/single-event/central-office-open-1000am-200pm/2029-08-06
LOCATION:Central Office\, 828 Forest Ave\, Montgomery\, AL\, 36106
END:VEVENT
BEGIN:VEVENT
DTSTART;TZID=America/Chicago:20290808T100000
DTEND;TZID=America/Chicago:20290808T140000
DTSTAMP:20260425T095857
CREATED:20250301T230449Z
LAST-MODIFIED:20250301T230449Z
UID:10001519-1880877600-1880892000@centralalaa.org
SUMMARY:Central Office Open
DESCRIPTION:
URL:https://centralalaa.org/single-event/central-office-open/2029-08-08
LOCATION:Central Office\, 828 Forest Ave\, Montgomery\, AL\, 36106
END:VEVENT
BEGIN:VEVENT
DTSTART;TZID=America/Chicago:20290813T100000
DTEND;TZID=America/Chicago:20290813T140000
DTSTAMP:20260425T095857
CREATED:20260416T181911Z
LAST-MODIFIED:20260416T182034Z
UID:10004000-1881309600-1881324000@centralalaa.org
SUMMARY:Central Office Open
DESCRIPTION:Central office open
URL:https://centralalaa.org/single-event/central-office-open-1000am-200pm/2029-08-13
LOCATION:Central Office\, 828 Forest Ave\, Montgomery\, AL\, 36106
END:VEVENT
BEGIN:VEVENT
DTSTART;TZID=America/Chicago:20290815T100000
DTEND;TZID=America/Chicago:20290815T140000
DTSTAMP:20260425T095857
CREATED:20250301T230449Z
LAST-MODIFIED:20250301T230449Z
UID:10001520-1881482400-1881496800@centralalaa.org
SUMMARY:Central Office Open
DESCRIPTION:
URL:https://centralalaa.org/single-event/central-office-open/2029-08-15
LOCATION:Central Office\, 828 Forest Ave\, Montgomery\, AL\, 36106
END:VEVENT
BEGIN:VEVENT
DTSTART;TZID=America/Chicago:20290820T100000
DTEND;TZID=America/Chicago:20290820T140000
DTSTAMP:20260425T095857
CREATED:20260416T181911Z
LAST-MODIFIED:20260416T182034Z
UID:10004001-1881914400-1881928800@centralalaa.org
SUMMARY:Central Office Open
DESCRIPTION:Central office open
URL:https://centralalaa.org/single-event/central-office-open-1000am-200pm/2029-08-20
LOCATION:Central Office\, 828 Forest Ave\, Montgomery\, AL\, 36106
END:VEVENT
BEGIN:VEVENT
DTSTART;TZID=America/Chicago:20290822T100000
DTEND;TZID=America/Chicago:20290822T140000
DTSTAMP:20260425T095857
CREATED:20250301T230449Z
LAST-MODIFIED:20250301T230449Z
UID:10001521-1882087200-1882101600@centralalaa.org
SUMMARY:Central Office Open
DESCRIPTION:
URL:https://centralalaa.org/single-event/central-office-open/2029-08-22
LOCATION:Central Office\, 828 Forest Ave\, Montgomery\, AL\, 36106
END:VEVENT
BEGIN:VEVENT
DTSTART;TZID=America/Chicago:20290827T100000
DTEND;TZID=America/Chicago:20290827T140000
DTSTAMP:20260425T095857
CREATED:20260416T181911Z
LAST-MODIFIED:20260416T182034Z
UID:10004002-1882519200-1882533600@centralalaa.org
SUMMARY:Central Office Open
DESCRIPTION:Central office open
URL:https://centralalaa.org/single-event/central-office-open-1000am-200pm/2029-08-27
LOCATION:Central Office\, 828 Forest Ave\, Montgomery\, AL\, 36106
END:VEVENT
BEGIN:VEVENT
DTSTART;TZID=America/Chicago:20290829T100000
DTEND;TZID=America/Chicago:20290829T140000
DTSTAMP:20260425T095857
CREATED:20250301T230449Z
LAST-MODIFIED:20250301T230449Z
UID:10001522-1882692000-1882706400@centralalaa.org
SUMMARY:Central Office Open
DESCRIPTION:
URL:https://centralalaa.org/single-event/central-office-open/2029-08-29
LOCATION:Central Office\, 828 Forest Ave\, Montgomery\, AL\, 36106
END:VEVENT
BEGIN:VEVENT
DTSTART;TZID=America/Chicago:20290903T100000
DTEND;TZID=America/Chicago:20290903T140000
DTSTAMP:20260425T095857
CREATED:20260416T181911Z
LAST-MODIFIED:20260416T182034Z
UID:10004003-1883124000-1883138400@centralalaa.org
SUMMARY:Central Office Open
DESCRIPTION:Central office open
URL:https://centralalaa.org/single-event/central-office-open-1000am-200pm/2029-09-03
LOCATION:Central Office\, 828 Forest Ave\, Montgomery\, AL\, 36106
END:VEVENT
BEGIN:VEVENT
DTSTART;TZID=America/Chicago:20290905T100000
DTEND;TZID=America/Chicago:20290905T140000
DTSTAMP:20260425T095857
CREATED:20250301T230449Z
LAST-MODIFIED:20250301T230449Z
UID:10001523-1883296800-1883311200@centralalaa.org
SUMMARY:Central Office Open
DESCRIPTION:
URL:https://centralalaa.org/single-event/central-office-open/2029-09-05
LOCATION:Central Office\, 828 Forest Ave\, Montgomery\, AL\, 36106
END:VEVENT
BEGIN:VEVENT
DTSTART;TZID=America/Chicago:20290910T100000
DTEND;TZID=America/Chicago:20290910T140000
DTSTAMP:20260425T095857
CREATED:20260416T181911Z
LAST-MODIFIED:20260416T182034Z
UID:10004004-1883728800-1883743200@centralalaa.org
SUMMARY:Central Office Open
DESCRIPTION:Central office open
URL:https://centralalaa.org/single-event/central-office-open-1000am-200pm/2029-09-10
LOCATION:Central Office\, 828 Forest Ave\, Montgomery\, AL\, 36106
END:VEVENT
BEGIN:VEVENT
DTSTART;TZID=America/Chicago:20290912T100000
DTEND;TZID=America/Chicago:20290912T140000
DTSTAMP:20260425T095857
CREATED:20250301T230449Z
LAST-MODIFIED:20250301T230449Z
UID:10001524-1883901600-1883916000@centralalaa.org
SUMMARY:Central Office Open
DESCRIPTION:
URL:https://centralalaa.org/single-event/central-office-open/2029-09-12
LOCATION:Central Office\, 828 Forest Ave\, Montgomery\, AL\, 36106
END:VEVENT
BEGIN:VEVENT
DTSTART;TZID=America/Chicago:20290917T100000
DTEND;TZID=America/Chicago:20290917T140000
DTSTAMP:20260425T095857
CREATED:20260416T181911Z
LAST-MODIFIED:20260416T182034Z
UID:10004005-1884333600-1884348000@centralalaa.org
SUMMARY:Central Office Open
DESCRIPTION:Central office open
URL:https://centralalaa.org/single-event/central-office-open-1000am-200pm/2029-09-17
LOCATION:Central Office\, 828 Forest Ave\, Montgomery\, AL\, 36106
END:VEVENT
BEGIN:VEVENT
DTSTART;TZID=America/Chicago:20290919T100000
DTEND;TZID=America/Chicago:20290919T140000
DTSTAMP:20260425T095857
CREATED:20250301T230449Z
LAST-MODIFIED:20250301T230449Z
UID:10001525-1884506400-1884520800@centralalaa.org
SUMMARY:Central Office Open
DESCRIPTION:
URL:https://centralalaa.org/single-event/central-office-open/2029-09-19
LOCATION:Central Office\, 828 Forest Ave\, Montgomery\, AL\, 36106
END:VEVENT
BEGIN:VEVENT
DTSTART;TZID=America/Chicago:20290924T100000
DTEND;TZID=America/Chicago:20290924T140000
DTSTAMP:20260425T095857
CREATED:20260416T181911Z
LAST-MODIFIED:20260416T182034Z
UID:10004006-1884938400-1884952800@centralalaa.org
SUMMARY:Central Office Open
DESCRIPTION:Central office open
URL:https://centralalaa.org/single-event/central-office-open-1000am-200pm/2029-09-24
LOCATION:Central Office\, 828 Forest Ave\, Montgomery\, AL\, 36106
END:VEVENT
BEGIN:VEVENT
DTSTART;TZID=America/Chicago:20290926T100000
DTEND;TZID=America/Chicago:20290926T140000
DTSTAMP:20260425T095857
CREATED:20250301T230449Z
LAST-MODIFIED:20250301T230449Z
UID:10001526-1885111200-1885125600@centralalaa.org
SUMMARY:Central Office Open
DESCRIPTION:
URL:https://centralalaa.org/single-event/central-office-open/2029-09-26
LOCATION:Central Office\, 828 Forest Ave\, Montgomery\, AL\, 36106
END:VEVENT
BEGIN:VEVENT
DTSTART;TZID=America/Chicago:20291001T100000
DTEND;TZID=America/Chicago:20291001T140000
DTSTAMP:20260425T095857
CREATED:20260416T181911Z
LAST-MODIFIED:20260416T182034Z
UID:10004007-1885543200-1885557600@centralalaa.org
SUMMARY:Central Office Open
DESCRIPTION:Central office open
URL:https://centralalaa.org/single-event/central-office-open-1000am-200pm/2029-10-01
LOCATION:Central Office\, 828 Forest Ave\, Montgomery\, AL\, 36106
END:VEVENT
BEGIN:VEVENT
DTSTART;TZID=America/Chicago:20291003T100000
DTEND;TZID=America/Chicago:20291003T140000
DTSTAMP:20260425T095857
CREATED:20250301T230449Z
LAST-MODIFIED:20250301T230449Z
UID:10001527-1885716000-1885730400@centralalaa.org
SUMMARY:Central Office Open
DESCRIPTION:
URL:https://centralalaa.org/single-event/central-office-open/2029-10-03
LOCATION:Central Office\, 828 Forest Ave\, Montgomery\, AL\, 36106
END:VEVENT
END:VCALENDAR