BEGIN:VCALENDAR
VERSION:2.0
PRODID:-//District 8, Area 1 - ECPv6.15.20//NONSGML v1.0//EN
CALSCALE:GREGORIAN
METHOD:PUBLISH
X-ORIGINAL-URL:https://centralalaa.org
X-WR-CALDESC:Events for District 8, Area 1
REFRESH-INTERVAL;VALUE=DURATION:PT1H
X-Robots-Tag:noindex
X-PUBLISHED-TTL:PT1H
BEGIN:VTIMEZONE
TZID:America/Chicago
BEGIN:DAYLIGHT
TZOFFSETFROM:-0600
TZOFFSETTO:-0500
TZNAME:CDT
DTSTART:20280312T080000
END:DAYLIGHT
BEGIN:STANDARD
TZOFFSETFROM:-0500
TZOFFSETTO:-0600
TZNAME:CST
DTSTART:20281105T070000
END:STANDARD
BEGIN:DAYLIGHT
TZOFFSETFROM:-0600
TZOFFSETTO:-0500
TZNAME:CDT
DTSTART:20290311T080000
END:DAYLIGHT
BEGIN:STANDARD
TZOFFSETFROM:-0500
TZOFFSETTO:-0600
TZNAME:CST
DTSTART:20291104T070000
END:STANDARD
BEGIN:DAYLIGHT
TZOFFSETFROM:-0600
TZOFFSETTO:-0500
TZNAME:CDT
DTSTART:20300310T080000
END:DAYLIGHT
BEGIN:STANDARD
TZOFFSETFROM:-0500
TZOFFSETTO:-0600
TZNAME:CST
DTSTART:20301103T070000
END:STANDARD
BEGIN:DAYLIGHT
TZOFFSETFROM:-0600
TZOFFSETTO:-0500
TZNAME:CDT
DTSTART:20310309T080000
END:DAYLIGHT
BEGIN:STANDARD
TZOFFSETFROM:-0500
TZOFFSETTO:-0600
TZNAME:CST
DTSTART:20311102T070000
END:STANDARD
END:VTIMEZONE
BEGIN:VEVENT
DTSTART;TZID=America/Chicago:20291008T100000
DTEND;TZID=America/Chicago:20291008T140000
DTSTAMP:20260425T144737
CREATED:20260416T181911Z
LAST-MODIFIED:20260416T182034Z
UID:10004008-1886148000-1886162400@centralalaa.org
SUMMARY:Central Office Open
DESCRIPTION:Central office open
URL:https://centralalaa.org/single-event/central-office-open-1000am-200pm/2029-10-08
LOCATION:Central Office\, 828 Forest Ave\, Montgomery\, AL\, 36106
END:VEVENT
BEGIN:VEVENT
DTSTART;TZID=America/Chicago:20291010T100000
DTEND;TZID=America/Chicago:20291010T140000
DTSTAMP:20260425T144737
CREATED:20250301T230449Z
LAST-MODIFIED:20250301T230449Z
UID:10001528-1886320800-1886335200@centralalaa.org
SUMMARY:Central Office Open
DESCRIPTION:
URL:https://centralalaa.org/single-event/central-office-open/2029-10-10
LOCATION:Central Office\, 828 Forest Ave\, Montgomery\, AL\, 36106
END:VEVENT
BEGIN:VEVENT
DTSTART;TZID=America/Chicago:20291015T100000
DTEND;TZID=America/Chicago:20291015T140000
DTSTAMP:20260425T144737
CREATED:20260416T181911Z
LAST-MODIFIED:20260416T182034Z
UID:10004009-1886752800-1886767200@centralalaa.org
SUMMARY:Central Office Open
DESCRIPTION:Central office open
URL:https://centralalaa.org/single-event/central-office-open-1000am-200pm/2029-10-15
LOCATION:Central Office\, 828 Forest Ave\, Montgomery\, AL\, 36106
END:VEVENT
BEGIN:VEVENT
DTSTART;TZID=America/Chicago:20291017T100000
DTEND;TZID=America/Chicago:20291017T140000
DTSTAMP:20260425T144737
CREATED:20250301T230449Z
LAST-MODIFIED:20250301T230449Z
UID:10001529-1886925600-1886940000@centralalaa.org
SUMMARY:Central Office Open
DESCRIPTION:
URL:https://centralalaa.org/single-event/central-office-open/2029-10-17
LOCATION:Central Office\, 828 Forest Ave\, Montgomery\, AL\, 36106
END:VEVENT
BEGIN:VEVENT
DTSTART;TZID=America/Chicago:20291022T100000
DTEND;TZID=America/Chicago:20291022T140000
DTSTAMP:20260425T144737
CREATED:20260416T181911Z
LAST-MODIFIED:20260416T182034Z
UID:10004010-1887357600-1887372000@centralalaa.org
SUMMARY:Central Office Open
DESCRIPTION:Central office open
URL:https://centralalaa.org/single-event/central-office-open-1000am-200pm/2029-10-22
LOCATION:Central Office\, 828 Forest Ave\, Montgomery\, AL\, 36106
END:VEVENT
BEGIN:VEVENT
DTSTART;TZID=America/Chicago:20291024T100000
DTEND;TZID=America/Chicago:20291024T140000
DTSTAMP:20260425T144737
CREATED:20250301T230449Z
LAST-MODIFIED:20250301T230449Z
UID:10001530-1887530400-1887544800@centralalaa.org
SUMMARY:Central Office Open
DESCRIPTION:
URL:https://centralalaa.org/single-event/central-office-open/2029-10-24
LOCATION:Central Office\, 828 Forest Ave\, Montgomery\, AL\, 36106
END:VEVENT
BEGIN:VEVENT
DTSTART;TZID=America/Chicago:20291029T100000
DTEND;TZID=America/Chicago:20291029T140000
DTSTAMP:20260425T144737
CREATED:20260416T181911Z
LAST-MODIFIED:20260416T182034Z
UID:10004011-1887962400-1887976800@centralalaa.org
SUMMARY:Central Office Open
DESCRIPTION:Central office open
URL:https://centralalaa.org/single-event/central-office-open-1000am-200pm/2029-10-29
LOCATION:Central Office\, 828 Forest Ave\, Montgomery\, AL\, 36106
END:VEVENT
BEGIN:VEVENT
DTSTART;TZID=America/Chicago:20291031T100000
DTEND;TZID=America/Chicago:20291031T140000
DTSTAMP:20260425T144737
CREATED:20250301T230449Z
LAST-MODIFIED:20250301T230449Z
UID:10001531-1888135200-1888149600@centralalaa.org
SUMMARY:Central Office Open
DESCRIPTION:
URL:https://centralalaa.org/single-event/central-office-open/2029-10-31
LOCATION:Central Office\, 828 Forest Ave\, Montgomery\, AL\, 36106
END:VEVENT
BEGIN:VEVENT
DTSTART;TZID=America/Chicago:20291105T100000
DTEND;TZID=America/Chicago:20291105T140000
DTSTAMP:20260425T144737
CREATED:20260416T181911Z
LAST-MODIFIED:20260416T182034Z
UID:10004012-1888567200-1888581600@centralalaa.org
SUMMARY:Central Office Open
DESCRIPTION:Central office open
URL:https://centralalaa.org/single-event/central-office-open-1000am-200pm/2029-11-05
LOCATION:Central Office\, 828 Forest Ave\, Montgomery\, AL\, 36106
END:VEVENT
BEGIN:VEVENT
DTSTART;TZID=America/Chicago:20291107T100000
DTEND;TZID=America/Chicago:20291107T140000
DTSTAMP:20260425T144737
CREATED:20250301T230449Z
LAST-MODIFIED:20250301T230449Z
UID:10001532-1888740000-1888754400@centralalaa.org
SUMMARY:Central Office Open
DESCRIPTION:
URL:https://centralalaa.org/single-event/central-office-open/2029-11-07
LOCATION:Central Office\, 828 Forest Ave\, Montgomery\, AL\, 36106
END:VEVENT
BEGIN:VEVENT
DTSTART;TZID=America/Chicago:20291112T100000
DTEND;TZID=America/Chicago:20291112T140000
DTSTAMP:20260425T144737
CREATED:20260416T181911Z
LAST-MODIFIED:20260416T182034Z
UID:10004013-1889172000-1889186400@centralalaa.org
SUMMARY:Central Office Open
DESCRIPTION:Central office open
URL:https://centralalaa.org/single-event/central-office-open-1000am-200pm/2029-11-12
LOCATION:Central Office\, 828 Forest Ave\, Montgomery\, AL\, 36106
END:VEVENT
BEGIN:VEVENT
DTSTART;TZID=America/Chicago:20291114T100000
DTEND;TZID=America/Chicago:20291114T140000
DTSTAMP:20260425T144737
CREATED:20250301T230449Z
LAST-MODIFIED:20250301T230449Z
UID:10001533-1889344800-1889359200@centralalaa.org
SUMMARY:Central Office Open
DESCRIPTION:
URL:https://centralalaa.org/single-event/central-office-open/2029-11-14
LOCATION:Central Office\, 828 Forest Ave\, Montgomery\, AL\, 36106
END:VEVENT
BEGIN:VEVENT
DTSTART;TZID=America/Chicago:20291119T100000
DTEND;TZID=America/Chicago:20291119T140000
DTSTAMP:20260425T144737
CREATED:20260416T181911Z
LAST-MODIFIED:20260416T182034Z
UID:10004014-1889776800-1889791200@centralalaa.org
SUMMARY:Central Office Open
DESCRIPTION:Central office open
URL:https://centralalaa.org/single-event/central-office-open-1000am-200pm/2029-11-19
LOCATION:Central Office\, 828 Forest Ave\, Montgomery\, AL\, 36106
END:VEVENT
BEGIN:VEVENT
DTSTART;TZID=America/Chicago:20291121T100000
DTEND;TZID=America/Chicago:20291121T140000
DTSTAMP:20260425T144737
CREATED:20250301T230449Z
LAST-MODIFIED:20250301T230449Z
UID:10001534-1889949600-1889964000@centralalaa.org
SUMMARY:Central Office Open
DESCRIPTION:
URL:https://centralalaa.org/single-event/central-office-open/2029-11-21
LOCATION:Central Office\, 828 Forest Ave\, Montgomery\, AL\, 36106
END:VEVENT
BEGIN:VEVENT
DTSTART;TZID=America/Chicago:20291126T100000
DTEND;TZID=America/Chicago:20291126T140000
DTSTAMP:20260425T144737
CREATED:20260416T181911Z
LAST-MODIFIED:20260416T182034Z
UID:10004015-1890381600-1890396000@centralalaa.org
SUMMARY:Central Office Open
DESCRIPTION:Central office open
URL:https://centralalaa.org/single-event/central-office-open-1000am-200pm/2029-11-26
LOCATION:Central Office\, 828 Forest Ave\, Montgomery\, AL\, 36106
END:VEVENT
BEGIN:VEVENT
DTSTART;TZID=America/Chicago:20291128T100000
DTEND;TZID=America/Chicago:20291128T140000
DTSTAMP:20260425T144737
CREATED:20250301T230449Z
LAST-MODIFIED:20250301T230449Z
UID:10001535-1890554400-1890568800@centralalaa.org
SUMMARY:Central Office Open
DESCRIPTION:
URL:https://centralalaa.org/single-event/central-office-open/2029-11-28
LOCATION:Central Office\, 828 Forest Ave\, Montgomery\, AL\, 36106
END:VEVENT
BEGIN:VEVENT
DTSTART;TZID=America/Chicago:20291203T100000
DTEND;TZID=America/Chicago:20291203T140000
DTSTAMP:20260425T144737
CREATED:20260416T181911Z
LAST-MODIFIED:20260416T182034Z
UID:10004016-1890986400-1891000800@centralalaa.org
SUMMARY:Central Office Open
DESCRIPTION:Central office open
URL:https://centralalaa.org/single-event/central-office-open-1000am-200pm/2029-12-03
LOCATION:Central Office\, 828 Forest Ave\, Montgomery\, AL\, 36106
END:VEVENT
BEGIN:VEVENT
DTSTART;TZID=America/Chicago:20291205T100000
DTEND;TZID=America/Chicago:20291205T140000
DTSTAMP:20260425T144737
CREATED:20250301T230449Z
LAST-MODIFIED:20250301T230449Z
UID:10001536-1891159200-1891173600@centralalaa.org
SUMMARY:Central Office Open
DESCRIPTION:
URL:https://centralalaa.org/single-event/central-office-open/2029-12-05
LOCATION:Central Office\, 828 Forest Ave\, Montgomery\, AL\, 36106
END:VEVENT
BEGIN:VEVENT
DTSTART;TZID=America/Chicago:20291210T100000
DTEND;TZID=America/Chicago:20291210T140000
DTSTAMP:20260425T144737
CREATED:20260416T181911Z
LAST-MODIFIED:20260416T182034Z
UID:10004017-1891591200-1891605600@centralalaa.org
SUMMARY:Central Office Open
DESCRIPTION:Central office open
URL:https://centralalaa.org/single-event/central-office-open-1000am-200pm/2029-12-10
LOCATION:Central Office\, 828 Forest Ave\, Montgomery\, AL\, 36106
END:VEVENT
BEGIN:VEVENT
DTSTART;TZID=America/Chicago:20291212T100000
DTEND;TZID=America/Chicago:20291212T140000
DTSTAMP:20260425T144737
CREATED:20250301T230449Z
LAST-MODIFIED:20250301T230449Z
UID:10001537-1891764000-1891778400@centralalaa.org
SUMMARY:Central Office Open
DESCRIPTION:
URL:https://centralalaa.org/single-event/central-office-open/2029-12-12
LOCATION:Central Office\, 828 Forest Ave\, Montgomery\, AL\, 36106
END:VEVENT
BEGIN:VEVENT
DTSTART;TZID=America/Chicago:20291217T100000
DTEND;TZID=America/Chicago:20291217T140000
DTSTAMP:20260425T144737
CREATED:20260416T181911Z
LAST-MODIFIED:20260416T182034Z
UID:10004018-1892196000-1892210400@centralalaa.org
SUMMARY:Central Office Open
DESCRIPTION:Central office open
URL:https://centralalaa.org/single-event/central-office-open-1000am-200pm/2029-12-17
LOCATION:Central Office\, 828 Forest Ave\, Montgomery\, AL\, 36106
END:VEVENT
BEGIN:VEVENT
DTSTART;TZID=America/Chicago:20291219T100000
DTEND;TZID=America/Chicago:20291219T140000
DTSTAMP:20260425T144737
CREATED:20250301T230449Z
LAST-MODIFIED:20250301T230449Z
UID:10001538-1892368800-1892383200@centralalaa.org
SUMMARY:Central Office Open
DESCRIPTION:
URL:https://centralalaa.org/single-event/central-office-open/2029-12-19
LOCATION:Central Office\, 828 Forest Ave\, Montgomery\, AL\, 36106
END:VEVENT
BEGIN:VEVENT
DTSTART;TZID=America/Chicago:20291224T100000
DTEND;TZID=America/Chicago:20291224T140000
DTSTAMP:20260425T144737
CREATED:20260416T181911Z
LAST-MODIFIED:20260416T182034Z
UID:10004019-1892800800-1892815200@centralalaa.org
SUMMARY:Central Office Open
DESCRIPTION:Central office open
URL:https://centralalaa.org/single-event/central-office-open-1000am-200pm/2029-12-24
LOCATION:Central Office\, 828 Forest Ave\, Montgomery\, AL\, 36106
END:VEVENT
BEGIN:VEVENT
DTSTART;TZID=America/Chicago:20291226T100000
DTEND;TZID=America/Chicago:20291226T140000
DTSTAMP:20260425T144737
CREATED:20250301T230449Z
LAST-MODIFIED:20250301T230449Z
UID:10001539-1892973600-1892988000@centralalaa.org
SUMMARY:Central Office Open
DESCRIPTION:
URL:https://centralalaa.org/single-event/central-office-open/2029-12-26
LOCATION:Central Office\, 828 Forest Ave\, Montgomery\, AL\, 36106
END:VEVENT
BEGIN:VEVENT
DTSTART;TZID=America/Chicago:20291231T100000
DTEND;TZID=America/Chicago:20291231T140000
DTSTAMP:20260425T144737
CREATED:20260416T181911Z
LAST-MODIFIED:20260416T182034Z
UID:10004020-1893405600-1893420000@centralalaa.org
SUMMARY:Central Office Open
DESCRIPTION:Central office open
URL:https://centralalaa.org/single-event/central-office-open-1000am-200pm/2029-12-31
LOCATION:Central Office\, 828 Forest Ave\, Montgomery\, AL\, 36106
END:VEVENT
BEGIN:VEVENT
DTSTART;TZID=America/Chicago:20300102T100000
DTEND;TZID=America/Chicago:20300102T140000
DTSTAMP:20260425T144737
CREATED:20250301T230449Z
LAST-MODIFIED:20250301T230449Z
UID:10001540-1893578400-1893592800@centralalaa.org
SUMMARY:Central Office Open
DESCRIPTION:
URL:https://centralalaa.org/single-event/central-office-open/2030-01-02
LOCATION:Central Office\, 828 Forest Ave\, Montgomery\, AL\, 36106
END:VEVENT
BEGIN:VEVENT
DTSTART;TZID=America/Chicago:20300107T100000
DTEND;TZID=America/Chicago:20300107T140000
DTSTAMP:20260425T144737
CREATED:20260416T181911Z
LAST-MODIFIED:20260416T182034Z
UID:10004021-1894010400-1894024800@centralalaa.org
SUMMARY:Central Office Open
DESCRIPTION:Central office open
URL:https://centralalaa.org/single-event/central-office-open-1000am-200pm/2030-01-07
LOCATION:Central Office\, 828 Forest Ave\, Montgomery\, AL\, 36106
END:VEVENT
BEGIN:VEVENT
DTSTART;TZID=America/Chicago:20300109T100000
DTEND;TZID=America/Chicago:20300109T140000
DTSTAMP:20260425T144737
CREATED:20250301T230449Z
LAST-MODIFIED:20250301T230449Z
UID:10001541-1894183200-1894197600@centralalaa.org
SUMMARY:Central Office Open
DESCRIPTION:
URL:https://centralalaa.org/single-event/central-office-open/2030-01-09
LOCATION:Central Office\, 828 Forest Ave\, Montgomery\, AL\, 36106
END:VEVENT
BEGIN:VEVENT
DTSTART;TZID=America/Chicago:20300114T100000
DTEND;TZID=America/Chicago:20300114T140000
DTSTAMP:20260425T144737
CREATED:20260416T181911Z
LAST-MODIFIED:20260416T182034Z
UID:10004022-1894615200-1894629600@centralalaa.org
SUMMARY:Central Office Open
DESCRIPTION:Central office open
URL:https://centralalaa.org/single-event/central-office-open-1000am-200pm/2030-01-14
LOCATION:Central Office\, 828 Forest Ave\, Montgomery\, AL\, 36106
END:VEVENT
BEGIN:VEVENT
DTSTART;TZID=America/Chicago:20300116T100000
DTEND;TZID=America/Chicago:20300116T140000
DTSTAMP:20260425T144737
CREATED:20250301T230449Z
LAST-MODIFIED:20250301T230449Z
UID:10001542-1894788000-1894802400@centralalaa.org
SUMMARY:Central Office Open
DESCRIPTION:
URL:https://centralalaa.org/single-event/central-office-open/2030-01-16
LOCATION:Central Office\, 828 Forest Ave\, Montgomery\, AL\, 36106
END:VEVENT
END:VCALENDAR