BEGIN:VCALENDAR
VERSION:2.0
PRODID:-//District 8, Area 1 - ECPv6.15.20//NONSGML v1.0//EN
CALSCALE:GREGORIAN
METHOD:PUBLISH
X-WR-CALNAME:District 8, Area 1
X-ORIGINAL-URL:https://centralalaa.org
X-WR-CALDESC:Events for District 8, Area 1
REFRESH-INTERVAL;VALUE=DURATION:PT1H
X-Robots-Tag:noindex
X-PUBLISHED-TTL:PT1H
BEGIN:VTIMEZONE
TZID:America/Chicago
BEGIN:DAYLIGHT
TZOFFSETFROM:-0600
TZOFFSETTO:-0500
TZNAME:CDT
DTSTART:20280312T080000
END:DAYLIGHT
BEGIN:STANDARD
TZOFFSETFROM:-0500
TZOFFSETTO:-0600
TZNAME:CST
DTSTART:20281105T070000
END:STANDARD
BEGIN:DAYLIGHT
TZOFFSETFROM:-0600
TZOFFSETTO:-0500
TZNAME:CDT
DTSTART:20290311T080000
END:DAYLIGHT
BEGIN:STANDARD
TZOFFSETFROM:-0500
TZOFFSETTO:-0600
TZNAME:CST
DTSTART:20291104T070000
END:STANDARD
BEGIN:DAYLIGHT
TZOFFSETFROM:-0600
TZOFFSETTO:-0500
TZNAME:CDT
DTSTART:20300310T080000
END:DAYLIGHT
BEGIN:STANDARD
TZOFFSETFROM:-0500
TZOFFSETTO:-0600
TZNAME:CST
DTSTART:20301103T070000
END:STANDARD
BEGIN:DAYLIGHT
TZOFFSETFROM:-0600
TZOFFSETTO:-0500
TZNAME:CDT
DTSTART:20310309T080000
END:DAYLIGHT
BEGIN:STANDARD
TZOFFSETFROM:-0500
TZOFFSETTO:-0600
TZNAME:CST
DTSTART:20311102T070000
END:STANDARD
END:VTIMEZONE
BEGIN:VEVENT
DTSTART;TZID=America/Chicago:20291217T100000
DTEND;TZID=America/Chicago:20291217T140000
DTSTAMP:20260425T180814
CREATED:20260416T181911Z
LAST-MODIFIED:20260416T182034Z
UID:10004018-1892196000-1892210400@centralalaa.org
SUMMARY:Central Office Open
DESCRIPTION:Central office open
URL:https://centralalaa.org/single-event/central-office-open-1000am-200pm/2029-12-17
LOCATION:Central Office\, 828 Forest Ave\, Montgomery\, AL\, 36106
END:VEVENT
BEGIN:VEVENT
DTSTART;TZID=America/Chicago:20291219T100000
DTEND;TZID=America/Chicago:20291219T140000
DTSTAMP:20260425T180814
CREATED:20250301T230449Z
LAST-MODIFIED:20250301T230449Z
UID:10001538-1892368800-1892383200@centralalaa.org
SUMMARY:Central Office Open
DESCRIPTION:
URL:https://centralalaa.org/single-event/central-office-open/2029-12-19
LOCATION:Central Office\, 828 Forest Ave\, Montgomery\, AL\, 36106
END:VEVENT
BEGIN:VEVENT
DTSTART;TZID=America/Chicago:20291224T100000
DTEND;TZID=America/Chicago:20291224T140000
DTSTAMP:20260425T180814
CREATED:20260416T181911Z
LAST-MODIFIED:20260416T182034Z
UID:10004019-1892800800-1892815200@centralalaa.org
SUMMARY:Central Office Open
DESCRIPTION:Central office open
URL:https://centralalaa.org/single-event/central-office-open-1000am-200pm/2029-12-24
LOCATION:Central Office\, 828 Forest Ave\, Montgomery\, AL\, 36106
END:VEVENT
BEGIN:VEVENT
DTSTART;TZID=America/Chicago:20291226T100000
DTEND;TZID=America/Chicago:20291226T140000
DTSTAMP:20260425T180814
CREATED:20250301T230449Z
LAST-MODIFIED:20250301T230449Z
UID:10001539-1892973600-1892988000@centralalaa.org
SUMMARY:Central Office Open
DESCRIPTION:
URL:https://centralalaa.org/single-event/central-office-open/2029-12-26
LOCATION:Central Office\, 828 Forest Ave\, Montgomery\, AL\, 36106
END:VEVENT
BEGIN:VEVENT
DTSTART;TZID=America/Chicago:20291231T100000
DTEND;TZID=America/Chicago:20291231T140000
DTSTAMP:20260425T180814
CREATED:20260416T181911Z
LAST-MODIFIED:20260416T182034Z
UID:10004020-1893405600-1893420000@centralalaa.org
SUMMARY:Central Office Open
DESCRIPTION:Central office open
URL:https://centralalaa.org/single-event/central-office-open-1000am-200pm/2029-12-31
LOCATION:Central Office\, 828 Forest Ave\, Montgomery\, AL\, 36106
END:VEVENT
BEGIN:VEVENT
DTSTART;TZID=America/Chicago:20300102T100000
DTEND;TZID=America/Chicago:20300102T140000
DTSTAMP:20260425T180814
CREATED:20250301T230449Z
LAST-MODIFIED:20250301T230449Z
UID:10001540-1893578400-1893592800@centralalaa.org
SUMMARY:Central Office Open
DESCRIPTION:
URL:https://centralalaa.org/single-event/central-office-open/2030-01-02
LOCATION:Central Office\, 828 Forest Ave\, Montgomery\, AL\, 36106
END:VEVENT
BEGIN:VEVENT
DTSTART;TZID=America/Chicago:20300107T100000
DTEND;TZID=America/Chicago:20300107T140000
DTSTAMP:20260425T180814
CREATED:20260416T181911Z
LAST-MODIFIED:20260416T182034Z
UID:10004021-1894010400-1894024800@centralalaa.org
SUMMARY:Central Office Open
DESCRIPTION:Central office open
URL:https://centralalaa.org/single-event/central-office-open-1000am-200pm/2030-01-07
LOCATION:Central Office\, 828 Forest Ave\, Montgomery\, AL\, 36106
END:VEVENT
BEGIN:VEVENT
DTSTART;TZID=America/Chicago:20300109T100000
DTEND;TZID=America/Chicago:20300109T140000
DTSTAMP:20260425T180814
CREATED:20250301T230449Z
LAST-MODIFIED:20250301T230449Z
UID:10001541-1894183200-1894197600@centralalaa.org
SUMMARY:Central Office Open
DESCRIPTION:
URL:https://centralalaa.org/single-event/central-office-open/2030-01-09
LOCATION:Central Office\, 828 Forest Ave\, Montgomery\, AL\, 36106
END:VEVENT
BEGIN:VEVENT
DTSTART;TZID=America/Chicago:20300114T100000
DTEND;TZID=America/Chicago:20300114T140000
DTSTAMP:20260425T180814
CREATED:20260416T181911Z
LAST-MODIFIED:20260416T182034Z
UID:10004022-1894615200-1894629600@centralalaa.org
SUMMARY:Central Office Open
DESCRIPTION:Central office open
URL:https://centralalaa.org/single-event/central-office-open-1000am-200pm/2030-01-14
LOCATION:Central Office\, 828 Forest Ave\, Montgomery\, AL\, 36106
END:VEVENT
BEGIN:VEVENT
DTSTART;TZID=America/Chicago:20300116T100000
DTEND;TZID=America/Chicago:20300116T140000
DTSTAMP:20260425T180814
CREATED:20250301T230449Z
LAST-MODIFIED:20250301T230449Z
UID:10001542-1894788000-1894802400@centralalaa.org
SUMMARY:Central Office Open
DESCRIPTION:
URL:https://centralalaa.org/single-event/central-office-open/2030-01-16
LOCATION:Central Office\, 828 Forest Ave\, Montgomery\, AL\, 36106
END:VEVENT
BEGIN:VEVENT
DTSTART;TZID=America/Chicago:20300121T100000
DTEND;TZID=America/Chicago:20300121T140000
DTSTAMP:20260425T180814
CREATED:20260416T181911Z
LAST-MODIFIED:20260416T182034Z
UID:10004023-1895220000-1895234400@centralalaa.org
SUMMARY:Central Office Open
DESCRIPTION:Central office open
URL:https://centralalaa.org/single-event/central-office-open-1000am-200pm/2030-01-21
LOCATION:Central Office\, 828 Forest Ave\, Montgomery\, AL\, 36106
END:VEVENT
BEGIN:VEVENT
DTSTART;TZID=America/Chicago:20300123T100000
DTEND;TZID=America/Chicago:20300123T140000
DTSTAMP:20260425T180814
CREATED:20250301T230449Z
LAST-MODIFIED:20250301T230449Z
UID:10001543-1895392800-1895407200@centralalaa.org
SUMMARY:Central Office Open
DESCRIPTION:
URL:https://centralalaa.org/single-event/central-office-open/2030-01-23
LOCATION:Central Office\, 828 Forest Ave\, Montgomery\, AL\, 36106
END:VEVENT
BEGIN:VEVENT
DTSTART;TZID=America/Chicago:20300128T100000
DTEND;TZID=America/Chicago:20300128T140000
DTSTAMP:20260425T180814
CREATED:20260416T181911Z
LAST-MODIFIED:20260416T182034Z
UID:10004024-1895824800-1895839200@centralalaa.org
SUMMARY:Central Office Open
DESCRIPTION:Central office open
URL:https://centralalaa.org/single-event/central-office-open-1000am-200pm/2030-01-28
LOCATION:Central Office\, 828 Forest Ave\, Montgomery\, AL\, 36106
END:VEVENT
BEGIN:VEVENT
DTSTART;TZID=America/Chicago:20300130T100000
DTEND;TZID=America/Chicago:20300130T140000
DTSTAMP:20260425T180814
CREATED:20250301T230449Z
LAST-MODIFIED:20250301T230449Z
UID:10001544-1895997600-1896012000@centralalaa.org
SUMMARY:Central Office Open
DESCRIPTION:
URL:https://centralalaa.org/single-event/central-office-open/2030-01-30
LOCATION:Central Office\, 828 Forest Ave\, Montgomery\, AL\, 36106
END:VEVENT
BEGIN:VEVENT
DTSTART;TZID=America/Chicago:20300204T100000
DTEND;TZID=America/Chicago:20300204T140000
DTSTAMP:20260425T180814
CREATED:20260416T181911Z
LAST-MODIFIED:20260416T182034Z
UID:10004025-1896429600-1896444000@centralalaa.org
SUMMARY:Central Office Open
DESCRIPTION:Central office open
URL:https://centralalaa.org/single-event/central-office-open-1000am-200pm/2030-02-04
LOCATION:Central Office\, 828 Forest Ave\, Montgomery\, AL\, 36106
END:VEVENT
BEGIN:VEVENT
DTSTART;TZID=America/Chicago:20300206T100000
DTEND;TZID=America/Chicago:20300206T140000
DTSTAMP:20260425T180814
CREATED:20250301T230449Z
LAST-MODIFIED:20250301T230449Z
UID:10001545-1896602400-1896616800@centralalaa.org
SUMMARY:Central Office Open
DESCRIPTION:
URL:https://centralalaa.org/single-event/central-office-open/2030-02-06
LOCATION:Central Office\, 828 Forest Ave\, Montgomery\, AL\, 36106
END:VEVENT
BEGIN:VEVENT
DTSTART;TZID=America/Chicago:20300211T100000
DTEND;TZID=America/Chicago:20300211T140000
DTSTAMP:20260425T180814
CREATED:20260416T181911Z
LAST-MODIFIED:20260416T182034Z
UID:10004026-1897034400-1897048800@centralalaa.org
SUMMARY:Central Office Open
DESCRIPTION:Central office open
URL:https://centralalaa.org/single-event/central-office-open-1000am-200pm/2030-02-11
LOCATION:Central Office\, 828 Forest Ave\, Montgomery\, AL\, 36106
END:VEVENT
BEGIN:VEVENT
DTSTART;TZID=America/Chicago:20300213T100000
DTEND;TZID=America/Chicago:20300213T140000
DTSTAMP:20260425T180814
CREATED:20250301T230449Z
LAST-MODIFIED:20250301T230449Z
UID:10001546-1897207200-1897221600@centralalaa.org
SUMMARY:Central Office Open
DESCRIPTION:
URL:https://centralalaa.org/single-event/central-office-open/2030-02-13
LOCATION:Central Office\, 828 Forest Ave\, Montgomery\, AL\, 36106
END:VEVENT
BEGIN:VEVENT
DTSTART;TZID=America/Chicago:20300218T100000
DTEND;TZID=America/Chicago:20300218T140000
DTSTAMP:20260425T180814
CREATED:20260416T181911Z
LAST-MODIFIED:20260416T182034Z
UID:10004027-1897639200-1897653600@centralalaa.org
SUMMARY:Central Office Open
DESCRIPTION:Central office open
URL:https://centralalaa.org/single-event/central-office-open-1000am-200pm/2030-02-18
LOCATION:Central Office\, 828 Forest Ave\, Montgomery\, AL\, 36106
END:VEVENT
BEGIN:VEVENT
DTSTART;TZID=America/Chicago:20300220T100000
DTEND;TZID=America/Chicago:20300220T140000
DTSTAMP:20260425T180814
CREATED:20250301T230449Z
LAST-MODIFIED:20250301T230449Z
UID:10001547-1897812000-1897826400@centralalaa.org
SUMMARY:Central Office Open
DESCRIPTION:
URL:https://centralalaa.org/single-event/central-office-open/2030-02-20
LOCATION:Central Office\, 828 Forest Ave\, Montgomery\, AL\, 36106
END:VEVENT
BEGIN:VEVENT
DTSTART;TZID=America/Chicago:20300225T100000
DTEND;TZID=America/Chicago:20300225T140000
DTSTAMP:20260425T180814
CREATED:20260416T181911Z
LAST-MODIFIED:20260416T182034Z
UID:10004028-1898244000-1898258400@centralalaa.org
SUMMARY:Central Office Open
DESCRIPTION:Central office open
URL:https://centralalaa.org/single-event/central-office-open-1000am-200pm/2030-02-25
LOCATION:Central Office\, 828 Forest Ave\, Montgomery\, AL\, 36106
END:VEVENT
BEGIN:VEVENT
DTSTART;TZID=America/Chicago:20300227T100000
DTEND;TZID=America/Chicago:20300227T140000
DTSTAMP:20260425T180814
CREATED:20250301T230449Z
LAST-MODIFIED:20250301T230449Z
UID:10001548-1898416800-1898431200@centralalaa.org
SUMMARY:Central Office Open
DESCRIPTION:
URL:https://centralalaa.org/single-event/central-office-open/2030-02-27
LOCATION:Central Office\, 828 Forest Ave\, Montgomery\, AL\, 36106
END:VEVENT
BEGIN:VEVENT
DTSTART;TZID=America/Chicago:20300304T100000
DTEND;TZID=America/Chicago:20300304T140000
DTSTAMP:20260425T180814
CREATED:20260416T181911Z
LAST-MODIFIED:20260416T182034Z
UID:10004029-1898848800-1898863200@centralalaa.org
SUMMARY:Central Office Open
DESCRIPTION:Central office open
URL:https://centralalaa.org/single-event/central-office-open-1000am-200pm/2030-03-04
LOCATION:Central Office\, 828 Forest Ave\, Montgomery\, AL\, 36106
END:VEVENT
BEGIN:VEVENT
DTSTART;TZID=America/Chicago:20300306T100000
DTEND;TZID=America/Chicago:20300306T140000
DTSTAMP:20260425T180814
CREATED:20250301T230449Z
LAST-MODIFIED:20250301T230449Z
UID:10003762-1899021600-1899036000@centralalaa.org
SUMMARY:Central Office Open
DESCRIPTION:
URL:https://centralalaa.org/single-event/central-office-open/2030-03-06
LOCATION:Central Office\, 828 Forest Ave\, Montgomery\, AL\, 36106
END:VEVENT
BEGIN:VEVENT
DTSTART;TZID=America/Chicago:20300311T100000
DTEND;TZID=America/Chicago:20300311T140000
DTSTAMP:20260425T180814
CREATED:20260416T181911Z
LAST-MODIFIED:20260416T182034Z
UID:10004030-1899453600-1899468000@centralalaa.org
SUMMARY:Central Office Open
DESCRIPTION:Central office open
URL:https://centralalaa.org/single-event/central-office-open-1000am-200pm/2030-03-11
LOCATION:Central Office\, 828 Forest Ave\, Montgomery\, AL\, 36106
END:VEVENT
BEGIN:VEVENT
DTSTART;TZID=America/Chicago:20300313T100000
DTEND;TZID=America/Chicago:20300313T140000
DTSTAMP:20260425T180814
CREATED:20250301T230449Z
LAST-MODIFIED:20250301T230449Z
UID:10003763-1899626400-1899640800@centralalaa.org
SUMMARY:Central Office Open
DESCRIPTION:
URL:https://centralalaa.org/single-event/central-office-open/2030-03-13
LOCATION:Central Office\, 828 Forest Ave\, Montgomery\, AL\, 36106
END:VEVENT
BEGIN:VEVENT
DTSTART;TZID=America/Chicago:20300318T100000
DTEND;TZID=America/Chicago:20300318T140000
DTSTAMP:20260425T180814
CREATED:20260416T181911Z
LAST-MODIFIED:20260416T182034Z
UID:10004031-1900058400-1900072800@centralalaa.org
SUMMARY:Central Office Open
DESCRIPTION:Central office open
URL:https://centralalaa.org/single-event/central-office-open-1000am-200pm/2030-03-18
LOCATION:Central Office\, 828 Forest Ave\, Montgomery\, AL\, 36106
END:VEVENT
BEGIN:VEVENT
DTSTART;TZID=America/Chicago:20300320T100000
DTEND;TZID=America/Chicago:20300320T140000
DTSTAMP:20260425T180814
CREATED:20250301T230449Z
LAST-MODIFIED:20250301T230449Z
UID:10003764-1900231200-1900245600@centralalaa.org
SUMMARY:Central Office Open
DESCRIPTION:
URL:https://centralalaa.org/single-event/central-office-open/2030-03-20
LOCATION:Central Office\, 828 Forest Ave\, Montgomery\, AL\, 36106
END:VEVENT
BEGIN:VEVENT
DTSTART;TZID=America/Chicago:20300325T100000
DTEND;TZID=America/Chicago:20300325T140000
DTSTAMP:20260425T180814
CREATED:20260416T181911Z
LAST-MODIFIED:20260416T182034Z
UID:10004032-1900663200-1900677600@centralalaa.org
SUMMARY:Central Office Open
DESCRIPTION:Central office open
URL:https://centralalaa.org/single-event/central-office-open-1000am-200pm/2030-03-25
LOCATION:Central Office\, 828 Forest Ave\, Montgomery\, AL\, 36106
END:VEVENT
BEGIN:VEVENT
DTSTART;TZID=America/Chicago:20300327T100000
DTEND;TZID=America/Chicago:20300327T140000
DTSTAMP:20260425T180814
CREATED:20250301T230449Z
LAST-MODIFIED:20250301T230449Z
UID:10003765-1900836000-1900850400@centralalaa.org
SUMMARY:Central Office Open
DESCRIPTION:
URL:https://centralalaa.org/single-event/central-office-open/2030-03-27
LOCATION:Central Office\, 828 Forest Ave\, Montgomery\, AL\, 36106
END:VEVENT
END:VCALENDAR