BEGIN:VCALENDAR
VERSION:2.0
PRODID:-//District 8, Area 1 - ECPv6.15.20//NONSGML v1.0//EN
CALSCALE:GREGORIAN
METHOD:PUBLISH
X-WR-CALNAME:District 8, Area 1
X-ORIGINAL-URL:https://centralalaa.org
X-WR-CALDESC:Events for District 8, Area 1
REFRESH-INTERVAL;VALUE=DURATION:PT1H
X-Robots-Tag:noindex
X-PUBLISHED-TTL:PT1H
BEGIN:VTIMEZONE
TZID:America/Chicago
BEGIN:DAYLIGHT
TZOFFSETFROM:-0600
TZOFFSETTO:-0500
TZNAME:CDT
DTSTART:20240310T080000
END:DAYLIGHT
BEGIN:STANDARD
TZOFFSETFROM:-0500
TZOFFSETTO:-0600
TZNAME:CST
DTSTART:20241103T070000
END:STANDARD
BEGIN:DAYLIGHT
TZOFFSETFROM:-0600
TZOFFSETTO:-0500
TZNAME:CDT
DTSTART:20250309T080000
END:DAYLIGHT
BEGIN:STANDARD
TZOFFSETFROM:-0500
TZOFFSETTO:-0600
TZNAME:CST
DTSTART:20251102T070000
END:STANDARD
BEGIN:DAYLIGHT
TZOFFSETFROM:-0600
TZOFFSETTO:-0500
TZNAME:CDT
DTSTART:20260308T080000
END:DAYLIGHT
BEGIN:STANDARD
TZOFFSETFROM:-0500
TZOFFSETTO:-0600
TZNAME:CST
DTSTART:20261101T070000
END:STANDARD
END:VTIMEZONE
BEGIN:VEVENT
DTSTART;TZID=America/Chicago:20251217T100000
DTEND;TZID=America/Chicago:20251217T140000
DTSTAMP:20260423T114542
CREATED:20250301T230449Z
LAST-MODIFIED:20250301T230449Z
UID:10001329-1765965600-1765980000@centralalaa.org
SUMMARY:Central Office Open
DESCRIPTION:
URL:https://centralalaa.org/single-event/central-office-open/2025-12-17
LOCATION:Central Office\, 828 Forest Ave\, Montgomery\, AL\, 36106
END:VEVENT
BEGIN:VEVENT
DTSTART;TZID=America/Chicago:20251215T100000
DTEND;TZID=America/Chicago:20251215T140000
DTSTAMP:20260423T114542
CREATED:20250301T230244Z
LAST-MODIFIED:20250301T230244Z
UID:10001276-1765792800-1765807200@centralalaa.org
SUMMARY:Central Office Open (Except Holidays)
DESCRIPTION:828 Forest Ave\, Montgomery\, AL 36106
URL:https://centralalaa.org/single-event/central-office-open-except-holidays/2025-12-15
LOCATION:Central Office\, 828 Forest Ave\, Montgomery\, AL\, 36106
END:VEVENT
BEGIN:VEVENT
DTSTART;TZID=America/Chicago:20251210T100000
DTEND;TZID=America/Chicago:20251210T140000
DTSTAMP:20260423T114542
CREATED:20250301T230449Z
LAST-MODIFIED:20250301T230449Z
UID:10001328-1765360800-1765375200@centralalaa.org
SUMMARY:Central Office Open
DESCRIPTION:
URL:https://centralalaa.org/single-event/central-office-open/2025-12-10
LOCATION:Central Office\, 828 Forest Ave\, Montgomery\, AL\, 36106
END:VEVENT
BEGIN:VEVENT
DTSTART;TZID=America/Chicago:20251208T100000
DTEND;TZID=America/Chicago:20251208T140000
DTSTAMP:20260423T114542
CREATED:20250301T230244Z
LAST-MODIFIED:20250301T230244Z
UID:10001275-1765188000-1765202400@centralalaa.org
SUMMARY:Central Office Open (Except Holidays)
DESCRIPTION:828 Forest Ave\, Montgomery\, AL 36106
URL:https://centralalaa.org/single-event/central-office-open-except-holidays/2025-12-08
LOCATION:Central Office\, 828 Forest Ave\, Montgomery\, AL\, 36106
END:VEVENT
BEGIN:VEVENT
DTSTART;TZID=America/Chicago:20251203T100000
DTEND;TZID=America/Chicago:20251203T140000
DTSTAMP:20260423T114542
CREATED:20250301T230449Z
LAST-MODIFIED:20250301T230449Z
UID:10001327-1764756000-1764770400@centralalaa.org
SUMMARY:Central Office Open
DESCRIPTION:
URL:https://centralalaa.org/single-event/central-office-open/2025-12-03
LOCATION:Central Office\, 828 Forest Ave\, Montgomery\, AL\, 36106
END:VEVENT
BEGIN:VEVENT
DTSTART;TZID=America/Chicago:20251201T100000
DTEND;TZID=America/Chicago:20251201T140000
DTSTAMP:20260423T114542
CREATED:20250301T230244Z
LAST-MODIFIED:20250301T230244Z
UID:10001274-1764583200-1764597600@centralalaa.org
SUMMARY:Central Office Open (Except Holidays)
DESCRIPTION:828 Forest Ave\, Montgomery\, AL 36106
URL:https://centralalaa.org/single-event/central-office-open-except-holidays/2025-12-01
LOCATION:Central Office\, 828 Forest Ave\, Montgomery\, AL\, 36106
END:VEVENT
BEGIN:VEVENT
DTSTART;TZID=America/Chicago:20251126T100000
DTEND;TZID=America/Chicago:20251126T140000
DTSTAMP:20260423T114543
CREATED:20250301T230449Z
LAST-MODIFIED:20250301T230449Z
UID:10001326-1764151200-1764165600@centralalaa.org
SUMMARY:Central Office Open
DESCRIPTION:
URL:https://centralalaa.org/single-event/central-office-open/2025-11-26
LOCATION:Central Office\, 828 Forest Ave\, Montgomery\, AL\, 36106
END:VEVENT
BEGIN:VEVENT
DTSTART;TZID=America/Chicago:20251124T100000
DTEND;TZID=America/Chicago:20251124T140000
DTSTAMP:20260423T114543
CREATED:20250301T230244Z
LAST-MODIFIED:20250301T230244Z
UID:10001273-1763978400-1763992800@centralalaa.org
SUMMARY:Central Office Open (Except Holidays)
DESCRIPTION:828 Forest Ave\, Montgomery\, AL 36106
URL:https://centralalaa.org/single-event/central-office-open-except-holidays/2025-11-24
LOCATION:Central Office\, 828 Forest Ave\, Montgomery\, AL\, 36106
END:VEVENT
BEGIN:VEVENT
DTSTART;TZID=America/Chicago:20251119T100000
DTEND;TZID=America/Chicago:20251119T140000
DTSTAMP:20260423T114543
CREATED:20250301T230449Z
LAST-MODIFIED:20250301T230449Z
UID:10001325-1763546400-1763560800@centralalaa.org
SUMMARY:Central Office Open
DESCRIPTION:
URL:https://centralalaa.org/single-event/central-office-open/2025-11-19
LOCATION:Central Office\, 828 Forest Ave\, Montgomery\, AL\, 36106
END:VEVENT
BEGIN:VEVENT
DTSTART;TZID=America/Chicago:20251117T100000
DTEND;TZID=America/Chicago:20251117T140000
DTSTAMP:20260423T114543
CREATED:20250301T230244Z
LAST-MODIFIED:20250301T230244Z
UID:10001272-1763373600-1763388000@centralalaa.org
SUMMARY:Central Office Open (Except Holidays)
DESCRIPTION:828 Forest Ave\, Montgomery\, AL 36106
URL:https://centralalaa.org/single-event/central-office-open-except-holidays/2025-11-17
LOCATION:Central Office\, 828 Forest Ave\, Montgomery\, AL\, 36106
END:VEVENT
BEGIN:VEVENT
DTSTART;TZID=America/Chicago:20251112T100000
DTEND;TZID=America/Chicago:20251112T140000
DTSTAMP:20260423T114543
CREATED:20250301T230449Z
LAST-MODIFIED:20250301T230449Z
UID:10001324-1762941600-1762956000@centralalaa.org
SUMMARY:Central Office Open
DESCRIPTION:
URL:https://centralalaa.org/single-event/central-office-open/2025-11-12
LOCATION:Central Office\, 828 Forest Ave\, Montgomery\, AL\, 36106
END:VEVENT
BEGIN:VEVENT
DTSTART;TZID=America/Chicago:20251110T100000
DTEND;TZID=America/Chicago:20251110T140000
DTSTAMP:20260423T114543
CREATED:20250301T230244Z
LAST-MODIFIED:20250301T230244Z
UID:10001271-1762768800-1762783200@centralalaa.org
SUMMARY:Central Office Open (Except Holidays)
DESCRIPTION:828 Forest Ave\, Montgomery\, AL 36106
URL:https://centralalaa.org/single-event/central-office-open-except-holidays/2025-11-10
LOCATION:Central Office\, 828 Forest Ave\, Montgomery\, AL\, 36106
END:VEVENT
BEGIN:VEVENT
DTSTART;TZID=America/Chicago:20251105T100000
DTEND;TZID=America/Chicago:20251105T140000
DTSTAMP:20260423T114543
CREATED:20250301T230449Z
LAST-MODIFIED:20250301T230449Z
UID:10001323-1762336800-1762351200@centralalaa.org
SUMMARY:Central Office Open
DESCRIPTION:
URL:https://centralalaa.org/single-event/central-office-open/2025-11-05
LOCATION:Central Office\, 828 Forest Ave\, Montgomery\, AL\, 36106
END:VEVENT
BEGIN:VEVENT
DTSTART;TZID=America/Chicago:20251103T100000
DTEND;TZID=America/Chicago:20251103T140000
DTSTAMP:20260423T114543
CREATED:20250301T230244Z
LAST-MODIFIED:20250301T230244Z
UID:10001270-1762164000-1762178400@centralalaa.org
SUMMARY:Central Office Open (Except Holidays)
DESCRIPTION:828 Forest Ave\, Montgomery\, AL 36106
URL:https://centralalaa.org/single-event/central-office-open-except-holidays/2025-11-03
LOCATION:Central Office\, 828 Forest Ave\, Montgomery\, AL\, 36106
END:VEVENT
BEGIN:VEVENT
DTSTART;TZID=America/Chicago:20251029T100000
DTEND;TZID=America/Chicago:20251029T140000
DTSTAMP:20260423T114543
CREATED:20250301T230449Z
LAST-MODIFIED:20250301T230449Z
UID:10001322-1761732000-1761746400@centralalaa.org
SUMMARY:Central Office Open
DESCRIPTION:
URL:https://centralalaa.org/single-event/central-office-open/2025-10-29
LOCATION:Central Office\, 828 Forest Ave\, Montgomery\, AL\, 36106
END:VEVENT
BEGIN:VEVENT
DTSTART;TZID=America/Chicago:20251027T100000
DTEND;TZID=America/Chicago:20251027T140000
DTSTAMP:20260423T114543
CREATED:20250301T230244Z
LAST-MODIFIED:20250301T230244Z
UID:10001269-1761559200-1761573600@centralalaa.org
SUMMARY:Central Office Open (Except Holidays)
DESCRIPTION:828 Forest Ave\, Montgomery\, AL 36106
URL:https://centralalaa.org/single-event/central-office-open-except-holidays/2025-10-27
LOCATION:Central Office\, 828 Forest Ave\, Montgomery\, AL\, 36106
END:VEVENT
BEGIN:VEVENT
DTSTART;TZID=America/Chicago:20251022T100000
DTEND;TZID=America/Chicago:20251022T140000
DTSTAMP:20260423T114543
CREATED:20250301T230449Z
LAST-MODIFIED:20250301T230449Z
UID:10001321-1761127200-1761141600@centralalaa.org
SUMMARY:Central Office Open
DESCRIPTION:
URL:https://centralalaa.org/single-event/central-office-open/2025-10-22
LOCATION:Central Office\, 828 Forest Ave\, Montgomery\, AL\, 36106
END:VEVENT
BEGIN:VEVENT
DTSTART;TZID=America/Chicago:20251020T100000
DTEND;TZID=America/Chicago:20251020T140000
DTSTAMP:20260423T114543
CREATED:20250301T230244Z
LAST-MODIFIED:20250301T230244Z
UID:10001268-1760954400-1760968800@centralalaa.org
SUMMARY:Central Office Open (Except Holidays)
DESCRIPTION:828 Forest Ave\, Montgomery\, AL 36106
URL:https://centralalaa.org/single-event/central-office-open-except-holidays/2025-10-20
LOCATION:Central Office\, 828 Forest Ave\, Montgomery\, AL\, 36106
END:VEVENT
BEGIN:VEVENT
DTSTART;TZID=America/Chicago:20251015T100000
DTEND;TZID=America/Chicago:20251015T140000
DTSTAMP:20260423T114543
CREATED:20250301T230449Z
LAST-MODIFIED:20250301T230449Z
UID:10001320-1760522400-1760536800@centralalaa.org
SUMMARY:Central Office Open
DESCRIPTION:
URL:https://centralalaa.org/single-event/central-office-open/2025-10-15
LOCATION:Central Office\, 828 Forest Ave\, Montgomery\, AL\, 36106
END:VEVENT
BEGIN:VEVENT
DTSTART;TZID=America/Chicago:20251013T100000
DTEND;TZID=America/Chicago:20251013T140000
DTSTAMP:20260423T114543
CREATED:20250301T230244Z
LAST-MODIFIED:20250301T230244Z
UID:10001267-1760349600-1760364000@centralalaa.org
SUMMARY:Central Office Open (Except Holidays)
DESCRIPTION:828 Forest Ave\, Montgomery\, AL 36106
URL:https://centralalaa.org/single-event/central-office-open-except-holidays/2025-10-13
LOCATION:Central Office\, 828 Forest Ave\, Montgomery\, AL\, 36106
END:VEVENT
BEGIN:VEVENT
DTSTART;TZID=America/Chicago:20251008T100000
DTEND;TZID=America/Chicago:20251008T140000
DTSTAMP:20260423T114543
CREATED:20250301T230449Z
LAST-MODIFIED:20250301T230449Z
UID:10001319-1759917600-1759932000@centralalaa.org
SUMMARY:Central Office Open
DESCRIPTION:
URL:https://centralalaa.org/single-event/central-office-open/2025-10-08
LOCATION:Central Office\, 828 Forest Ave\, Montgomery\, AL\, 36106
END:VEVENT
BEGIN:VEVENT
DTSTART;TZID=America/Chicago:20251006T100000
DTEND;TZID=America/Chicago:20251006T140000
DTSTAMP:20260423T114543
CREATED:20250301T230244Z
LAST-MODIFIED:20250301T230244Z
UID:10001266-1759744800-1759759200@centralalaa.org
SUMMARY:Central Office Open (Except Holidays)
DESCRIPTION:828 Forest Ave\, Montgomery\, AL 36106
URL:https://centralalaa.org/single-event/central-office-open-except-holidays/2025-10-06
LOCATION:Central Office\, 828 Forest Ave\, Montgomery\, AL\, 36106
END:VEVENT
BEGIN:VEVENT
DTSTART;TZID=America/Chicago:20251001T100000
DTEND;TZID=America/Chicago:20251001T140000
DTSTAMP:20260423T114543
CREATED:20250301T230449Z
LAST-MODIFIED:20250301T230449Z
UID:10001318-1759312800-1759327200@centralalaa.org
SUMMARY:Central Office Open
DESCRIPTION:
URL:https://centralalaa.org/single-event/central-office-open/2025-10-01
LOCATION:Central Office\, 828 Forest Ave\, Montgomery\, AL\, 36106
END:VEVENT
BEGIN:VEVENT
DTSTART;TZID=America/Chicago:20250929T100000
DTEND;TZID=America/Chicago:20250929T140000
DTSTAMP:20260423T114543
CREATED:20250301T230244Z
LAST-MODIFIED:20250301T230244Z
UID:10001265-1759140000-1759154400@centralalaa.org
SUMMARY:Central Office Open (Except Holidays)
DESCRIPTION:828 Forest Ave\, Montgomery\, AL 36106
URL:https://centralalaa.org/single-event/central-office-open-except-holidays/2025-09-29
LOCATION:Central Office\, 828 Forest Ave\, Montgomery\, AL\, 36106
END:VEVENT
BEGIN:VEVENT
DTSTART;TZID=America/Chicago:20250924T100000
DTEND;TZID=America/Chicago:20250924T140000
DTSTAMP:20260423T114543
CREATED:20250301T230449Z
LAST-MODIFIED:20250301T230449Z
UID:10001317-1758708000-1758722400@centralalaa.org
SUMMARY:Central Office Open
DESCRIPTION:
URL:https://centralalaa.org/single-event/central-office-open/2025-09-24
LOCATION:Central Office\, 828 Forest Ave\, Montgomery\, AL\, 36106
END:VEVENT
BEGIN:VEVENT
DTSTART;TZID=America/Chicago:20250922T100000
DTEND;TZID=America/Chicago:20250922T140000
DTSTAMP:20260423T114543
CREATED:20250301T230244Z
LAST-MODIFIED:20250301T230244Z
UID:10001264-1758535200-1758549600@centralalaa.org
SUMMARY:Central Office Open (Except Holidays)
DESCRIPTION:828 Forest Ave\, Montgomery\, AL 36106
URL:https://centralalaa.org/single-event/central-office-open-except-holidays/2025-09-22
LOCATION:Central Office\, 828 Forest Ave\, Montgomery\, AL\, 36106
END:VEVENT
BEGIN:VEVENT
DTSTART;TZID=America/Chicago:20250917T100000
DTEND;TZID=America/Chicago:20250917T140000
DTSTAMP:20260423T114543
CREATED:20250301T230449Z
LAST-MODIFIED:20250301T230449Z
UID:10001316-1758103200-1758117600@centralalaa.org
SUMMARY:Central Office Open
DESCRIPTION:
URL:https://centralalaa.org/single-event/central-office-open/2025-09-17
LOCATION:Central Office\, 828 Forest Ave\, Montgomery\, AL\, 36106
END:VEVENT
BEGIN:VEVENT
DTSTART;TZID=America/Chicago:20250915T100000
DTEND;TZID=America/Chicago:20250915T140000
DTSTAMP:20260423T114543
CREATED:20250301T230244Z
LAST-MODIFIED:20250301T230244Z
UID:10001263-1757930400-1757944800@centralalaa.org
SUMMARY:Central Office Open (Except Holidays)
DESCRIPTION:828 Forest Ave\, Montgomery\, AL 36106
URL:https://centralalaa.org/single-event/central-office-open-except-holidays/2025-09-15
LOCATION:Central Office\, 828 Forest Ave\, Montgomery\, AL\, 36106
END:VEVENT
BEGIN:VEVENT
DTSTART;TZID=America/Chicago:20250910T100000
DTEND;TZID=America/Chicago:20250910T140000
DTSTAMP:20260423T114543
CREATED:20250301T230449Z
LAST-MODIFIED:20250301T230449Z
UID:10001315-1757498400-1757512800@centralalaa.org
SUMMARY:Central Office Open
DESCRIPTION:
URL:https://centralalaa.org/single-event/central-office-open/2025-09-10
LOCATION:Central Office\, 828 Forest Ave\, Montgomery\, AL\, 36106
END:VEVENT
BEGIN:VEVENT
DTSTART;TZID=America/Chicago:20250908T100000
DTEND;TZID=America/Chicago:20250908T140000
DTSTAMP:20260423T114543
CREATED:20250301T230244Z
LAST-MODIFIED:20250301T230244Z
UID:10001262-1757325600-1757340000@centralalaa.org
SUMMARY:Central Office Open (Except Holidays)
DESCRIPTION:828 Forest Ave\, Montgomery\, AL 36106
URL:https://centralalaa.org/single-event/central-office-open-except-holidays/2025-09-08
LOCATION:Central Office\, 828 Forest Ave\, Montgomery\, AL\, 36106
END:VEVENT
END:VCALENDAR