BEGIN:VCALENDAR
VERSION:2.0
PRODID:-//District 8, Area 1 - ECPv6.15.20//NONSGML v1.0//EN
CALSCALE:GREGORIAN
METHOD:PUBLISH
X-ORIGINAL-URL:https://centralalaa.org
X-WR-CALDESC:Events for District 8, Area 1
REFRESH-INTERVAL;VALUE=DURATION:PT1H
X-Robots-Tag:noindex
X-PUBLISHED-TTL:PT1H
BEGIN:VTIMEZONE
TZID:America/Chicago
BEGIN:DAYLIGHT
TZOFFSETFROM:-0600
TZOFFSETTO:-0500
TZNAME:CDT
DTSTART:20250309T080000
END:DAYLIGHT
BEGIN:STANDARD
TZOFFSETFROM:-0500
TZOFFSETTO:-0600
TZNAME:CST
DTSTART:20251102T070000
END:STANDARD
BEGIN:DAYLIGHT
TZOFFSETFROM:-0600
TZOFFSETTO:-0500
TZNAME:CDT
DTSTART:20260308T080000
END:DAYLIGHT
BEGIN:STANDARD
TZOFFSETFROM:-0500
TZOFFSETTO:-0600
TZNAME:CST
DTSTART:20261101T070000
END:STANDARD
BEGIN:DAYLIGHT
TZOFFSETFROM:-0600
TZOFFSETTO:-0500
TZNAME:CDT
DTSTART:20270314T080000
END:DAYLIGHT
BEGIN:STANDARD
TZOFFSETFROM:-0500
TZOFFSETTO:-0600
TZNAME:CST
DTSTART:20271107T070000
END:STANDARD
END:VTIMEZONE
BEGIN:VEVENT
DTSTART;TZID=America/Chicago:20260627T090000
DTEND;TZID=America/Chicago:20260627T170000
DTSTAMP:20260423T105246
CREATED:20260322T213325Z
LAST-MODIFIED:20260322T213325Z
UID:10003818-1782550800-1782579600@centralalaa.org
SUMMARY:FOBW:BBCA Committee
DESCRIPTION:Join us for food\, fellowship and a celebration of the Big Book on June 27\, 2026 at Eastern Hills Baptist Church. $20 pre registration\,$30 registration at the door. More details and flyer coming soon!
URL:https://centralalaa.org/single-event/fobwbbca-committee
LOCATION:Eastern HIlls Baptist Church\, 3604 Pleasant Ridge Road\, Montgomery\, AL\, 36109\, United States
END:VEVENT
BEGIN:VEVENT
DTSTART;TZID=America/Chicago:20260627T090000
DTEND;TZID=America/Chicago:20260627T180000
DTSTAMP:20260423T105246
CREATED:20260410T131352Z
LAST-MODIFIED:20260410T131352Z
UID:10003825-1782550800-1782583200@centralalaa.org
SUMMARY:FOBW - Big Book Comes Alive
DESCRIPTION:
URL:https://centralalaa.org/single-event/fobw-big-book-comes-alive-3
LOCATION:Eastern HIlls Baptist Church\, 3604 Pleasant Ridge Road\, Montgomery\, AL\, 36109\, United States
CATEGORIES:Fellowship Events
END:VEVENT
END:VCALENDAR