BEGIN:VCALENDAR
VERSION:2.0
PRODID:-//District 8, Area 1 - ECPv6.15.20//NONSGML v1.0//EN
CALSCALE:GREGORIAN
METHOD:PUBLISH
X-WR-CALNAME:District 8, Area 1
X-ORIGINAL-URL:https://centralalaa.org
X-WR-CALDESC:Events for District 8, Area 1
REFRESH-INTERVAL;VALUE=DURATION:PT1H
X-Robots-Tag:noindex
X-PUBLISHED-TTL:PT1H
BEGIN:VTIMEZONE
TZID:America/Chicago
BEGIN:DAYLIGHT
TZOFFSETFROM:-0600
TZOFFSETTO:-0500
TZNAME:CDT
DTSTART:20240310T080000
END:DAYLIGHT
BEGIN:STANDARD
TZOFFSETFROM:-0500
TZOFFSETTO:-0600
TZNAME:CST
DTSTART:20241103T070000
END:STANDARD
BEGIN:DAYLIGHT
TZOFFSETFROM:-0600
TZOFFSETTO:-0500
TZNAME:CDT
DTSTART:20250309T080000
END:DAYLIGHT
BEGIN:STANDARD
TZOFFSETFROM:-0500
TZOFFSETTO:-0600
TZNAME:CST
DTSTART:20251102T070000
END:STANDARD
BEGIN:DAYLIGHT
TZOFFSETFROM:-0600
TZOFFSETTO:-0500
TZNAME:CDT
DTSTART:20260308T080000
END:DAYLIGHT
BEGIN:STANDARD
TZOFFSETFROM:-0500
TZOFFSETTO:-0600
TZNAME:CST
DTSTART:20261101T070000
END:STANDARD
END:VTIMEZONE
BEGIN:VEVENT
DTSTART;TZID=America/Chicago:20251115T160000
DTEND;TZID=America/Chicago:20251115T200000
DTSTAMP:20260423T140019
CREATED:20251001T004625Z
LAST-MODIFIED:20251011T002723Z
UID:10003055-1763222400-1763236800@centralalaa.org
SUMMARY:Fellowship Eat & Meet
DESCRIPTION:
URL:https://centralalaa.org/single-event/fellowship-eat-meet
LOCATION:Grace Church @ Bell Road\, 5 Bell Road\, Montgomery\, AL\, 36117\, United States
GEO:32.3810069;-86.190301
X-APPLE-STRUCTURED-LOCATION;VALUE=URI;X-ADDRESS=Grace Church @ Bell Road 5 Bell Road Montgomery AL 36117 United States;X-APPLE-RADIUS=500;X-TITLE=5 Bell Road:geo:-86.190301,32.3810069
END:VEVENT
BEGIN:VEVENT
DTSTART;TZID=America/Chicago:20250823T160000
DTEND;TZID=America/Chicago:20250823T190000
DTSTAMP:20260423T140019
CREATED:20250723T114817Z
LAST-MODIFIED:20250729T010157Z
UID:10002780-1755964800-1755975600@centralalaa.org
SUMMARY:Fellowship Group Eat & Meet
DESCRIPTION:
URL:https://centralalaa.org/single-event/fellowship-group-eat-meet
LOCATION:Grace Church @ Bell Road\, 5 Bell Road\, Montgomery\, AL\, 36117\, United States
CATEGORIES:Fellowship Events
ATTACH;FMTTYPE=image/jpeg:https://centralalaa.org/wp-content/uploads/Capture2.jpg
GEO:32.3810069;-86.190301
X-APPLE-STRUCTURED-LOCATION;VALUE=URI;X-ADDRESS=Grace Church @ Bell Road 5 Bell Road Montgomery AL 36117 United States;X-APPLE-RADIUS=500;X-TITLE=5 Bell Road:geo:-86.190301,32.3810069
END:VEVENT
BEGIN:VEVENT
DTSTART;TZID=America/Chicago:20250517T160000
DTEND;TZID=America/Chicago:20250517T200000
DTSTAMP:20260423T140019
CREATED:20250502T154200Z
LAST-MODIFIED:20250504T010308Z
UID:10002169-1747497600-1747512000@centralalaa.org
SUMMARY:Fellowship Eat and Meet
DESCRIPTION:
URL:https://centralalaa.org/single-event/fellowship-eat-and-meet
LOCATION:Grace Church @ Bell Road\, 5 Bell Road\, Montgomery\, AL\, 36117\, United States
GEO:32.3810069;-86.190301
X-APPLE-STRUCTURED-LOCATION;VALUE=URI;X-ADDRESS=Grace Church @ Bell Road 5 Bell Road Montgomery AL 36117 United States;X-APPLE-RADIUS=500;X-TITLE=5 Bell Road:geo:-86.190301,32.3810069
END:VEVENT
END:VCALENDAR