BEGIN:VCALENDAR
VERSION:2.0
PRODID:-//District 8, Area 1 - ECPv6.15.20//NONSGML v1.0//EN
CALSCALE:GREGORIAN
METHOD:PUBLISH
X-ORIGINAL-URL:https://centralalaa.org
X-WR-CALDESC:Events for District 8, Area 1
REFRESH-INTERVAL;VALUE=DURATION:PT1H
X-Robots-Tag:noindex
X-PUBLISHED-TTL:PT1H
BEGIN:VTIMEZONE
TZID:America/Chicago
BEGIN:DAYLIGHT
TZOFFSETFROM:-0600
TZOFFSETTO:-0500
TZNAME:CDT
DTSTART:20240310T080000
END:DAYLIGHT
BEGIN:STANDARD
TZOFFSETFROM:-0500
TZOFFSETTO:-0600
TZNAME:CST
DTSTART:20241103T070000
END:STANDARD
BEGIN:DAYLIGHT
TZOFFSETFROM:-0600
TZOFFSETTO:-0500
TZNAME:CDT
DTSTART:20250309T080000
END:DAYLIGHT
BEGIN:STANDARD
TZOFFSETFROM:-0500
TZOFFSETTO:-0600
TZNAME:CST
DTSTART:20251102T070000
END:STANDARD
BEGIN:DAYLIGHT
TZOFFSETFROM:-0600
TZOFFSETTO:-0500
TZNAME:CDT
DTSTART:20260308T080000
END:DAYLIGHT
BEGIN:STANDARD
TZOFFSETFROM:-0500
TZOFFSETTO:-0600
TZNAME:CST
DTSTART:20261101T070000
END:STANDARD
END:VTIMEZONE
BEGIN:VEVENT
DTSTART;TZID=America/Chicago:20250426T173000
DTEND;TZID=America/Chicago:20250426T210000
DTSTAMP:20260423T153114
CREATED:20250328T020451Z
LAST-MODIFIED:20250328T020612Z
UID:10002060-1745688600-1745701200@centralalaa.org
SUMMARY:Having Had A Spiritual AwakeningAn Event by GUMPYPAA
DESCRIPTION:Join us for an evening of food\, fellowship and experience\, strength and hope!\n\n5:30 – 6:00Fellowship \n6:00 – 6:45 pmPotluck SupperPlease bring a covered dish or dessert. \n6:45 – 8:00 pmA.A. Speaker MeetingJason B. and Craig M. – Montgomery \n8:00 – 9:00 pmBingo & 50/50 Raffle \n\nWe will pass the basket to help cover expenses.Please help support GUMPYPAA
URL:https://centralalaa.org/single-event/having-had-a-spiritual-awakening-an-event-by-gumpypaa
LOCATION:Immanuel Presbyterian Church\, 8790 Vaughn Road\, Montgomery\, AL\, 36117\, United States
CATEGORIES:Fellowship Events
ATTACH;FMTTYPE=image/jpeg:https://centralalaa.org/wp-content/uploads/5c7c5bb4f56045e39334e42488ff67b4.jpeg
END:VEVENT
END:VCALENDAR