BEGIN:VCALENDAR
VERSION:2.0
PRODID:-//District 8, Area 1 - ECPv6.15.20//NONSGML v1.0//EN
CALSCALE:GREGORIAN
METHOD:PUBLISH
X-WR-CALNAME:District 8, Area 1
X-ORIGINAL-URL:https://centralalaa.org
X-WR-CALDESC:Events for District 8, Area 1
REFRESH-INTERVAL;VALUE=DURATION:PT1H
X-Robots-Tag:noindex
X-PUBLISHED-TTL:PT1H
BEGIN:VTIMEZONE
TZID:America/Chicago
BEGIN:DAYLIGHT
TZOFFSETFROM:-0600
TZOFFSETTO:-0500
TZNAME:CDT
DTSTART:20270314T080000
END:DAYLIGHT
BEGIN:STANDARD
TZOFFSETFROM:-0500
TZOFFSETTO:-0600
TZNAME:CST
DTSTART:20271107T070000
END:STANDARD
BEGIN:DAYLIGHT
TZOFFSETFROM:-0600
TZOFFSETTO:-0500
TZNAME:CDT
DTSTART:20280312T080000
END:DAYLIGHT
BEGIN:STANDARD
TZOFFSETFROM:-0500
TZOFFSETTO:-0600
TZNAME:CST
DTSTART:20281105T070000
END:STANDARD
BEGIN:DAYLIGHT
TZOFFSETFROM:-0600
TZOFFSETTO:-0500
TZNAME:CDT
DTSTART:20290311T080000
END:DAYLIGHT
BEGIN:STANDARD
TZOFFSETFROM:-0500
TZOFFSETTO:-0600
TZNAME:CST
DTSTART:20291104T070000
END:STANDARD
BEGIN:DAYLIGHT
TZOFFSETFROM:-0600
TZOFFSETTO:-0500
TZNAME:CDT
DTSTART:20300310T080000
END:DAYLIGHT
BEGIN:STANDARD
TZOFFSETFROM:-0500
TZOFFSETTO:-0600
TZNAME:CST
DTSTART:20301103T070000
END:STANDARD
BEGIN:DAYLIGHT
TZOFFSETFROM:-0600
TZOFFSETTO:-0500
TZNAME:CDT
DTSTART:20310309T080000
END:DAYLIGHT
BEGIN:STANDARD
TZOFFSETFROM:-0500
TZOFFSETTO:-0600
TZNAME:CST
DTSTART:20311102T070000
END:STANDARD
END:VTIMEZONE
BEGIN:VEVENT
DTSTART;TZID=America/Chicago:20280318T103000
DTEND;TZID=America/Chicago:20280318T113000
DTSTAMP:20260423T105949
CREATED:20260105T192731Z
LAST-MODIFIED:20260217T200953Z
UID:10003729-1836988200-1836991800@centralalaa.org
SUMMARY:Corrections/Treatment Committee Meeting
DESCRIPTION:Corrections/Treatment Committee Meeting \nEvery 3rd Saturday at 1030am \nLegacies and on Zoom \nZoom ID: 7987279234\nPW: Awakening
URL:https://centralalaa.org/single-event/corrections-treatment-committee-meeting/2028-03-18
LOCATION:Legacies and Zoom\, 3412 Atlanta Highway\, Montgomery\, AL\, 36109\, United States
CATEGORIES:Service Events
END:VEVENT
BEGIN:VEVENT
DTSTART;TZID=America/Chicago:20280415T103000
DTEND;TZID=America/Chicago:20280415T113000
DTSTAMP:20260423T105949
CREATED:20260105T192731Z
LAST-MODIFIED:20260217T200953Z
UID:10003730-1839407400-1839411000@centralalaa.org
SUMMARY:Corrections/Treatment Committee Meeting
DESCRIPTION:Corrections/Treatment Committee Meeting \nEvery 3rd Saturday at 1030am \nLegacies and on Zoom \nZoom ID: 7987279234\nPW: Awakening
URL:https://centralalaa.org/single-event/corrections-treatment-committee-meeting/2028-04-15
LOCATION:Legacies and Zoom\, 3412 Atlanta Highway\, Montgomery\, AL\, 36109\, United States
CATEGORIES:Service Events
END:VEVENT
BEGIN:VEVENT
DTSTART;TZID=America/Chicago:20280520T103000
DTEND;TZID=America/Chicago:20280520T113000
DTSTAMP:20260423T105949
CREATED:20260105T192731Z
LAST-MODIFIED:20260217T200953Z
UID:10003731-1842431400-1842435000@centralalaa.org
SUMMARY:Corrections/Treatment Committee Meeting
DESCRIPTION:Corrections/Treatment Committee Meeting \nEvery 3rd Saturday at 1030am \nLegacies and on Zoom \nZoom ID: 7987279234\nPW: Awakening
URL:https://centralalaa.org/single-event/corrections-treatment-committee-meeting/2028-05-20
LOCATION:Legacies and Zoom\, 3412 Atlanta Highway\, Montgomery\, AL\, 36109\, United States
CATEGORIES:Service Events
END:VEVENT
BEGIN:VEVENT
DTSTART;TZID=America/Chicago:20280617T103000
DTEND;TZID=America/Chicago:20280617T113000
DTSTAMP:20260423T105949
CREATED:20260105T192731Z
LAST-MODIFIED:20260217T200953Z
UID:10003457-1844850600-1844854200@centralalaa.org
SUMMARY:Corrections/Treatment Committee Meeting
DESCRIPTION:Corrections/Treatment Committee Meeting \nEvery 3rd Saturday at 1030am \nLegacies and on Zoom \nZoom ID: 7987279234\nPW: Awakening
URL:https://centralalaa.org/single-event/corrections-treatment-committee-meeting/2028-06-17
LOCATION:Legacies and Zoom\, 3412 Atlanta Highway\, Montgomery\, AL\, 36109\, United States
CATEGORIES:Service Events
END:VEVENT
BEGIN:VEVENT
DTSTART;TZID=America/Chicago:20280715T103000
DTEND;TZID=America/Chicago:20280715T113000
DTSTAMP:20260423T105949
CREATED:20260105T192731Z
LAST-MODIFIED:20260217T200953Z
UID:10003732-1847269800-1847273400@centralalaa.org
SUMMARY:Corrections/Treatment Committee Meeting
DESCRIPTION:Corrections/Treatment Committee Meeting \nEvery 3rd Saturday at 1030am \nLegacies and on Zoom \nZoom ID: 7987279234\nPW: Awakening
URL:https://centralalaa.org/single-event/corrections-treatment-committee-meeting/2028-07-15
LOCATION:Legacies and Zoom\, 3412 Atlanta Highway\, Montgomery\, AL\, 36109\, United States
CATEGORIES:Service Events
END:VEVENT
BEGIN:VEVENT
DTSTART;TZID=America/Chicago:20280819T103000
DTEND;TZID=America/Chicago:20280819T113000
DTSTAMP:20260423T105949
CREATED:20260105T192731Z
LAST-MODIFIED:20260217T200953Z
UID:10003733-1850293800-1850297400@centralalaa.org
SUMMARY:Corrections/Treatment Committee Meeting
DESCRIPTION:Corrections/Treatment Committee Meeting \nEvery 3rd Saturday at 1030am \nLegacies and on Zoom \nZoom ID: 7987279234\nPW: Awakening
URL:https://centralalaa.org/single-event/corrections-treatment-committee-meeting/2028-08-19
LOCATION:Legacies and Zoom\, 3412 Atlanta Highway\, Montgomery\, AL\, 36109\, United States
CATEGORIES:Service Events
END:VEVENT
BEGIN:VEVENT
DTSTART;TZID=America/Chicago:20280916T103000
DTEND;TZID=America/Chicago:20280916T113000
DTSTAMP:20260423T105949
CREATED:20260105T192731Z
LAST-MODIFIED:20260217T200953Z
UID:10003734-1852713000-1852716600@centralalaa.org
SUMMARY:Corrections/Treatment Committee Meeting
DESCRIPTION:Corrections/Treatment Committee Meeting \nEvery 3rd Saturday at 1030am \nLegacies and on Zoom \nZoom ID: 7987279234\nPW: Awakening
URL:https://centralalaa.org/single-event/corrections-treatment-committee-meeting/2028-09-16
LOCATION:Legacies and Zoom\, 3412 Atlanta Highway\, Montgomery\, AL\, 36109\, United States
CATEGORIES:Service Events
END:VEVENT
BEGIN:VEVENT
DTSTART;TZID=America/Chicago:20281021T103000
DTEND;TZID=America/Chicago:20281021T113000
DTSTAMP:20260423T105949
CREATED:20260105T192731Z
LAST-MODIFIED:20260217T200953Z
UID:10003735-1855737000-1855740600@centralalaa.org
SUMMARY:Corrections/Treatment Committee Meeting
DESCRIPTION:Corrections/Treatment Committee Meeting \nEvery 3rd Saturday at 1030am \nLegacies and on Zoom \nZoom ID: 7987279234\nPW: Awakening
URL:https://centralalaa.org/single-event/corrections-treatment-committee-meeting/2028-10-21
LOCATION:Legacies and Zoom\, 3412 Atlanta Highway\, Montgomery\, AL\, 36109\, United States
CATEGORIES:Service Events
END:VEVENT
BEGIN:VEVENT
DTSTART;TZID=America/Chicago:20281118T103000
DTEND;TZID=America/Chicago:20281118T113000
DTSTAMP:20260423T105949
CREATED:20260105T192731Z
LAST-MODIFIED:20260217T200953Z
UID:10003736-1858156200-1858159800@centralalaa.org
SUMMARY:Corrections/Treatment Committee Meeting
DESCRIPTION:Corrections/Treatment Committee Meeting \nEvery 3rd Saturday at 1030am \nLegacies and on Zoom \nZoom ID: 7987279234\nPW: Awakening
URL:https://centralalaa.org/single-event/corrections-treatment-committee-meeting/2028-11-18
LOCATION:Legacies and Zoom\, 3412 Atlanta Highway\, Montgomery\, AL\, 36109\, United States
CATEGORIES:Service Events
END:VEVENT
BEGIN:VEVENT
DTSTART;TZID=America/Chicago:20281216T103000
DTEND;TZID=America/Chicago:20281216T113000
DTSTAMP:20260423T105949
CREATED:20260105T192731Z
LAST-MODIFIED:20260217T200953Z
UID:10003737-1860575400-1860579000@centralalaa.org
SUMMARY:Corrections/Treatment Committee Meeting
DESCRIPTION:Corrections/Treatment Committee Meeting \nEvery 3rd Saturday at 1030am \nLegacies and on Zoom \nZoom ID: 7987279234\nPW: Awakening
URL:https://centralalaa.org/single-event/corrections-treatment-committee-meeting/2028-12-16
LOCATION:Legacies and Zoom\, 3412 Atlanta Highway\, Montgomery\, AL\, 36109\, United States
CATEGORIES:Service Events
END:VEVENT
BEGIN:VEVENT
DTSTART;TZID=America/Chicago:20290120T103000
DTEND;TZID=America/Chicago:20290120T113000
DTSTAMP:20260423T105949
CREATED:20260105T192731Z
LAST-MODIFIED:20260217T200953Z
UID:10003738-1863599400-1863603000@centralalaa.org
SUMMARY:Corrections/Treatment Committee Meeting
DESCRIPTION:Corrections/Treatment Committee Meeting \nEvery 3rd Saturday at 1030am \nLegacies and on Zoom \nZoom ID: 7987279234\nPW: Awakening
URL:https://centralalaa.org/single-event/corrections-treatment-committee-meeting/2029-01-20
LOCATION:Legacies and Zoom\, 3412 Atlanta Highway\, Montgomery\, AL\, 36109\, United States
CATEGORIES:Service Events
END:VEVENT
BEGIN:VEVENT
DTSTART;TZID=America/Chicago:20290217T103000
DTEND;TZID=America/Chicago:20290217T113000
DTSTAMP:20260423T105949
CREATED:20260105T192731Z
LAST-MODIFIED:20260217T200953Z
UID:10003465-1866018600-1866022200@centralalaa.org
SUMMARY:Corrections/Treatment Committee Meeting
DESCRIPTION:Corrections/Treatment Committee Meeting \nEvery 3rd Saturday at 1030am \nLegacies and on Zoom \nZoom ID: 7987279234\nPW: Awakening
URL:https://centralalaa.org/single-event/corrections-treatment-committee-meeting/2029-02-17
LOCATION:Legacies and Zoom\, 3412 Atlanta Highway\, Montgomery\, AL\, 36109\, United States
CATEGORIES:Service Events
END:VEVENT
BEGIN:VEVENT
DTSTART;TZID=America/Chicago:20290317T103000
DTEND;TZID=America/Chicago:20290317T113000
DTSTAMP:20260423T105949
CREATED:20260105T192731Z
LAST-MODIFIED:20260217T200953Z
UID:10003466-1868437800-1868441400@centralalaa.org
SUMMARY:Corrections/Treatment Committee Meeting
DESCRIPTION:Corrections/Treatment Committee Meeting \nEvery 3rd Saturday at 1030am \nLegacies and on Zoom \nZoom ID: 7987279234\nPW: Awakening
URL:https://centralalaa.org/single-event/corrections-treatment-committee-meeting/2029-03-17
LOCATION:Legacies and Zoom\, 3412 Atlanta Highway\, Montgomery\, AL\, 36109\, United States
CATEGORIES:Service Events
END:VEVENT
BEGIN:VEVENT
DTSTART;TZID=America/Chicago:20290421T103000
DTEND;TZID=America/Chicago:20290421T113000
DTSTAMP:20260423T105949
CREATED:20260105T192731Z
LAST-MODIFIED:20260217T200953Z
UID:10003739-1871461800-1871465400@centralalaa.org
SUMMARY:Corrections/Treatment Committee Meeting
DESCRIPTION:Corrections/Treatment Committee Meeting \nEvery 3rd Saturday at 1030am \nLegacies and on Zoom \nZoom ID: 7987279234\nPW: Awakening
URL:https://centralalaa.org/single-event/corrections-treatment-committee-meeting/2029-04-21
LOCATION:Legacies and Zoom\, 3412 Atlanta Highway\, Montgomery\, AL\, 36109\, United States
CATEGORIES:Service Events
END:VEVENT
BEGIN:VEVENT
DTSTART;TZID=America/Chicago:20290519T103000
DTEND;TZID=America/Chicago:20290519T113000
DTSTAMP:20260423T105949
CREATED:20260105T192731Z
LAST-MODIFIED:20260217T200953Z
UID:10003740-1873881000-1873884600@centralalaa.org
SUMMARY:Corrections/Treatment Committee Meeting
DESCRIPTION:Corrections/Treatment Committee Meeting \nEvery 3rd Saturday at 1030am \nLegacies and on Zoom \nZoom ID: 7987279234\nPW: Awakening
URL:https://centralalaa.org/single-event/corrections-treatment-committee-meeting/2029-05-19
LOCATION:Legacies and Zoom\, 3412 Atlanta Highway\, Montgomery\, AL\, 36109\, United States
CATEGORIES:Service Events
END:VEVENT
BEGIN:VEVENT
DTSTART;TZID=America/Chicago:20290616T103000
DTEND;TZID=America/Chicago:20290616T113000
DTSTAMP:20260423T105949
CREATED:20260105T192731Z
LAST-MODIFIED:20260217T200953Z
UID:10003741-1876300200-1876303800@centralalaa.org
SUMMARY:Corrections/Treatment Committee Meeting
DESCRIPTION:Corrections/Treatment Committee Meeting \nEvery 3rd Saturday at 1030am \nLegacies and on Zoom \nZoom ID: 7987279234\nPW: Awakening
URL:https://centralalaa.org/single-event/corrections-treatment-committee-meeting/2029-06-16
LOCATION:Legacies and Zoom\, 3412 Atlanta Highway\, Montgomery\, AL\, 36109\, United States
CATEGORIES:Service Events
END:VEVENT
BEGIN:VEVENT
DTSTART;TZID=America/Chicago:20290721T103000
DTEND;TZID=America/Chicago:20290721T113000
DTSTAMP:20260423T105949
CREATED:20260105T192731Z
LAST-MODIFIED:20260217T200953Z
UID:10003742-1879324200-1879327800@centralalaa.org
SUMMARY:Corrections/Treatment Committee Meeting
DESCRIPTION:Corrections/Treatment Committee Meeting \nEvery 3rd Saturday at 1030am \nLegacies and on Zoom \nZoom ID: 7987279234\nPW: Awakening
URL:https://centralalaa.org/single-event/corrections-treatment-committee-meeting/2029-07-21
LOCATION:Legacies and Zoom\, 3412 Atlanta Highway\, Montgomery\, AL\, 36109\, United States
CATEGORIES:Service Events
END:VEVENT
BEGIN:VEVENT
DTSTART;TZID=America/Chicago:20290818T103000
DTEND;TZID=America/Chicago:20290818T113000
DTSTAMP:20260423T105949
CREATED:20260105T192731Z
LAST-MODIFIED:20260217T200953Z
UID:10003743-1881743400-1881747000@centralalaa.org
SUMMARY:Corrections/Treatment Committee Meeting
DESCRIPTION:Corrections/Treatment Committee Meeting \nEvery 3rd Saturday at 1030am \nLegacies and on Zoom \nZoom ID: 7987279234\nPW: Awakening
URL:https://centralalaa.org/single-event/corrections-treatment-committee-meeting/2029-08-18
LOCATION:Legacies and Zoom\, 3412 Atlanta Highway\, Montgomery\, AL\, 36109\, United States
CATEGORIES:Service Events
END:VEVENT
BEGIN:VEVENT
DTSTART;TZID=America/Chicago:20290915T103000
DTEND;TZID=America/Chicago:20290915T113000
DTSTAMP:20260423T105949
CREATED:20260105T192731Z
LAST-MODIFIED:20260217T200953Z
UID:10003744-1884162600-1884166200@centralalaa.org
SUMMARY:Corrections/Treatment Committee Meeting
DESCRIPTION:Corrections/Treatment Committee Meeting \nEvery 3rd Saturday at 1030am \nLegacies and on Zoom \nZoom ID: 7987279234\nPW: Awakening
URL:https://centralalaa.org/single-event/corrections-treatment-committee-meeting/2029-09-15
LOCATION:Legacies and Zoom\, 3412 Atlanta Highway\, Montgomery\, AL\, 36109\, United States
CATEGORIES:Service Events
END:VEVENT
BEGIN:VEVENT
DTSTART;TZID=America/Chicago:20291020T103000
DTEND;TZID=America/Chicago:20291020T113000
DTSTAMP:20260423T105949
CREATED:20260105T192731Z
LAST-MODIFIED:20260217T200953Z
UID:10003745-1887186600-1887190200@centralalaa.org
SUMMARY:Corrections/Treatment Committee Meeting
DESCRIPTION:Corrections/Treatment Committee Meeting \nEvery 3rd Saturday at 1030am \nLegacies and on Zoom \nZoom ID: 7987279234\nPW: Awakening
URL:https://centralalaa.org/single-event/corrections-treatment-committee-meeting/2029-10-20
LOCATION:Legacies and Zoom\, 3412 Atlanta Highway\, Montgomery\, AL\, 36109\, United States
CATEGORIES:Service Events
END:VEVENT
BEGIN:VEVENT
DTSTART;TZID=America/Chicago:20291117T103000
DTEND;TZID=America/Chicago:20291117T113000
DTSTAMP:20260423T105949
CREATED:20260105T192731Z
LAST-MODIFIED:20260217T200953Z
UID:10003474-1889605800-1889609400@centralalaa.org
SUMMARY:Corrections/Treatment Committee Meeting
DESCRIPTION:Corrections/Treatment Committee Meeting \nEvery 3rd Saturday at 1030am \nLegacies and on Zoom \nZoom ID: 7987279234\nPW: Awakening
URL:https://centralalaa.org/single-event/corrections-treatment-committee-meeting/2029-11-17
LOCATION:Legacies and Zoom\, 3412 Atlanta Highway\, Montgomery\, AL\, 36109\, United States
CATEGORIES:Service Events
END:VEVENT
BEGIN:VEVENT
DTSTART;TZID=America/Chicago:20291215T103000
DTEND;TZID=America/Chicago:20291215T113000
DTSTAMP:20260423T105949
CREATED:20260105T192731Z
LAST-MODIFIED:20260217T200953Z
UID:10003746-1892025000-1892028600@centralalaa.org
SUMMARY:Corrections/Treatment Committee Meeting
DESCRIPTION:Corrections/Treatment Committee Meeting \nEvery 3rd Saturday at 1030am \nLegacies and on Zoom \nZoom ID: 7987279234\nPW: Awakening
URL:https://centralalaa.org/single-event/corrections-treatment-committee-meeting/2029-12-15
LOCATION:Legacies and Zoom\, 3412 Atlanta Highway\, Montgomery\, AL\, 36109\, United States
CATEGORIES:Service Events
END:VEVENT
BEGIN:VEVENT
DTSTART;TZID=America/Chicago:20300119T103000
DTEND;TZID=America/Chicago:20300119T113000
DTSTAMP:20260423T105949
CREATED:20260105T192731Z
LAST-MODIFIED:20260217T200953Z
UID:10003747-1895049000-1895052600@centralalaa.org
SUMMARY:Corrections/Treatment Committee Meeting
DESCRIPTION:Corrections/Treatment Committee Meeting \nEvery 3rd Saturday at 1030am \nLegacies and on Zoom \nZoom ID: 7987279234\nPW: Awakening
URL:https://centralalaa.org/single-event/corrections-treatment-committee-meeting/2030-01-19
LOCATION:Legacies and Zoom\, 3412 Atlanta Highway\, Montgomery\, AL\, 36109\, United States
CATEGORIES:Service Events
END:VEVENT
BEGIN:VEVENT
DTSTART;TZID=America/Chicago:20300216T103000
DTEND;TZID=America/Chicago:20300216T113000
DTSTAMP:20260423T105949
CREATED:20260105T192731Z
LAST-MODIFIED:20260217T200953Z
UID:10003748-1897468200-1897471800@centralalaa.org
SUMMARY:Corrections/Treatment Committee Meeting
DESCRIPTION:Corrections/Treatment Committee Meeting \nEvery 3rd Saturday at 1030am \nLegacies and on Zoom \nZoom ID: 7987279234\nPW: Awakening
URL:https://centralalaa.org/single-event/corrections-treatment-committee-meeting/2030-02-16
LOCATION:Legacies and Zoom\, 3412 Atlanta Highway\, Montgomery\, AL\, 36109\, United States
CATEGORIES:Service Events
END:VEVENT
BEGIN:VEVENT
DTSTART;TZID=America/Chicago:20300316T103000
DTEND;TZID=America/Chicago:20300316T113000
DTSTAMP:20260423T105949
CREATED:20260105T192731Z
LAST-MODIFIED:20260217T200953Z
UID:10003749-1899887400-1899891000@centralalaa.org
SUMMARY:Corrections/Treatment Committee Meeting
DESCRIPTION:Corrections/Treatment Committee Meeting \nEvery 3rd Saturday at 1030am \nLegacies and on Zoom \nZoom ID: 7987279234\nPW: Awakening
URL:https://centralalaa.org/single-event/corrections-treatment-committee-meeting/2030-03-16
LOCATION:Legacies and Zoom\, 3412 Atlanta Highway\, Montgomery\, AL\, 36109\, United States
CATEGORIES:Service Events
END:VEVENT
BEGIN:VEVENT
DTSTART;TZID=America/Chicago:20300420T103000
DTEND;TZID=America/Chicago:20300420T113000
DTSTAMP:20260423T105949
CREATED:20260105T192731Z
LAST-MODIFIED:20260217T200953Z
UID:10003750-1902911400-1902915000@centralalaa.org
SUMMARY:Corrections/Treatment Committee Meeting
DESCRIPTION:Corrections/Treatment Committee Meeting \nEvery 3rd Saturday at 1030am \nLegacies and on Zoom \nZoom ID: 7987279234\nPW: Awakening
URL:https://centralalaa.org/single-event/corrections-treatment-committee-meeting/2030-04-20
LOCATION:Legacies and Zoom\, 3412 Atlanta Highway\, Montgomery\, AL\, 36109\, United States
CATEGORIES:Service Events
END:VEVENT
BEGIN:VEVENT
DTSTART;TZID=America/Chicago:20300518T103000
DTEND;TZID=America/Chicago:20300518T113000
DTSTAMP:20260423T105949
CREATED:20260105T192731Z
LAST-MODIFIED:20260217T200953Z
UID:10003751-1905330600-1905334200@centralalaa.org
SUMMARY:Corrections/Treatment Committee Meeting
DESCRIPTION:Corrections/Treatment Committee Meeting \nEvery 3rd Saturday at 1030am \nLegacies and on Zoom \nZoom ID: 7987279234\nPW: Awakening
URL:https://centralalaa.org/single-event/corrections-treatment-committee-meeting/2030-05-18
LOCATION:Legacies and Zoom\, 3412 Atlanta Highway\, Montgomery\, AL\, 36109\, United States
CATEGORIES:Service Events
END:VEVENT
BEGIN:VEVENT
DTSTART;TZID=America/Chicago:20300615T103000
DTEND;TZID=America/Chicago:20300615T113000
DTSTAMP:20260423T105949
CREATED:20260105T192731Z
LAST-MODIFIED:20260217T200953Z
UID:10003752-1907749800-1907753400@centralalaa.org
SUMMARY:Corrections/Treatment Committee Meeting
DESCRIPTION:Corrections/Treatment Committee Meeting \nEvery 3rd Saturday at 1030am \nLegacies and on Zoom \nZoom ID: 7987279234\nPW: Awakening
URL:https://centralalaa.org/single-event/corrections-treatment-committee-meeting/2030-06-15
LOCATION:Legacies and Zoom\, 3412 Atlanta Highway\, Montgomery\, AL\, 36109\, United States
CATEGORIES:Service Events
END:VEVENT
BEGIN:VEVENT
DTSTART;TZID=America/Chicago:20300720T103000
DTEND;TZID=America/Chicago:20300720T113000
DTSTAMP:20260423T105949
CREATED:20260105T192731Z
LAST-MODIFIED:20260217T200953Z
UID:10003753-1910773800-1910777400@centralalaa.org
SUMMARY:Corrections/Treatment Committee Meeting
DESCRIPTION:Corrections/Treatment Committee Meeting \nEvery 3rd Saturday at 1030am \nLegacies and on Zoom \nZoom ID: 7987279234\nPW: Awakening
URL:https://centralalaa.org/single-event/corrections-treatment-committee-meeting/2030-07-20
LOCATION:Legacies and Zoom\, 3412 Atlanta Highway\, Montgomery\, AL\, 36109\, United States
CATEGORIES:Service Events
END:VEVENT
BEGIN:VEVENT
DTSTART;TZID=America/Chicago:20300817T103000
DTEND;TZID=America/Chicago:20300817T113000
DTSTAMP:20260423T105949
CREATED:20260105T192731Z
LAST-MODIFIED:20260217T200953Z
UID:10003483-1913193000-1913196600@centralalaa.org
SUMMARY:Corrections/Treatment Committee Meeting
DESCRIPTION:Corrections/Treatment Committee Meeting \nEvery 3rd Saturday at 1030am \nLegacies and on Zoom \nZoom ID: 7987279234\nPW: Awakening
URL:https://centralalaa.org/single-event/corrections-treatment-committee-meeting/2030-08-17
LOCATION:Legacies and Zoom\, 3412 Atlanta Highway\, Montgomery\, AL\, 36109\, United States
CATEGORIES:Service Events
END:VEVENT
END:VCALENDAR