BEGIN:VCALENDAR
VERSION:2.0
PRODID:-//District 8, Area 1 - ECPv6.15.20//NONSGML v1.0//EN
CALSCALE:GREGORIAN
METHOD:PUBLISH
X-WR-CALNAME:District 8, Area 1
X-ORIGINAL-URL:https://centralalaa.org
X-WR-CALDESC:Events for District 8, Area 1
REFRESH-INTERVAL;VALUE=DURATION:PT1H
X-Robots-Tag:noindex
X-PUBLISHED-TTL:PT1H
BEGIN:VTIMEZONE
TZID:America/Chicago
BEGIN:DAYLIGHT
TZOFFSETFROM:-0600
TZOFFSETTO:-0500
TZNAME:CDT
DTSTART:20240310T080000
END:DAYLIGHT
BEGIN:STANDARD
TZOFFSETFROM:-0500
TZOFFSETTO:-0600
TZNAME:CST
DTSTART:20241103T070000
END:STANDARD
BEGIN:DAYLIGHT
TZOFFSETFROM:-0600
TZOFFSETTO:-0500
TZNAME:CDT
DTSTART:20250309T080000
END:DAYLIGHT
BEGIN:STANDARD
TZOFFSETFROM:-0500
TZOFFSETTO:-0600
TZNAME:CST
DTSTART:20251102T070000
END:STANDARD
BEGIN:DAYLIGHT
TZOFFSETFROM:-0600
TZOFFSETTO:-0500
TZNAME:CDT
DTSTART:20260308T080000
END:DAYLIGHT
BEGIN:STANDARD
TZOFFSETFROM:-0500
TZOFFSETTO:-0600
TZNAME:CST
DTSTART:20261101T070000
END:STANDARD
BEGIN:DAYLIGHT
TZOFFSETFROM:-0600
TZOFFSETTO:-0500
TZNAME:CDT
DTSTART:20270314T080000
END:DAYLIGHT
BEGIN:STANDARD
TZOFFSETFROM:-0500
TZOFFSETTO:-0600
TZNAME:CST
DTSTART:20271107T070000
END:STANDARD
END:VTIMEZONE
BEGIN:VEVENT
DTSTART;TZID=America/Chicago:20260215T150000
DTEND;TZID=America/Chicago:20260215T160000
DTSTAMP:20260423T074547
CREATED:20260209T180842Z
LAST-MODIFIED:20260209T182107Z
UID:10003651-1771167600-1771171200@centralalaa.org
SUMMARY:BBCA - Planning committee meeting.
DESCRIPTION:BBCA \nFebruary 15\, 2026 3:00 PM \nPlanning committee meeting. \nLegacies \nMeeting will be hybrid using Intergroup zoom \nZoom ID: 276 263 0376
URL:https://centralalaa.org/single-event/bbca-planning-committee-meeting
LOCATION:Legacies Meeting Space\, 3412 Atlanta Highway\, Montgomery\, AL\, 36109\, United States
CATEGORIES:Service Events
GEO:32.3841815;-86.2582272
X-APPLE-STRUCTURED-LOCATION;VALUE=URI;X-ADDRESS=Legacies Meeting Space 3412 Atlanta Highway Montgomery AL 36109 United States;X-APPLE-RADIUS=500;X-TITLE=3412 Atlanta Highway:geo:-86.2582272,32.3841815
END:VEVENT
BEGIN:VEVENT
DTSTART;TZID=America/Chicago:20260208T133000
DTEND;TZID=America/Chicago:20260208T143000
DTSTAMP:20260423T074547
CREATED:20260120T174150Z
LAST-MODIFIED:20260207T191657Z
UID:10003591-1770557400-1770561000@centralalaa.org
SUMMARY:Big Book Comes Alive Committee Meeting
DESCRIPTION:This committee will plan the Big Book Comes Alive event.  Intergroup Zoom 276 263 0376.
URL:https://centralalaa.org/single-event/big-book-comes-alive-committee-meeting
LOCATION:Legacies Meeting Space\, 3412 Atlanta Highway\, Montgomery\, AL\, 36109\, United States
GEO:32.3841815;-86.2582272
X-APPLE-STRUCTURED-LOCATION;VALUE=URI;X-ADDRESS=Legacies Meeting Space 3412 Atlanta Highway Montgomery AL 36109 United States;X-APPLE-RADIUS=500;X-TITLE=3412 Atlanta Highway:geo:-86.2582272,32.3841815
END:VEVENT
BEGIN:VEVENT
DTSTART;TZID=America/Chicago:20260117T090000
DTEND;TZID=America/Chicago:20260117T100000
DTSTAMP:20260423T074547
CREATED:20250421T141526Z
LAST-MODIFIED:20260114T162545Z
UID:10002164-1768640400-1768644000@centralalaa.org
SUMMARY:Intergroup Board Meeting
DESCRIPTION:Intergroup Board Meeting \nAll voting meetings should attend.
URL:https://centralalaa.org/single-event/intergroup-board-meeting-2
LOCATION:Legacies Meeting Space\, 3412 Atlanta Highway\, Montgomery\, AL\, 36109\, United States
CATEGORIES:Service Events
GEO:32.3841815;-86.2582272
X-APPLE-STRUCTURED-LOCATION;VALUE=URI;X-ADDRESS=Legacies Meeting Space 3412 Atlanta Highway Montgomery AL 36109 United States;X-APPLE-RADIUS=500;X-TITLE=3412 Atlanta Highway:geo:-86.2582272,32.3841815
END:VEVENT
BEGIN:VEVENT
DTSTART;TZID=America/Chicago:20251006T180000
DTEND;TZID=America/Chicago:20251006T190000
DTSTAMP:20260423T074547
CREATED:20251006T211627Z
LAST-MODIFIED:20251006T211707Z
UID:10003056-1759773600-1759777200@centralalaa.org
SUMMARY:Alcathon Planning Committee
DESCRIPTION:Join us in person at Legacies Group or on Zoom: \nhttps://us02web.zoom.us/j/86053396700?pwd=DCOartOrDhAUffpgQyMw7JaTnbtnz1.1 \nWe need ALL the help we can get!
URL:https://centralalaa.org/single-event/alcathon-planning-committee-2
LOCATION:Legacies Meeting Space\, 3412 Atlanta Highway\, Montgomery\, AL\, 36109\, United States
CATEGORIES:Service Events
ATTACH;FMTTYPE=image/png:https://centralalaa.org/wp-content/uploads/Alcathon-2.png
GEO:32.3841815;-86.2582272
X-APPLE-STRUCTURED-LOCATION;VALUE=URI;X-ADDRESS=Legacies Meeting Space 3412 Atlanta Highway Montgomery AL 36109 United States;X-APPLE-RADIUS=500;X-TITLE=3412 Atlanta Highway:geo:-86.2582272,32.3841815
END:VEVENT
BEGIN:VEVENT
DTSTART;TZID=America/Chicago:20250929T180000
DTEND;TZID=America/Chicago:20250929T190000
DTSTAMP:20260423T074547
CREATED:20250929T150955Z
LAST-MODIFIED:20250929T151114Z
UID:10003054-1759168800-1759172400@centralalaa.org
SUMMARY:Alcathon Planning Committee
DESCRIPTION:The Montgomery Intergroup Alcathon Committee is putting together plans for this New Year’s Eve and we need all the help we can get. \nWe will have subcommittees responsible for: \n\nLocation / Facility\nProgram\nEntertainment (Dance? Games?)\nHospitality (Food & Beverage?)\nDecoration\nSetup / Cleanup\n\nIf you would like to head up a subcommittee or be a part of one (no experience or long term contract required!) join us!!
URL:https://centralalaa.org/single-event/alcathon-planning-committee
LOCATION:Legacies Meeting Space\, 3412 Atlanta Highway\, Montgomery\, AL\, 36109\, United States
CATEGORIES:Service Events
ATTACH;FMTTYPE=image/png:https://centralalaa.org/wp-content/uploads/Alcathon-Planning.png
GEO:32.3841815;-86.2582272
X-APPLE-STRUCTURED-LOCATION;VALUE=URI;X-ADDRESS=Legacies Meeting Space 3412 Atlanta Highway Montgomery AL 36109 United States;X-APPLE-RADIUS=500;X-TITLE=3412 Atlanta Highway:geo:-86.2582272,32.3841815
END:VEVENT
BEGIN:VEVENT
DTSTART;TZID=America/Chicago:20250622T143000
DTEND;TZID=America/Chicago:20250622T170000
DTSTAMP:20260423T074547
CREATED:20250610T153451Z
LAST-MODIFIED:20250610T153451Z
UID:10002387-1750602600-1750611600@centralalaa.org
SUMMARY:Friends of Bill W
DESCRIPTION:
URL:https://centralalaa.org/single-event/friends-of-bill-w-2
LOCATION:Legacies Meeting Space\, 3412 Atlanta Highway\, Montgomery\, AL\, 36109\, United States
GEO:32.3841815;-86.2582272
X-APPLE-STRUCTURED-LOCATION;VALUE=URI;X-ADDRESS=Legacies Meeting Space 3412 Atlanta Highway Montgomery AL 36109 United States;X-APPLE-RADIUS=500;X-TITLE=3412 Atlanta Highway:geo:-86.2582272,32.3841815
END:VEVENT
BEGIN:VEVENT
DTSTART;TZID=America/Chicago:20250622T140000
DTEND;TZID=America/Chicago:20250622T143000
DTSTAMP:20260423T074547
CREATED:20250610T153639Z
LAST-MODIFIED:20250610T153639Z
UID:10002388-1750600800-1750602600@centralalaa.org
SUMMARY:Old Timers Planning Committee
DESCRIPTION:
URL:https://centralalaa.org/single-event/old-timers-planning-committee
LOCATION:Legacies Meeting Space\, 3412 Atlanta Highway\, Montgomery\, AL\, 36109\, United States
GEO:32.3841815;-86.2582272
X-APPLE-STRUCTURED-LOCATION;VALUE=URI;X-ADDRESS=Legacies Meeting Space 3412 Atlanta Highway Montgomery AL 36109 United States;X-APPLE-RADIUS=500;X-TITLE=3412 Atlanta Highway:geo:-86.2582272,32.3841815
END:VEVENT
END:VCALENDAR