BEGIN:VCALENDAR
VERSION:2.0
PRODID:-//District 8, Area 1 - ECPv6.15.20//NONSGML v1.0//EN
CALSCALE:GREGORIAN
METHOD:PUBLISH
X-ORIGINAL-URL:https://centralalaa.org
X-WR-CALDESC:Events for District 8, Area 1
REFRESH-INTERVAL;VALUE=DURATION:PT1H
X-Robots-Tag:noindex
X-PUBLISHED-TTL:PT1H
BEGIN:VTIMEZONE
TZID:America/Chicago
BEGIN:DAYLIGHT
TZOFFSETFROM:-0600
TZOFFSETTO:-0500
TZNAME:CDT
DTSTART:20240310T080000
END:DAYLIGHT
BEGIN:STANDARD
TZOFFSETFROM:-0500
TZOFFSETTO:-0600
TZNAME:CST
DTSTART:20241103T070000
END:STANDARD
BEGIN:DAYLIGHT
TZOFFSETFROM:-0600
TZOFFSETTO:-0500
TZNAME:CDT
DTSTART:20250309T080000
END:DAYLIGHT
BEGIN:STANDARD
TZOFFSETFROM:-0500
TZOFFSETTO:-0600
TZNAME:CST
DTSTART:20251102T070000
END:STANDARD
BEGIN:DAYLIGHT
TZOFFSETFROM:-0600
TZOFFSETTO:-0500
TZNAME:CDT
DTSTART:20260308T080000
END:DAYLIGHT
BEGIN:STANDARD
TZOFFSETFROM:-0500
TZOFFSETTO:-0600
TZNAME:CST
DTSTART:20261101T070000
END:STANDARD
END:VTIMEZONE
BEGIN:VEVENT
DTSTART;TZID=America/Chicago:20251018T180000
DTEND;TZID=America/Chicago:20251018T210000
DTSTAMP:20260423T152353
CREATED:20251010T122654Z
LAST-MODIFIED:20251010T122654Z
UID:10003058-1760810400-1760821200@centralalaa.org
SUMMARY:Gumpypaa Resilience in recovery
DESCRIPTION:
URL:https://centralalaa.org/single-event/gumpypaa-resilience-in-recovery
LOCATION:Real Life Church\, 1834 I-65 Service Road\, Millbrook\, AL\, 36054\, United States
CATEGORIES:Events,Fellowship Events
END:VEVENT
BEGIN:VEVENT
DTSTART;TZID=America/Chicago:20250920T160000
DTEND;TZID=America/Chicago:20250920T193000
DTSTAMP:20260423T152353
CREATED:20250723T003416Z
LAST-MODIFIED:20250814T172500Z
UID:10002779-1758384000-1758396600@centralalaa.org
SUMMARY:Prattville downtown group anniversary
DESCRIPTION:Prattville downtown group anniversary \nSeptember 20\, 2025 4:00 – 7:30 PM \nPlease bring a side \nReal Life Church\n1834 I65 Srv Road East\nMillbrook \, AL 36054
URL:https://centralalaa.org/single-event/prattville-downtown-group-anniversary
LOCATION:Real Life Church\, 1834 I-65 Service Road\, Millbrook\, AL\, 36054\, United States
CATEGORIES:Fellowship Events
END:VEVENT
BEGIN:VEVENT
DTSTART;TZID=America/Chicago:20250823T150000
DTEND;TZID=America/Chicago:20250823T180000
DTSTAMP:20260423T152353
CREATED:20250813T145958Z
LAST-MODIFIED:20250813T145958Z
UID:10002984-1755961200-1755972000@centralalaa.org
SUMMARY:Step Into The Spotlight
DESCRIPTION:
URL:https://centralalaa.org/single-event/step-into-the-spotlight
LOCATION:Real Life Church\, 1834 I-65 Service Road\, Millbrook\, AL\, 36054\, United States
END:VEVENT
END:VCALENDAR