BEGIN:VCALENDAR
VERSION:2.0
PRODID:-//District 8, Area 1 - ECPv6.15.20//NONSGML v1.0//EN
CALSCALE:GREGORIAN
METHOD:PUBLISH
X-WR-CALNAME:District 8, Area 1
X-ORIGINAL-URL:https://centralalaa.org
X-WR-CALDESC:Events for District 8, Area 1
REFRESH-INTERVAL;VALUE=DURATION:PT1H
X-Robots-Tag:noindex
X-PUBLISHED-TTL:PT1H
BEGIN:VTIMEZONE
TZID:America/Chicago
BEGIN:DAYLIGHT
TZOFFSETFROM:-0600
TZOFFSETTO:-0500
TZNAME:CDT
DTSTART:20250309T080000
END:DAYLIGHT
BEGIN:STANDARD
TZOFFSETFROM:-0500
TZOFFSETTO:-0600
TZNAME:CST
DTSTART:20251102T070000
END:STANDARD
BEGIN:DAYLIGHT
TZOFFSETFROM:-0600
TZOFFSETTO:-0500
TZNAME:CDT
DTSTART:20260308T080000
END:DAYLIGHT
BEGIN:STANDARD
TZOFFSETFROM:-0500
TZOFFSETTO:-0600
TZNAME:CST
DTSTART:20261101T070000
END:STANDARD
BEGIN:DAYLIGHT
TZOFFSETFROM:-0600
TZOFFSETTO:-0500
TZNAME:CDT
DTSTART:20270314T080000
END:DAYLIGHT
BEGIN:STANDARD
TZOFFSETFROM:-0500
TZOFFSETTO:-0600
TZNAME:CST
DTSTART:20271107T070000
END:STANDARD
BEGIN:DAYLIGHT
TZOFFSETFROM:-0600
TZOFFSETTO:-0500
TZNAME:CDT
DTSTART:20280312T080000
END:DAYLIGHT
BEGIN:STANDARD
TZOFFSETFROM:-0500
TZOFFSETTO:-0600
TZNAME:CST
DTSTART:20281105T070000
END:STANDARD
BEGIN:DAYLIGHT
TZOFFSETFROM:-0600
TZOFFSETTO:-0500
TZNAME:CDT
DTSTART:20290311T080000
END:DAYLIGHT
BEGIN:STANDARD
TZOFFSETFROM:-0500
TZOFFSETTO:-0600
TZNAME:CST
DTSTART:20291104T070000
END:STANDARD
END:VTIMEZONE
BEGIN:VEVENT
DTSTART;TZID=America/Chicago:20260430T120000
DTEND;TZID=America/Chicago:20260430T130000
DTSTAMP:20260423T063626
CREATED:20250525T232631Z
LAST-MODIFIED:20250525T232631Z
UID:10002341-1777550400-1777554000@centralalaa.org
SUMMARY:Autauga SOS Noon Pot Luck and Speaker Meeting
DESCRIPTION:Autauga SOS Noon Pot Luck and Speaker Meeting \nLast Thursday of the Month at Noon \nSpeaker and Pot Luck
URL:https://centralalaa.org/single-event/autauga-sos-noon-pot-luck-and-speaker-meeting/2026-04-30
LOCATION:St Marks Episcopal Church\, 178 E 4th St\, Prattville\, AL\, 36067\, United States
CATEGORIES:Events,Fellowship Events
END:VEVENT
BEGIN:VEVENT
DTSTART;TZID=America/Chicago:20260528T120000
DTEND;TZID=America/Chicago:20260528T130000
DTSTAMP:20260423T063626
CREATED:20250525T232631Z
LAST-MODIFIED:20250525T232631Z
UID:10002342-1779969600-1779973200@centralalaa.org
SUMMARY:Autauga SOS Noon Pot Luck and Speaker Meeting
DESCRIPTION:Autauga SOS Noon Pot Luck and Speaker Meeting \nLast Thursday of the Month at Noon \nSpeaker and Pot Luck
URL:https://centralalaa.org/single-event/autauga-sos-noon-pot-luck-and-speaker-meeting/2026-05-28
LOCATION:St Marks Episcopal Church\, 178 E 4th St\, Prattville\, AL\, 36067\, United States
CATEGORIES:Events,Fellowship Events
END:VEVENT
BEGIN:VEVENT
DTSTART;TZID=America/Chicago:20260625T120000
DTEND;TZID=America/Chicago:20260625T130000
DTSTAMP:20260423T063626
CREATED:20250525T232631Z
LAST-MODIFIED:20250525T232631Z
UID:10002343-1782388800-1782392400@centralalaa.org
SUMMARY:Autauga SOS Noon Pot Luck and Speaker Meeting
DESCRIPTION:Autauga SOS Noon Pot Luck and Speaker Meeting \nLast Thursday of the Month at Noon \nSpeaker and Pot Luck
URL:https://centralalaa.org/single-event/autauga-sos-noon-pot-luck-and-speaker-meeting/2026-06-25
LOCATION:St Marks Episcopal Church\, 178 E 4th St\, Prattville\, AL\, 36067\, United States
CATEGORIES:Events,Fellowship Events
END:VEVENT
BEGIN:VEVENT
DTSTART;TZID=America/Chicago:20260730T120000
DTEND;TZID=America/Chicago:20260730T130000
DTSTAMP:20260423T063626
CREATED:20250525T232631Z
LAST-MODIFIED:20250525T232631Z
UID:10002344-1785412800-1785416400@centralalaa.org
SUMMARY:Autauga SOS Noon Pot Luck and Speaker Meeting
DESCRIPTION:Autauga SOS Noon Pot Luck and Speaker Meeting \nLast Thursday of the Month at Noon \nSpeaker and Pot Luck
URL:https://centralalaa.org/single-event/autauga-sos-noon-pot-luck-and-speaker-meeting/2026-07-30
LOCATION:St Marks Episcopal Church\, 178 E 4th St\, Prattville\, AL\, 36067\, United States
CATEGORIES:Events,Fellowship Events
END:VEVENT
BEGIN:VEVENT
DTSTART;TZID=America/Chicago:20260827T120000
DTEND;TZID=America/Chicago:20260827T130000
DTSTAMP:20260423T063626
CREATED:20250525T232631Z
LAST-MODIFIED:20250525T232631Z
UID:10002345-1787832000-1787835600@centralalaa.org
SUMMARY:Autauga SOS Noon Pot Luck and Speaker Meeting
DESCRIPTION:Autauga SOS Noon Pot Luck and Speaker Meeting \nLast Thursday of the Month at Noon \nSpeaker and Pot Luck
URL:https://centralalaa.org/single-event/autauga-sos-noon-pot-luck-and-speaker-meeting/2026-08-27
LOCATION:St Marks Episcopal Church\, 178 E 4th St\, Prattville\, AL\, 36067\, United States
CATEGORIES:Events,Fellowship Events
END:VEVENT
BEGIN:VEVENT
DTSTART;TZID=America/Chicago:20260924T120000
DTEND;TZID=America/Chicago:20260924T130000
DTSTAMP:20260423T063626
CREATED:20250525T232631Z
LAST-MODIFIED:20250525T232631Z
UID:10002346-1790251200-1790254800@centralalaa.org
SUMMARY:Autauga SOS Noon Pot Luck and Speaker Meeting
DESCRIPTION:Autauga SOS Noon Pot Luck and Speaker Meeting \nLast Thursday of the Month at Noon \nSpeaker and Pot Luck
URL:https://centralalaa.org/single-event/autauga-sos-noon-pot-luck-and-speaker-meeting/2026-09-24
LOCATION:St Marks Episcopal Church\, 178 E 4th St\, Prattville\, AL\, 36067\, United States
CATEGORIES:Events,Fellowship Events
END:VEVENT
BEGIN:VEVENT
DTSTART;TZID=America/Chicago:20261029T120000
DTEND;TZID=America/Chicago:20261029T130000
DTSTAMP:20260423T063626
CREATED:20250525T232631Z
LAST-MODIFIED:20250525T232631Z
UID:10002241-1793275200-1793278800@centralalaa.org
SUMMARY:Autauga SOS Noon Pot Luck and Speaker Meeting
DESCRIPTION:Autauga SOS Noon Pot Luck and Speaker Meeting \nLast Thursday of the Month at Noon \nSpeaker and Pot Luck
URL:https://centralalaa.org/single-event/autauga-sos-noon-pot-luck-and-speaker-meeting/2026-10-29
LOCATION:St Marks Episcopal Church\, 178 E 4th St\, Prattville\, AL\, 36067\, United States
CATEGORIES:Events,Fellowship Events
END:VEVENT
BEGIN:VEVENT
DTSTART;TZID=America/Chicago:20261126T120000
DTEND;TZID=America/Chicago:20261126T130000
DTSTAMP:20260423T063626
CREATED:20250525T232631Z
LAST-MODIFIED:20250525T232631Z
UID:10002347-1795694400-1795698000@centralalaa.org
SUMMARY:Autauga SOS Noon Pot Luck and Speaker Meeting
DESCRIPTION:Autauga SOS Noon Pot Luck and Speaker Meeting \nLast Thursday of the Month at Noon \nSpeaker and Pot Luck
URL:https://centralalaa.org/single-event/autauga-sos-noon-pot-luck-and-speaker-meeting/2026-11-26
LOCATION:St Marks Episcopal Church\, 178 E 4th St\, Prattville\, AL\, 36067\, United States
CATEGORIES:Events,Fellowship Events
END:VEVENT
BEGIN:VEVENT
DTSTART;TZID=America/Chicago:20261231T120000
DTEND;TZID=America/Chicago:20261231T130000
DTSTAMP:20260423T063626
CREATED:20250525T232631Z
LAST-MODIFIED:20250525T232631Z
UID:10002348-1798718400-1798722000@centralalaa.org
SUMMARY:Autauga SOS Noon Pot Luck and Speaker Meeting
DESCRIPTION:Autauga SOS Noon Pot Luck and Speaker Meeting \nLast Thursday of the Month at Noon \nSpeaker and Pot Luck
URL:https://centralalaa.org/single-event/autauga-sos-noon-pot-luck-and-speaker-meeting/2026-12-31
LOCATION:St Marks Episcopal Church\, 178 E 4th St\, Prattville\, AL\, 36067\, United States
CATEGORIES:Events,Fellowship Events
END:VEVENT
BEGIN:VEVENT
DTSTART;TZID=America/Chicago:20270128T120000
DTEND;TZID=America/Chicago:20270128T130000
DTSTAMP:20260423T063626
CREATED:20250525T232631Z
LAST-MODIFIED:20250525T232631Z
UID:10002349-1801137600-1801141200@centralalaa.org
SUMMARY:Autauga SOS Noon Pot Luck and Speaker Meeting
DESCRIPTION:Autauga SOS Noon Pot Luck and Speaker Meeting \nLast Thursday of the Month at Noon \nSpeaker and Pot Luck
URL:https://centralalaa.org/single-event/autauga-sos-noon-pot-luck-and-speaker-meeting/2027-01-28
LOCATION:St Marks Episcopal Church\, 178 E 4th St\, Prattville\, AL\, 36067\, United States
CATEGORIES:Events,Fellowship Events
END:VEVENT
BEGIN:VEVENT
DTSTART;TZID=America/Chicago:20270225T120000
DTEND;TZID=America/Chicago:20270225T130000
DTSTAMP:20260423T063626
CREATED:20250525T232631Z
LAST-MODIFIED:20250525T232631Z
UID:10002350-1803556800-1803560400@centralalaa.org
SUMMARY:Autauga SOS Noon Pot Luck and Speaker Meeting
DESCRIPTION:Autauga SOS Noon Pot Luck and Speaker Meeting \nLast Thursday of the Month at Noon \nSpeaker and Pot Luck
URL:https://centralalaa.org/single-event/autauga-sos-noon-pot-luck-and-speaker-meeting/2027-02-25
LOCATION:St Marks Episcopal Church\, 178 E 4th St\, Prattville\, AL\, 36067\, United States
CATEGORIES:Events,Fellowship Events
END:VEVENT
BEGIN:VEVENT
DTSTART;TZID=America/Chicago:20270325T120000
DTEND;TZID=America/Chicago:20270325T130000
DTSTAMP:20260423T063626
CREATED:20250525T232631Z
LAST-MODIFIED:20250525T232631Z
UID:10002351-1805976000-1805979600@centralalaa.org
SUMMARY:Autauga SOS Noon Pot Luck and Speaker Meeting
DESCRIPTION:Autauga SOS Noon Pot Luck and Speaker Meeting \nLast Thursday of the Month at Noon \nSpeaker and Pot Luck
URL:https://centralalaa.org/single-event/autauga-sos-noon-pot-luck-and-speaker-meeting/2027-03-25
LOCATION:St Marks Episcopal Church\, 178 E 4th St\, Prattville\, AL\, 36067\, United States
CATEGORIES:Events,Fellowship Events
END:VEVENT
BEGIN:VEVENT
DTSTART;TZID=America/Chicago:20270429T120000
DTEND;TZID=America/Chicago:20270429T130000
DTSTAMP:20260423T063626
CREATED:20250525T232631Z
LAST-MODIFIED:20250525T232631Z
UID:10002247-1809000000-1809003600@centralalaa.org
SUMMARY:Autauga SOS Noon Pot Luck and Speaker Meeting
DESCRIPTION:Autauga SOS Noon Pot Luck and Speaker Meeting \nLast Thursday of the Month at Noon \nSpeaker and Pot Luck
URL:https://centralalaa.org/single-event/autauga-sos-noon-pot-luck-and-speaker-meeting/2027-04-29
LOCATION:St Marks Episcopal Church\, 178 E 4th St\, Prattville\, AL\, 36067\, United States
CATEGORIES:Events,Fellowship Events
END:VEVENT
BEGIN:VEVENT
DTSTART;TZID=America/Chicago:20270527T120000
DTEND;TZID=America/Chicago:20270527T130000
DTSTAMP:20260423T063626
CREATED:20250525T232631Z
LAST-MODIFIED:20250525T232631Z
UID:10002352-1811419200-1811422800@centralalaa.org
SUMMARY:Autauga SOS Noon Pot Luck and Speaker Meeting
DESCRIPTION:Autauga SOS Noon Pot Luck and Speaker Meeting \nLast Thursday of the Month at Noon \nSpeaker and Pot Luck
URL:https://centralalaa.org/single-event/autauga-sos-noon-pot-luck-and-speaker-meeting/2027-05-27
LOCATION:St Marks Episcopal Church\, 178 E 4th St\, Prattville\, AL\, 36067\, United States
CATEGORIES:Events,Fellowship Events
END:VEVENT
BEGIN:VEVENT
DTSTART;TZID=America/Chicago:20270624T120000
DTEND;TZID=America/Chicago:20270624T130000
DTSTAMP:20260423T063626
CREATED:20250525T232631Z
LAST-MODIFIED:20250525T232631Z
UID:10002353-1813838400-1813842000@centralalaa.org
SUMMARY:Autauga SOS Noon Pot Luck and Speaker Meeting
DESCRIPTION:Autauga SOS Noon Pot Luck and Speaker Meeting \nLast Thursday of the Month at Noon \nSpeaker and Pot Luck
URL:https://centralalaa.org/single-event/autauga-sos-noon-pot-luck-and-speaker-meeting/2027-06-24
LOCATION:St Marks Episcopal Church\, 178 E 4th St\, Prattville\, AL\, 36067\, United States
CATEGORIES:Events,Fellowship Events
END:VEVENT
BEGIN:VEVENT
DTSTART;TZID=America/Chicago:20270729T120000
DTEND;TZID=America/Chicago:20270729T130000
DTSTAMP:20260423T063626
CREATED:20250525T232631Z
LAST-MODIFIED:20250525T232631Z
UID:10002250-1816862400-1816866000@centralalaa.org
SUMMARY:Autauga SOS Noon Pot Luck and Speaker Meeting
DESCRIPTION:Autauga SOS Noon Pot Luck and Speaker Meeting \nLast Thursday of the Month at Noon \nSpeaker and Pot Luck
URL:https://centralalaa.org/single-event/autauga-sos-noon-pot-luck-and-speaker-meeting/2027-07-29
LOCATION:St Marks Episcopal Church\, 178 E 4th St\, Prattville\, AL\, 36067\, United States
CATEGORIES:Events,Fellowship Events
END:VEVENT
BEGIN:VEVENT
DTSTART;TZID=America/Chicago:20270826T120000
DTEND;TZID=America/Chicago:20270826T130000
DTSTAMP:20260423T063626
CREATED:20250525T232631Z
LAST-MODIFIED:20250525T232631Z
UID:10002354-1819281600-1819285200@centralalaa.org
SUMMARY:Autauga SOS Noon Pot Luck and Speaker Meeting
DESCRIPTION:Autauga SOS Noon Pot Luck and Speaker Meeting \nLast Thursday of the Month at Noon \nSpeaker and Pot Luck
URL:https://centralalaa.org/single-event/autauga-sos-noon-pot-luck-and-speaker-meeting/2027-08-26
LOCATION:St Marks Episcopal Church\, 178 E 4th St\, Prattville\, AL\, 36067\, United States
CATEGORIES:Events,Fellowship Events
END:VEVENT
BEGIN:VEVENT
DTSTART;TZID=America/Chicago:20270930T120000
DTEND;TZID=America/Chicago:20270930T130000
DTSTAMP:20260423T063626
CREATED:20250525T232631Z
LAST-MODIFIED:20250525T232631Z
UID:10002355-1822305600-1822309200@centralalaa.org
SUMMARY:Autauga SOS Noon Pot Luck and Speaker Meeting
DESCRIPTION:Autauga SOS Noon Pot Luck and Speaker Meeting \nLast Thursday of the Month at Noon \nSpeaker and Pot Luck
URL:https://centralalaa.org/single-event/autauga-sos-noon-pot-luck-and-speaker-meeting/2027-09-30
LOCATION:St Marks Episcopal Church\, 178 E 4th St\, Prattville\, AL\, 36067\, United States
CATEGORIES:Events,Fellowship Events
END:VEVENT
BEGIN:VEVENT
DTSTART;TZID=America/Chicago:20271028T120000
DTEND;TZID=America/Chicago:20271028T130000
DTSTAMP:20260423T063626
CREATED:20250525T232631Z
LAST-MODIFIED:20250525T232631Z
UID:10002356-1824724800-1824728400@centralalaa.org
SUMMARY:Autauga SOS Noon Pot Luck and Speaker Meeting
DESCRIPTION:Autauga SOS Noon Pot Luck and Speaker Meeting \nLast Thursday of the Month at Noon \nSpeaker and Pot Luck
URL:https://centralalaa.org/single-event/autauga-sos-noon-pot-luck-and-speaker-meeting/2027-10-28
LOCATION:St Marks Episcopal Church\, 178 E 4th St\, Prattville\, AL\, 36067\, United States
CATEGORIES:Events,Fellowship Events
END:VEVENT
BEGIN:VEVENT
DTSTART;TZID=America/Chicago:20271125T120000
DTEND;TZID=America/Chicago:20271125T130000
DTSTAMP:20260423T063626
CREATED:20250525T232631Z
LAST-MODIFIED:20250525T232631Z
UID:10002357-1827144000-1827147600@centralalaa.org
SUMMARY:Autauga SOS Noon Pot Luck and Speaker Meeting
DESCRIPTION:Autauga SOS Noon Pot Luck and Speaker Meeting \nLast Thursday of the Month at Noon \nSpeaker and Pot Luck
URL:https://centralalaa.org/single-event/autauga-sos-noon-pot-luck-and-speaker-meeting/2027-11-25
LOCATION:St Marks Episcopal Church\, 178 E 4th St\, Prattville\, AL\, 36067\, United States
CATEGORIES:Events,Fellowship Events
END:VEVENT
BEGIN:VEVENT
DTSTART;TZID=America/Chicago:20271230T120000
DTEND;TZID=America/Chicago:20271230T130000
DTSTAMP:20260423T063626
CREATED:20250525T232631Z
LAST-MODIFIED:20250525T232631Z
UID:10002358-1830168000-1830171600@centralalaa.org
SUMMARY:Autauga SOS Noon Pot Luck and Speaker Meeting
DESCRIPTION:Autauga SOS Noon Pot Luck and Speaker Meeting \nLast Thursday of the Month at Noon \nSpeaker and Pot Luck
URL:https://centralalaa.org/single-event/autauga-sos-noon-pot-luck-and-speaker-meeting/2027-12-30
LOCATION:St Marks Episcopal Church\, 178 E 4th St\, Prattville\, AL\, 36067\, United States
CATEGORIES:Events,Fellowship Events
END:VEVENT
BEGIN:VEVENT
DTSTART;TZID=America/Chicago:20280127T120000
DTEND;TZID=America/Chicago:20280127T130000
DTSTAMP:20260423T063626
CREATED:20250525T232631Z
LAST-MODIFIED:20250525T232631Z
UID:10002359-1832587200-1832590800@centralalaa.org
SUMMARY:Autauga SOS Noon Pot Luck and Speaker Meeting
DESCRIPTION:Autauga SOS Noon Pot Luck and Speaker Meeting \nLast Thursday of the Month at Noon \nSpeaker and Pot Luck
URL:https://centralalaa.org/single-event/autauga-sos-noon-pot-luck-and-speaker-meeting/2028-01-27
LOCATION:St Marks Episcopal Church\, 178 E 4th St\, Prattville\, AL\, 36067\, United States
CATEGORIES:Events,Fellowship Events
END:VEVENT
BEGIN:VEVENT
DTSTART;TZID=America/Chicago:20280224T120000
DTEND;TZID=America/Chicago:20280224T130000
DTSTAMP:20260423T063626
CREATED:20250525T232631Z
LAST-MODIFIED:20250525T232631Z
UID:10002360-1835006400-1835010000@centralalaa.org
SUMMARY:Autauga SOS Noon Pot Luck and Speaker Meeting
DESCRIPTION:Autauga SOS Noon Pot Luck and Speaker Meeting \nLast Thursday of the Month at Noon \nSpeaker and Pot Luck
URL:https://centralalaa.org/single-event/autauga-sos-noon-pot-luck-and-speaker-meeting/2028-02-24
LOCATION:St Marks Episcopal Church\, 178 E 4th St\, Prattville\, AL\, 36067\, United States
CATEGORIES:Events,Fellowship Events
END:VEVENT
BEGIN:VEVENT
DTSTART;TZID=America/Chicago:20280330T120000
DTEND;TZID=America/Chicago:20280330T130000
DTSTAMP:20260423T063626
CREATED:20250525T232631Z
LAST-MODIFIED:20250525T232631Z
UID:10002361-1838030400-1838034000@centralalaa.org
SUMMARY:Autauga SOS Noon Pot Luck and Speaker Meeting
DESCRIPTION:Autauga SOS Noon Pot Luck and Speaker Meeting \nLast Thursday of the Month at Noon \nSpeaker and Pot Luck
URL:https://centralalaa.org/single-event/autauga-sos-noon-pot-luck-and-speaker-meeting/2028-03-30
LOCATION:St Marks Episcopal Church\, 178 E 4th St\, Prattville\, AL\, 36067\, United States
CATEGORIES:Events,Fellowship Events
END:VEVENT
BEGIN:VEVENT
DTSTART;TZID=America/Chicago:20280427T120000
DTEND;TZID=America/Chicago:20280427T130000
DTSTAMP:20260423T063626
CREATED:20250525T232631Z
LAST-MODIFIED:20250525T232631Z
UID:10002362-1840449600-1840453200@centralalaa.org
SUMMARY:Autauga SOS Noon Pot Luck and Speaker Meeting
DESCRIPTION:Autauga SOS Noon Pot Luck and Speaker Meeting \nLast Thursday of the Month at Noon \nSpeaker and Pot Luck
URL:https://centralalaa.org/single-event/autauga-sos-noon-pot-luck-and-speaker-meeting/2028-04-27
LOCATION:St Marks Episcopal Church\, 178 E 4th St\, Prattville\, AL\, 36067\, United States
CATEGORIES:Events,Fellowship Events
END:VEVENT
BEGIN:VEVENT
DTSTART;TZID=America/Chicago:20280525T120000
DTEND;TZID=America/Chicago:20280525T130000
DTSTAMP:20260423T063626
CREATED:20250525T232631Z
LAST-MODIFIED:20250525T232631Z
UID:10002363-1842868800-1842872400@centralalaa.org
SUMMARY:Autauga SOS Noon Pot Luck and Speaker Meeting
DESCRIPTION:Autauga SOS Noon Pot Luck and Speaker Meeting \nLast Thursday of the Month at Noon \nSpeaker and Pot Luck
URL:https://centralalaa.org/single-event/autauga-sos-noon-pot-luck-and-speaker-meeting/2028-05-25
LOCATION:St Marks Episcopal Church\, 178 E 4th St\, Prattville\, AL\, 36067\, United States
CATEGORIES:Events,Fellowship Events
END:VEVENT
BEGIN:VEVENT
DTSTART;TZID=America/Chicago:20280629T120000
DTEND;TZID=America/Chicago:20280629T130000
DTSTAMP:20260423T063626
CREATED:20250525T232631Z
LAST-MODIFIED:20250525T232631Z
UID:10002261-1845892800-1845896400@centralalaa.org
SUMMARY:Autauga SOS Noon Pot Luck and Speaker Meeting
DESCRIPTION:Autauga SOS Noon Pot Luck and Speaker Meeting \nLast Thursday of the Month at Noon \nSpeaker and Pot Luck
URL:https://centralalaa.org/single-event/autauga-sos-noon-pot-luck-and-speaker-meeting/2028-06-29
LOCATION:St Marks Episcopal Church\, 178 E 4th St\, Prattville\, AL\, 36067\, United States
CATEGORIES:Events,Fellowship Events
END:VEVENT
BEGIN:VEVENT
DTSTART;TZID=America/Chicago:20280727T120000
DTEND;TZID=America/Chicago:20280727T130000
DTSTAMP:20260423T063626
CREATED:20250525T232631Z
LAST-MODIFIED:20250525T232631Z
UID:10002364-1848312000-1848315600@centralalaa.org
SUMMARY:Autauga SOS Noon Pot Luck and Speaker Meeting
DESCRIPTION:Autauga SOS Noon Pot Luck and Speaker Meeting \nLast Thursday of the Month at Noon \nSpeaker and Pot Luck
URL:https://centralalaa.org/single-event/autauga-sos-noon-pot-luck-and-speaker-meeting/2028-07-27
LOCATION:St Marks Episcopal Church\, 178 E 4th St\, Prattville\, AL\, 36067\, United States
CATEGORIES:Events,Fellowship Events
END:VEVENT
BEGIN:VEVENT
DTSTART;TZID=America/Chicago:20280831T120000
DTEND;TZID=America/Chicago:20280831T130000
DTSTAMP:20260423T063626
CREATED:20250525T232631Z
LAST-MODIFIED:20250525T232631Z
UID:10002365-1851336000-1851339600@centralalaa.org
SUMMARY:Autauga SOS Noon Pot Luck and Speaker Meeting
DESCRIPTION:Autauga SOS Noon Pot Luck and Speaker Meeting \nLast Thursday of the Month at Noon \nSpeaker and Pot Luck
URL:https://centralalaa.org/single-event/autauga-sos-noon-pot-luck-and-speaker-meeting/2028-08-31
LOCATION:St Marks Episcopal Church\, 178 E 4th St\, Prattville\, AL\, 36067\, United States
CATEGORIES:Events,Fellowship Events
END:VEVENT
BEGIN:VEVENT
DTSTART;TZID=America/Chicago:20280928T120000
DTEND;TZID=America/Chicago:20280928T130000
DTSTAMP:20260423T063626
CREATED:20250525T232631Z
LAST-MODIFIED:20250525T232631Z
UID:10002366-1853755200-1853758800@centralalaa.org
SUMMARY:Autauga SOS Noon Pot Luck and Speaker Meeting
DESCRIPTION:Autauga SOS Noon Pot Luck and Speaker Meeting \nLast Thursday of the Month at Noon \nSpeaker and Pot Luck
URL:https://centralalaa.org/single-event/autauga-sos-noon-pot-luck-and-speaker-meeting/2028-09-28
LOCATION:St Marks Episcopal Church\, 178 E 4th St\, Prattville\, AL\, 36067\, United States
CATEGORIES:Events,Fellowship Events
END:VEVENT
END:VCALENDAR