BEGIN:VCALENDAR
VERSION:2.0
PRODID:-//District 8, Area 1 - ECPv6.15.20//NONSGML v1.0//EN
CALSCALE:GREGORIAN
METHOD:PUBLISH
X-ORIGINAL-URL:https://centralalaa.org
X-WR-CALDESC:Events for District 8, Area 1
REFRESH-INTERVAL;VALUE=DURATION:PT1H
X-Robots-Tag:noindex
X-PUBLISHED-TTL:PT1H
BEGIN:VTIMEZONE
TZID:America/Chicago
BEGIN:DAYLIGHT
TZOFFSETFROM:-0600
TZOFFSETTO:-0500
TZNAME:CDT
DTSTART:20250309T080000
END:DAYLIGHT
BEGIN:STANDARD
TZOFFSETFROM:-0500
TZOFFSETTO:-0600
TZNAME:CST
DTSTART:20251102T070000
END:STANDARD
BEGIN:DAYLIGHT
TZOFFSETFROM:-0600
TZOFFSETTO:-0500
TZNAME:CDT
DTSTART:20260308T080000
END:DAYLIGHT
BEGIN:STANDARD
TZOFFSETFROM:-0500
TZOFFSETTO:-0600
TZNAME:CST
DTSTART:20261101T070000
END:STANDARD
BEGIN:DAYLIGHT
TZOFFSETFROM:-0600
TZOFFSETTO:-0500
TZNAME:CDT
DTSTART:20270314T080000
END:DAYLIGHT
BEGIN:STANDARD
TZOFFSETFROM:-0500
TZOFFSETTO:-0600
TZNAME:CST
DTSTART:20271107T070000
END:STANDARD
END:VTIMEZONE
BEGIN:VEVENT
DTSTART;TZID=America/Chicago:20260419T133000
DTEND;TZID=America/Chicago:20260419T143000
DTSTAMP:20260423T080654
CREATED:20260105T192421Z
LAST-MODIFIED:20260105T192421Z
UID:10003371-1776605400-1776609000@centralalaa.org
SUMMARY:24hr Hotline Committee Meeting
DESCRIPTION:24hr Hotline Committee Meeting \n3rd Sunday of the Month \n130pm online \nZoom ID: 276 263 0376
URL:https://centralalaa.org/single-event/24hr-hotline-committee-meeting/2026-04-19
LOCATION:via Zoom
CATEGORIES:Service Events
END:VEVENT
BEGIN:VEVENT
DTSTART;TZID=America/Chicago:20260331T190000
DTEND;TZID=America/Chicago:20260331T200000
DTSTAMP:20260423T080654
CREATED:20260128T202317Z
LAST-MODIFIED:20260128T202317Z
UID:10003647-1774983600-1774987200@centralalaa.org
SUMMARY:Area 1 Literature Committee Workshop
DESCRIPTION:Area_201_20Literature_20Committee_20Flyer_202026_20Q1 (1)
URL:https://centralalaa.org/single-event/area-1-literature-committee-workshop-2
LOCATION:via Zoom
END:VEVENT
BEGIN:VEVENT
DTSTART;TZID=America/Chicago:20260329T133000
DTEND;TZID=America/Chicago:20260329T143000
DTSTAMP:20260423T080654
CREATED:20260105T191931Z
LAST-MODIFIED:20260125T195507Z
UID:10003595-1774791000-1774794600@centralalaa.org
SUMMARY:Website Committee Meeting
DESCRIPTION:Last Sunday of each month. \n130p on Zoom. \n276 263 0376 \nhttps://us06web.zoom.us/j/2762630376
URL:https://centralalaa.org/single-event/website-committee-meeting/2026-03-29
LOCATION:via Zoom
CATEGORIES:Service Events
END:VEVENT
BEGIN:VEVENT
DTSTART;TZID=America/Chicago:20260315T133000
DTEND;TZID=America/Chicago:20260315T143000
DTSTAMP:20260423T080654
CREATED:20260105T192421Z
LAST-MODIFIED:20260105T192421Z
UID:10003370-1773581400-1773585000@centralalaa.org
SUMMARY:24hr Hotline Committee Meeting
DESCRIPTION:24hr Hotline Committee Meeting \n3rd Sunday of the Month \n130pm online \nZoom ID: 276 263 0376
URL:https://centralalaa.org/single-event/24hr-hotline-committee-meeting/2026-03-15
LOCATION:via Zoom
CATEGORIES:Service Events
END:VEVENT
BEGIN:VEVENT
DTSTART;TZID=America/Chicago:20260224T190000
DTEND;TZID=America/Chicago:20260224T200000
DTSTAMP:20260423T080654
CREATED:20260128T202141Z
LAST-MODIFIED:20260128T202141Z
UID:10003646-1771959600-1771963200@centralalaa.org
SUMMARY:Area 1 Literature Committee Workshop
DESCRIPTION:Area_201_20Literature_20Committee_20Flyer_202026_20Q1 (1)
URL:https://centralalaa.org/single-event/area-1-literature-committee-workshop
LOCATION:via Zoom
END:VEVENT
BEGIN:VEVENT
DTSTART;TZID=America/Chicago:20260222T133000
DTEND;TZID=America/Chicago:20260222T143000
DTSTAMP:20260423T080654
CREATED:20260105T191931Z
LAST-MODIFIED:20260125T195507Z
UID:10003594-1771767000-1771770600@centralalaa.org
SUMMARY:Website Committee Meeting
DESCRIPTION:Last Sunday of each month. \n130p on Zoom. \n276 263 0376 \nhttps://us06web.zoom.us/j/2762630376
URL:https://centralalaa.org/single-event/website-committee-meeting/2026-02-22
LOCATION:via Zoom
CATEGORIES:Service Events
END:VEVENT
BEGIN:VEVENT
DTSTART;TZID=America/Chicago:20260215T133000
DTEND;TZID=America/Chicago:20260215T143000
DTSTAMP:20260423T080654
CREATED:20260105T192421Z
LAST-MODIFIED:20260105T192421Z
UID:10003369-1771162200-1771165800@centralalaa.org
SUMMARY:24hr Hotline Committee Meeting
DESCRIPTION:24hr Hotline Committee Meeting \n3rd Sunday of the Month \n130pm online \nZoom ID: 276 263 0376
URL:https://centralalaa.org/single-event/24hr-hotline-committee-meeting/2026-02-15
LOCATION:via Zoom
CATEGORIES:Service Events
END:VEVENT
BEGIN:VEVENT
DTSTART;TZID=America/Chicago:20260211T190000
DTEND;TZID=America/Chicago:20260211T200000
DTSTAMP:20260423T080654
CREATED:20260206T174017Z
LAST-MODIFIED:20260206T174017Z
UID:10003650-1770836400-1770840000@centralalaa.org
SUMMARY:AA Area 1 Pre-Conference Workshop
DESCRIPTION:Screenshot
URL:https://centralalaa.org/single-event/aa-area-1-pre-conference-workshop-2
LOCATION:via Zoom
CATEGORIES:Events
END:VEVENT
BEGIN:VEVENT
DTSTART;TZID=America/Chicago:20260209T190000
DTEND;TZID=America/Chicago:20260209T200000
DTSTAMP:20260423T080654
CREATED:20260206T173841Z
LAST-MODIFIED:20260206T174144Z
UID:10003649-1770663600-1770667200@centralalaa.org
SUMMARY:AA Area 1 Pre-Conference Workshop
DESCRIPTION:Screenshot
URL:https://centralalaa.org/single-event/aa-area-1-pre-conference-workshop
LOCATION:via Zoom
CATEGORIES:Events
END:VEVENT
BEGIN:VEVENT
DTSTART;TZID=America/Chicago:20260202T190000
DTEND;TZID=America/Chicago:20260202T200000
DTSTAMP:20260423T080654
CREATED:20260131T164617Z
LAST-MODIFIED:20260131T164756Z
UID:10003648-1770058800-1770062400@centralalaa.org
SUMMARY:Web site committee Discussion
DESCRIPTION:Web site committee Discussion.  \n2/2/2026 @ 7pm. \nLocation: District Zoom Meeting. \nhttps://us06web.zoom.us/j/2762630376
URL:https://centralalaa.org/single-event/web-site-committee-discussion
LOCATION:via Zoom
CATEGORIES:Service Events
ORGANIZER;CN="District 8 Web Chair":MAILTO:webchair@centralalaa.org
END:VEVENT
BEGIN:VEVENT
DTSTART;TZID=America/Chicago:20260125T133000
DTEND;TZID=America/Chicago:20260125T143000
DTSTAMP:20260423T080654
CREATED:20260105T191931Z
LAST-MODIFIED:20260125T195507Z
UID:10003257-1769347800-1769351400@centralalaa.org
SUMMARY:Website Committee Meeting
DESCRIPTION:Last Sunday of each month. \n130p on Zoom. \n276 263 0376 \nhttps://us06web.zoom.us/j/2762630376
URL:https://centralalaa.org/single-event/website-committee-meeting/2026-01-25/2
LOCATION:via Zoom
CATEGORIES:Service Events
END:VEVENT
BEGIN:VEVENT
DTSTART;TZID=America/Chicago:20260125T080000
DTEND;TZID=America/Chicago:20260125T170000
DTSTAMP:20260423T080654
CREATED:20260105T191931Z
LAST-MODIFIED:20260125T195507Z
UID:10003593-1769328000-1769360400@centralalaa.org
SUMMARY:Website Committee Meeting
DESCRIPTION:Last Sunday of each month. \n130p on Zoom. \n276 263 0376 \nhttps://us06web.zoom.us/j/2762630376
URL:https://centralalaa.org/single-event/website-committee-meeting/2026-01-25/1
LOCATION:via Zoom
CATEGORIES:Service Events
END:VEVENT
BEGIN:VEVENT
DTSTART;TZID=America/Chicago:20260118T133000
DTEND;TZID=America/Chicago:20260118T143000
DTSTAMP:20260423T080654
CREATED:20260105T192421Z
LAST-MODIFIED:20260105T192421Z
UID:10003368-1768743000-1768746600@centralalaa.org
SUMMARY:24hr Hotline Committee Meeting
DESCRIPTION:24hr Hotline Committee Meeting \n3rd Sunday of the Month \n130pm online \nZoom ID: 276 263 0376
URL:https://centralalaa.org/single-event/24hr-hotline-committee-meeting/2026-01-18
LOCATION:via Zoom
CATEGORIES:Service Events
END:VEVENT
END:VCALENDAR