BEGIN:VCALENDAR
VERSION:2.0
PRODID:-//District 8, Area 1 - ECPv6.15.20//NONSGML v1.0//EN
CALSCALE:GREGORIAN
METHOD:PUBLISH
X-ORIGINAL-URL:https://centralalaa.org
X-WR-CALDESC:Events for District 8, Area 1
REFRESH-INTERVAL;VALUE=DURATION:PT1H
X-Robots-Tag:noindex
X-PUBLISHED-TTL:PT1H
BEGIN:VTIMEZONE
TZID:America/Chicago
BEGIN:DAYLIGHT
TZOFFSETFROM:-0600
TZOFFSETTO:-0500
TZNAME:CDT
DTSTART:20290311T080000
END:DAYLIGHT
BEGIN:STANDARD
TZOFFSETFROM:-0500
TZOFFSETTO:-0600
TZNAME:CST
DTSTART:20291104T070000
END:STANDARD
BEGIN:DAYLIGHT
TZOFFSETFROM:-0600
TZOFFSETTO:-0500
TZNAME:CDT
DTSTART:20300310T080000
END:DAYLIGHT
BEGIN:STANDARD
TZOFFSETFROM:-0500
TZOFFSETTO:-0600
TZNAME:CST
DTSTART:20301103T070000
END:STANDARD
BEGIN:DAYLIGHT
TZOFFSETFROM:-0600
TZOFFSETTO:-0500
TZNAME:CDT
DTSTART:20310309T080000
END:DAYLIGHT
BEGIN:STANDARD
TZOFFSETFROM:-0500
TZOFFSETTO:-0600
TZNAME:CST
DTSTART:20311102T070000
END:STANDARD
END:VTIMEZONE
BEGIN:VEVENT
DTSTART;TZID=America/Chicago:20300630T133000
DTEND;TZID=America/Chicago:20300630T143000
DTSTAMP:20260423T212452
CREATED:20260105T191931Z
LAST-MODIFIED:20260125T195507Z
UID:10003639-1909056600-1909060200@centralalaa.org
SUMMARY:Website Committee Meeting
DESCRIPTION:Last Sunday of each month. \n130p on Zoom. \n276 263 0376 \nhttps://us06web.zoom.us/j/2762630376
URL:https://centralalaa.org/single-event/website-committee-meeting/2030-06-30
LOCATION:via Zoom
CATEGORIES:Service Events
END:VEVENT
BEGIN:VEVENT
DTSTART;TZID=America/Chicago:20300721T133000
DTEND;TZID=America/Chicago:20300721T143000
DTSTAMP:20260423T212452
CREATED:20260105T192421Z
LAST-MODIFIED:20260105T192421Z
UID:10003422-1910871000-1910874600@centralalaa.org
SUMMARY:24hr Hotline Committee Meeting
DESCRIPTION:24hr Hotline Committee Meeting \n3rd Sunday of the Month \n130pm online \nZoom ID: 276 263 0376
URL:https://centralalaa.org/single-event/24hr-hotline-committee-meeting/2030-07-21
LOCATION:via Zoom
CATEGORIES:Service Events
END:VEVENT
BEGIN:VEVENT
DTSTART;TZID=America/Chicago:20300728T133000
DTEND;TZID=America/Chicago:20300728T143000
DTSTAMP:20260423T212452
CREATED:20260105T191931Z
LAST-MODIFIED:20260125T195507Z
UID:10003640-1911475800-1911479400@centralalaa.org
SUMMARY:Website Committee Meeting
DESCRIPTION:Last Sunday of each month. \n130p on Zoom. \n276 263 0376 \nhttps://us06web.zoom.us/j/2762630376
URL:https://centralalaa.org/single-event/website-committee-meeting/2030-07-28
LOCATION:via Zoom
CATEGORIES:Service Events
END:VEVENT
BEGIN:VEVENT
DTSTART;TZID=America/Chicago:20300818T133000
DTEND;TZID=America/Chicago:20300818T143000
DTSTAMP:20260423T212452
CREATED:20260105T192421Z
LAST-MODIFIED:20260105T192421Z
UID:10003423-1913290200-1913293800@centralalaa.org
SUMMARY:24hr Hotline Committee Meeting
DESCRIPTION:24hr Hotline Committee Meeting \n3rd Sunday of the Month \n130pm online \nZoom ID: 276 263 0376
URL:https://centralalaa.org/single-event/24hr-hotline-committee-meeting/2030-08-18
LOCATION:via Zoom
CATEGORIES:Service Events
END:VEVENT
BEGIN:VEVENT
DTSTART;TZID=America/Chicago:20300825T133000
DTEND;TZID=America/Chicago:20300825T143000
DTSTAMP:20260423T212452
CREATED:20260105T191931Z
LAST-MODIFIED:20260125T195507Z
UID:10003312-1913895000-1913898600@centralalaa.org
SUMMARY:Website Committee Meeting
DESCRIPTION:Last Sunday of each month. \n130p on Zoom. \n276 263 0376 \nhttps://us06web.zoom.us/j/2762630376
URL:https://centralalaa.org/single-event/website-committee-meeting/2030-08-25
LOCATION:via Zoom
CATEGORIES:Service Events
END:VEVENT
BEGIN:VEVENT
DTSTART;TZID=America/Chicago:20300915T133000
DTEND;TZID=America/Chicago:20300915T143000
DTSTAMP:20260423T212452
CREATED:20260105T192421Z
LAST-MODIFIED:20260105T192421Z
UID:10003424-1915709400-1915713000@centralalaa.org
SUMMARY:24hr Hotline Committee Meeting
DESCRIPTION:24hr Hotline Committee Meeting \n3rd Sunday of the Month \n130pm online \nZoom ID: 276 263 0376
URL:https://centralalaa.org/single-event/24hr-hotline-committee-meeting/2030-09-15
LOCATION:via Zoom
CATEGORIES:Service Events
END:VEVENT
BEGIN:VEVENT
DTSTART;TZID=America/Chicago:20300929T133000
DTEND;TZID=America/Chicago:20300929T143000
DTSTAMP:20260423T212452
CREATED:20260105T191931Z
LAST-MODIFIED:20260125T195507Z
UID:10003641-1916919000-1916922600@centralalaa.org
SUMMARY:Website Committee Meeting
DESCRIPTION:Last Sunday of each month. \n130p on Zoom. \n276 263 0376 \nhttps://us06web.zoom.us/j/2762630376
URL:https://centralalaa.org/single-event/website-committee-meeting/2030-09-29
LOCATION:via Zoom
CATEGORIES:Service Events
END:VEVENT
BEGIN:VEVENT
DTSTART;TZID=America/Chicago:20301020T133000
DTEND;TZID=America/Chicago:20301020T143000
DTSTAMP:20260423T212452
CREATED:20260105T192421Z
LAST-MODIFIED:20260105T192421Z
UID:10003425-1918733400-1918737000@centralalaa.org
SUMMARY:24hr Hotline Committee Meeting
DESCRIPTION:24hr Hotline Committee Meeting \n3rd Sunday of the Month \n130pm online \nZoom ID: 276 263 0376
URL:https://centralalaa.org/single-event/24hr-hotline-committee-meeting/2030-10-20
LOCATION:via Zoom
CATEGORIES:Service Events
END:VEVENT
BEGIN:VEVENT
DTSTART;TZID=America/Chicago:20301027T133000
DTEND;TZID=America/Chicago:20301027T143000
DTSTAMP:20260423T212452
CREATED:20260105T191931Z
LAST-MODIFIED:20260125T195507Z
UID:10003642-1919338200-1919341800@centralalaa.org
SUMMARY:Website Committee Meeting
DESCRIPTION:Last Sunday of each month. \n130p on Zoom. \n276 263 0376 \nhttps://us06web.zoom.us/j/2762630376
URL:https://centralalaa.org/single-event/website-committee-meeting/2030-10-27
LOCATION:via Zoom
CATEGORIES:Service Events
END:VEVENT
BEGIN:VEVENT
DTSTART;TZID=America/Chicago:20301117T133000
DTEND;TZID=America/Chicago:20301117T143000
DTSTAMP:20260423T212452
CREATED:20260105T192421Z
LAST-MODIFIED:20260105T192421Z
UID:10003426-1921152600-1921156200@centralalaa.org
SUMMARY:24hr Hotline Committee Meeting
DESCRIPTION:24hr Hotline Committee Meeting \n3rd Sunday of the Month \n130pm online \nZoom ID: 276 263 0376
URL:https://centralalaa.org/single-event/24hr-hotline-committee-meeting/2030-11-17
LOCATION:via Zoom
CATEGORIES:Service Events
END:VEVENT
BEGIN:VEVENT
DTSTART;TZID=America/Chicago:20301124T133000
DTEND;TZID=America/Chicago:20301124T143000
DTSTAMP:20260423T212452
CREATED:20260105T191931Z
LAST-MODIFIED:20260125T195507Z
UID:10003643-1921757400-1921761000@centralalaa.org
SUMMARY:Website Committee Meeting
DESCRIPTION:Last Sunday of each month. \n130p on Zoom. \n276 263 0376 \nhttps://us06web.zoom.us/j/2762630376
URL:https://centralalaa.org/single-event/website-committee-meeting/2030-11-24
LOCATION:via Zoom
CATEGORIES:Service Events
END:VEVENT
BEGIN:VEVENT
DTSTART;TZID=America/Chicago:20301215T133000
DTEND;TZID=America/Chicago:20301215T143000
DTSTAMP:20260423T212452
CREATED:20260105T192421Z
LAST-MODIFIED:20260105T192421Z
UID:10003427-1923571800-1923575400@centralalaa.org
SUMMARY:24hr Hotline Committee Meeting
DESCRIPTION:24hr Hotline Committee Meeting \n3rd Sunday of the Month \n130pm online \nZoom ID: 276 263 0376
URL:https://centralalaa.org/single-event/24hr-hotline-committee-meeting/2030-12-15
LOCATION:via Zoom
CATEGORIES:Service Events
END:VEVENT
BEGIN:VEVENT
DTSTART;TZID=America/Chicago:20301229T133000
DTEND;TZID=America/Chicago:20301229T143000
DTSTAMP:20260423T212452
CREATED:20260105T191931Z
LAST-MODIFIED:20260125T195507Z
UID:10003644-1924781400-1924785000@centralalaa.org
SUMMARY:Website Committee Meeting
DESCRIPTION:Last Sunday of each month. \n130p on Zoom. \n276 263 0376 \nhttps://us06web.zoom.us/j/2762630376
URL:https://centralalaa.org/single-event/website-committee-meeting/2030-12-29
LOCATION:via Zoom
CATEGORIES:Service Events
END:VEVENT
END:VCALENDAR