BEGIN:VCALENDAR
VERSION:2.0
PRODID:-//District 8, Area 1 - ECPv6.15.20//NONSGML v1.0//EN
CALSCALE:GREGORIAN
METHOD:PUBLISH
X-WR-CALNAME:District 8, Area 1
X-ORIGINAL-URL:https://centralalaa.org
X-WR-CALDESC:Events for District 8, Area 1
REFRESH-INTERVAL;VALUE=DURATION:PT1H
X-Robots-Tag:noindex
X-PUBLISHED-TTL:PT1H
BEGIN:VTIMEZONE
TZID:America/Chicago
BEGIN:DAYLIGHT
TZOFFSETFROM:-0600
TZOFFSETTO:-0500
TZNAME:CDT
DTSTART:20280312T080000
END:DAYLIGHT
BEGIN:STANDARD
TZOFFSETFROM:-0500
TZOFFSETTO:-0600
TZNAME:CST
DTSTART:20281105T070000
END:STANDARD
BEGIN:DAYLIGHT
TZOFFSETFROM:-0600
TZOFFSETTO:-0500
TZNAME:CDT
DTSTART:20290311T080000
END:DAYLIGHT
BEGIN:STANDARD
TZOFFSETFROM:-0500
TZOFFSETTO:-0600
TZNAME:CST
DTSTART:20291104T070000
END:STANDARD
BEGIN:DAYLIGHT
TZOFFSETFROM:-0600
TZOFFSETTO:-0500
TZNAME:CDT
DTSTART:20300310T080000
END:DAYLIGHT
BEGIN:STANDARD
TZOFFSETFROM:-0500
TZOFFSETTO:-0600
TZNAME:CST
DTSTART:20301103T070000
END:STANDARD
BEGIN:DAYLIGHT
TZOFFSETFROM:-0600
TZOFFSETTO:-0500
TZNAME:CDT
DTSTART:20310309T080000
END:DAYLIGHT
BEGIN:STANDARD
TZOFFSETFROM:-0500
TZOFFSETTO:-0600
TZNAME:CST
DTSTART:20311102T070000
END:STANDARD
END:VTIMEZONE
BEGIN:VEVENT
DTSTART;TZID=America/Chicago:20290325T133000
DTEND;TZID=America/Chicago:20290325T143000
DTSTAMP:20260423T164331
CREATED:20260105T191931Z
LAST-MODIFIED:20260125T195507Z
UID:10003295-1869139800-1869143400@centralalaa.org
SUMMARY:Website Committee Meeting
DESCRIPTION:Last Sunday of each month. \n130p on Zoom. \n276 263 0376 \nhttps://us06web.zoom.us/j/2762630376
URL:https://centralalaa.org/single-event/website-committee-meeting/2029-03-25
LOCATION:via Zoom
CATEGORIES:Service Events
END:VEVENT
BEGIN:VEVENT
DTSTART;TZID=America/Chicago:20290415T133000
DTEND;TZID=America/Chicago:20290415T143000
DTSTAMP:20260423T164331
CREATED:20260105T192421Z
LAST-MODIFIED:20260105T192421Z
UID:10003407-1870954200-1870957800@centralalaa.org
SUMMARY:24hr Hotline Committee Meeting
DESCRIPTION:24hr Hotline Committee Meeting \n3rd Sunday of the Month \n130pm online \nZoom ID: 276 263 0376
URL:https://centralalaa.org/single-event/24hr-hotline-committee-meeting/2029-04-15
LOCATION:via Zoom
CATEGORIES:Service Events
END:VEVENT
BEGIN:VEVENT
DTSTART;TZID=America/Chicago:20290429T133000
DTEND;TZID=America/Chicago:20290429T143000
DTSTAMP:20260423T164331
CREATED:20260105T191931Z
LAST-MODIFIED:20260125T195507Z
UID:10003626-1872163800-1872167400@centralalaa.org
SUMMARY:Website Committee Meeting
DESCRIPTION:Last Sunday of each month. \n130p on Zoom. \n276 263 0376 \nhttps://us06web.zoom.us/j/2762630376
URL:https://centralalaa.org/single-event/website-committee-meeting/2029-04-29
LOCATION:via Zoom
CATEGORIES:Service Events
END:VEVENT
BEGIN:VEVENT
DTSTART;TZID=America/Chicago:20290520T133000
DTEND;TZID=America/Chicago:20290520T143000
DTSTAMP:20260423T164331
CREATED:20260105T192421Z
LAST-MODIFIED:20260105T192421Z
UID:10003408-1873978200-1873981800@centralalaa.org
SUMMARY:24hr Hotline Committee Meeting
DESCRIPTION:24hr Hotline Committee Meeting \n3rd Sunday of the Month \n130pm online \nZoom ID: 276 263 0376
URL:https://centralalaa.org/single-event/24hr-hotline-committee-meeting/2029-05-20
LOCATION:via Zoom
CATEGORIES:Service Events
END:VEVENT
BEGIN:VEVENT
DTSTART;TZID=America/Chicago:20290527T133000
DTEND;TZID=America/Chicago:20290527T143000
DTSTAMP:20260423T164331
CREATED:20260105T191931Z
LAST-MODIFIED:20260125T195507Z
UID:10003627-1874583000-1874586600@centralalaa.org
SUMMARY:Website Committee Meeting
DESCRIPTION:Last Sunday of each month. \n130p on Zoom. \n276 263 0376 \nhttps://us06web.zoom.us/j/2762630376
URL:https://centralalaa.org/single-event/website-committee-meeting/2029-05-27
LOCATION:via Zoom
CATEGORIES:Service Events
END:VEVENT
BEGIN:VEVENT
DTSTART;TZID=America/Chicago:20290617T133000
DTEND;TZID=America/Chicago:20290617T143000
DTSTAMP:20260423T164331
CREATED:20260105T192421Z
LAST-MODIFIED:20260105T192421Z
UID:10003409-1876397400-1876401000@centralalaa.org
SUMMARY:24hr Hotline Committee Meeting
DESCRIPTION:24hr Hotline Committee Meeting \n3rd Sunday of the Month \n130pm online \nZoom ID: 276 263 0376
URL:https://centralalaa.org/single-event/24hr-hotline-committee-meeting/2029-06-17
LOCATION:via Zoom
CATEGORIES:Service Events
END:VEVENT
BEGIN:VEVENT
DTSTART;TZID=America/Chicago:20290624T133000
DTEND;TZID=America/Chicago:20290624T143000
DTSTAMP:20260423T164331
CREATED:20260105T191931Z
LAST-MODIFIED:20260125T195507Z
UID:10003628-1877002200-1877005800@centralalaa.org
SUMMARY:Website Committee Meeting
DESCRIPTION:Last Sunday of each month. \n130p on Zoom. \n276 263 0376 \nhttps://us06web.zoom.us/j/2762630376
URL:https://centralalaa.org/single-event/website-committee-meeting/2029-06-24
LOCATION:via Zoom
CATEGORIES:Service Events
END:VEVENT
BEGIN:VEVENT
DTSTART;TZID=America/Chicago:20290715T133000
DTEND;TZID=America/Chicago:20290715T143000
DTSTAMP:20260423T164331
CREATED:20260105T192421Z
LAST-MODIFIED:20260105T192421Z
UID:10003410-1878816600-1878820200@centralalaa.org
SUMMARY:24hr Hotline Committee Meeting
DESCRIPTION:24hr Hotline Committee Meeting \n3rd Sunday of the Month \n130pm online \nZoom ID: 276 263 0376
URL:https://centralalaa.org/single-event/24hr-hotline-committee-meeting/2029-07-15
LOCATION:via Zoom
CATEGORIES:Service Events
END:VEVENT
BEGIN:VEVENT
DTSTART;TZID=America/Chicago:20290729T133000
DTEND;TZID=America/Chicago:20290729T143000
DTSTAMP:20260423T164331
CREATED:20260105T191931Z
LAST-MODIFIED:20260125T195507Z
UID:10003629-1880026200-1880029800@centralalaa.org
SUMMARY:Website Committee Meeting
DESCRIPTION:Last Sunday of each month. \n130p on Zoom. \n276 263 0376 \nhttps://us06web.zoom.us/j/2762630376
URL:https://centralalaa.org/single-event/website-committee-meeting/2029-07-29
LOCATION:via Zoom
CATEGORIES:Service Events
END:VEVENT
BEGIN:VEVENT
DTSTART;TZID=America/Chicago:20290819T133000
DTEND;TZID=America/Chicago:20290819T143000
DTSTAMP:20260423T164331
CREATED:20260105T192421Z
LAST-MODIFIED:20260105T192421Z
UID:10003411-1881840600-1881844200@centralalaa.org
SUMMARY:24hr Hotline Committee Meeting
DESCRIPTION:24hr Hotline Committee Meeting \n3rd Sunday of the Month \n130pm online \nZoom ID: 276 263 0376
URL:https://centralalaa.org/single-event/24hr-hotline-committee-meeting/2029-08-19
LOCATION:via Zoom
CATEGORIES:Service Events
END:VEVENT
BEGIN:VEVENT
DTSTART;TZID=America/Chicago:20290826T133000
DTEND;TZID=America/Chicago:20290826T143000
DTSTAMP:20260423T164331
CREATED:20260105T191931Z
LAST-MODIFIED:20260125T195507Z
UID:10003630-1882445400-1882449000@centralalaa.org
SUMMARY:Website Committee Meeting
DESCRIPTION:Last Sunday of each month. \n130p on Zoom. \n276 263 0376 \nhttps://us06web.zoom.us/j/2762630376
URL:https://centralalaa.org/single-event/website-committee-meeting/2029-08-26
LOCATION:via Zoom
CATEGORIES:Service Events
END:VEVENT
BEGIN:VEVENT
DTSTART;TZID=America/Chicago:20290916T133000
DTEND;TZID=America/Chicago:20290916T143000
DTSTAMP:20260423T164331
CREATED:20260105T192421Z
LAST-MODIFIED:20260105T192421Z
UID:10003412-1884259800-1884263400@centralalaa.org
SUMMARY:24hr Hotline Committee Meeting
DESCRIPTION:24hr Hotline Committee Meeting \n3rd Sunday of the Month \n130pm online \nZoom ID: 276 263 0376
URL:https://centralalaa.org/single-event/24hr-hotline-committee-meeting/2029-09-16
LOCATION:via Zoom
CATEGORIES:Service Events
END:VEVENT
BEGIN:VEVENT
DTSTART;TZID=America/Chicago:20290930T133000
DTEND;TZID=America/Chicago:20290930T143000
DTSTAMP:20260423T164331
CREATED:20260105T191931Z
LAST-MODIFIED:20260125T195507Z
UID:10003631-1885469400-1885473000@centralalaa.org
SUMMARY:Website Committee Meeting
DESCRIPTION:Last Sunday of each month. \n130p on Zoom. \n276 263 0376 \nhttps://us06web.zoom.us/j/2762630376
URL:https://centralalaa.org/single-event/website-committee-meeting/2029-09-30
LOCATION:via Zoom
CATEGORIES:Service Events
END:VEVENT
BEGIN:VEVENT
DTSTART;TZID=America/Chicago:20291021T133000
DTEND;TZID=America/Chicago:20291021T143000
DTSTAMP:20260423T164331
CREATED:20260105T192421Z
LAST-MODIFIED:20260105T192421Z
UID:10003413-1887283800-1887287400@centralalaa.org
SUMMARY:24hr Hotline Committee Meeting
DESCRIPTION:24hr Hotline Committee Meeting \n3rd Sunday of the Month \n130pm online \nZoom ID: 276 263 0376
URL:https://centralalaa.org/single-event/24hr-hotline-committee-meeting/2029-10-21
LOCATION:via Zoom
CATEGORIES:Service Events
END:VEVENT
BEGIN:VEVENT
DTSTART;TZID=America/Chicago:20291028T133000
DTEND;TZID=America/Chicago:20291028T143000
DTSTAMP:20260423T164331
CREATED:20260105T191931Z
LAST-MODIFIED:20260125T195507Z
UID:10003632-1887888600-1887892200@centralalaa.org
SUMMARY:Website Committee Meeting
DESCRIPTION:Last Sunday of each month. \n130p on Zoom. \n276 263 0376 \nhttps://us06web.zoom.us/j/2762630376
URL:https://centralalaa.org/single-event/website-committee-meeting/2029-10-28
LOCATION:via Zoom
CATEGORIES:Service Events
END:VEVENT
BEGIN:VEVENT
DTSTART;TZID=America/Chicago:20291118T133000
DTEND;TZID=America/Chicago:20291118T143000
DTSTAMP:20260423T164331
CREATED:20260105T192421Z
LAST-MODIFIED:20260105T192421Z
UID:10003414-1889703000-1889706600@centralalaa.org
SUMMARY:24hr Hotline Committee Meeting
DESCRIPTION:24hr Hotline Committee Meeting \n3rd Sunday of the Month \n130pm online \nZoom ID: 276 263 0376
URL:https://centralalaa.org/single-event/24hr-hotline-committee-meeting/2029-11-18
LOCATION:via Zoom
CATEGORIES:Service Events
END:VEVENT
BEGIN:VEVENT
DTSTART;TZID=America/Chicago:20291125T133000
DTEND;TZID=America/Chicago:20291125T143000
DTSTAMP:20260423T164331
CREATED:20260105T191931Z
LAST-MODIFIED:20260125T195507Z
UID:10003303-1890307800-1890311400@centralalaa.org
SUMMARY:Website Committee Meeting
DESCRIPTION:Last Sunday of each month. \n130p on Zoom. \n276 263 0376 \nhttps://us06web.zoom.us/j/2762630376
URL:https://centralalaa.org/single-event/website-committee-meeting/2029-11-25
LOCATION:via Zoom
CATEGORIES:Service Events
END:VEVENT
BEGIN:VEVENT
DTSTART;TZID=America/Chicago:20291216T133000
DTEND;TZID=America/Chicago:20291216T143000
DTSTAMP:20260423T164331
CREATED:20260105T192421Z
LAST-MODIFIED:20260105T192421Z
UID:10003415-1892122200-1892125800@centralalaa.org
SUMMARY:24hr Hotline Committee Meeting
DESCRIPTION:24hr Hotline Committee Meeting \n3rd Sunday of the Month \n130pm online \nZoom ID: 276 263 0376
URL:https://centralalaa.org/single-event/24hr-hotline-committee-meeting/2029-12-16
LOCATION:via Zoom
CATEGORIES:Service Events
END:VEVENT
BEGIN:VEVENT
DTSTART;TZID=America/Chicago:20291230T133000
DTEND;TZID=America/Chicago:20291230T143000
DTSTAMP:20260423T164331
CREATED:20260105T191931Z
LAST-MODIFIED:20260125T195507Z
UID:10003633-1893331800-1893335400@centralalaa.org
SUMMARY:Website Committee Meeting
DESCRIPTION:Last Sunday of each month. \n130p on Zoom. \n276 263 0376 \nhttps://us06web.zoom.us/j/2762630376
URL:https://centralalaa.org/single-event/website-committee-meeting/2029-12-30
LOCATION:via Zoom
CATEGORIES:Service Events
END:VEVENT
BEGIN:VEVENT
DTSTART;TZID=America/Chicago:20300120T133000
DTEND;TZID=America/Chicago:20300120T143000
DTSTAMP:20260423T164331
CREATED:20260105T192421Z
LAST-MODIFIED:20260105T192421Z
UID:10003416-1895146200-1895149800@centralalaa.org
SUMMARY:24hr Hotline Committee Meeting
DESCRIPTION:24hr Hotline Committee Meeting \n3rd Sunday of the Month \n130pm online \nZoom ID: 276 263 0376
URL:https://centralalaa.org/single-event/24hr-hotline-committee-meeting/2030-01-20
LOCATION:via Zoom
CATEGORIES:Service Events
END:VEVENT
BEGIN:VEVENT
DTSTART;TZID=America/Chicago:20300127T133000
DTEND;TZID=America/Chicago:20300127T143000
DTSTAMP:20260423T164331
CREATED:20260105T191931Z
LAST-MODIFIED:20260125T195507Z
UID:10003634-1895751000-1895754600@centralalaa.org
SUMMARY:Website Committee Meeting
DESCRIPTION:Last Sunday of each month. \n130p on Zoom. \n276 263 0376 \nhttps://us06web.zoom.us/j/2762630376
URL:https://centralalaa.org/single-event/website-committee-meeting/2030-01-27
LOCATION:via Zoom
CATEGORIES:Service Events
END:VEVENT
BEGIN:VEVENT
DTSTART;TZID=America/Chicago:20300217T133000
DTEND;TZID=America/Chicago:20300217T143000
DTSTAMP:20260423T164331
CREATED:20260105T192421Z
LAST-MODIFIED:20260105T192421Z
UID:10003417-1897565400-1897569000@centralalaa.org
SUMMARY:24hr Hotline Committee Meeting
DESCRIPTION:24hr Hotline Committee Meeting \n3rd Sunday of the Month \n130pm online \nZoom ID: 276 263 0376
URL:https://centralalaa.org/single-event/24hr-hotline-committee-meeting/2030-02-17
LOCATION:via Zoom
CATEGORIES:Service Events
END:VEVENT
BEGIN:VEVENT
DTSTART;TZID=America/Chicago:20300224T133000
DTEND;TZID=America/Chicago:20300224T143000
DTSTAMP:20260423T164331
CREATED:20260105T191931Z
LAST-MODIFIED:20260125T195507Z
UID:10003635-1898170200-1898173800@centralalaa.org
SUMMARY:Website Committee Meeting
DESCRIPTION:Last Sunday of each month. \n130p on Zoom. \n276 263 0376 \nhttps://us06web.zoom.us/j/2762630376
URL:https://centralalaa.org/single-event/website-committee-meeting/2030-02-24
LOCATION:via Zoom
CATEGORIES:Service Events
END:VEVENT
BEGIN:VEVENT
DTSTART;TZID=America/Chicago:20300317T133000
DTEND;TZID=America/Chicago:20300317T143000
DTSTAMP:20260423T164331
CREATED:20260105T192421Z
LAST-MODIFIED:20260105T192421Z
UID:10003418-1899984600-1899988200@centralalaa.org
SUMMARY:24hr Hotline Committee Meeting
DESCRIPTION:24hr Hotline Committee Meeting \n3rd Sunday of the Month \n130pm online \nZoom ID: 276 263 0376
URL:https://centralalaa.org/single-event/24hr-hotline-committee-meeting/2030-03-17
LOCATION:via Zoom
CATEGORIES:Service Events
END:VEVENT
BEGIN:VEVENT
DTSTART;TZID=America/Chicago:20300331T133000
DTEND;TZID=America/Chicago:20300331T143000
DTSTAMP:20260423T164331
CREATED:20260105T191931Z
LAST-MODIFIED:20260125T195507Z
UID:10003636-1901194200-1901197800@centralalaa.org
SUMMARY:Website Committee Meeting
DESCRIPTION:Last Sunday of each month. \n130p on Zoom. \n276 263 0376 \nhttps://us06web.zoom.us/j/2762630376
URL:https://centralalaa.org/single-event/website-committee-meeting/2030-03-31
LOCATION:via Zoom
CATEGORIES:Service Events
END:VEVENT
BEGIN:VEVENT
DTSTART;TZID=America/Chicago:20300421T133000
DTEND;TZID=America/Chicago:20300421T143000
DTSTAMP:20260423T164331
CREATED:20260105T192421Z
LAST-MODIFIED:20260105T192421Z
UID:10003419-1903008600-1903012200@centralalaa.org
SUMMARY:24hr Hotline Committee Meeting
DESCRIPTION:24hr Hotline Committee Meeting \n3rd Sunday of the Month \n130pm online \nZoom ID: 276 263 0376
URL:https://centralalaa.org/single-event/24hr-hotline-committee-meeting/2030-04-21
LOCATION:via Zoom
CATEGORIES:Service Events
END:VEVENT
BEGIN:VEVENT
DTSTART;TZID=America/Chicago:20300428T133000
DTEND;TZID=America/Chicago:20300428T143000
DTSTAMP:20260423T164331
CREATED:20260105T191931Z
LAST-MODIFIED:20260125T195507Z
UID:10003637-1903613400-1903617000@centralalaa.org
SUMMARY:Website Committee Meeting
DESCRIPTION:Last Sunday of each month. \n130p on Zoom. \n276 263 0376 \nhttps://us06web.zoom.us/j/2762630376
URL:https://centralalaa.org/single-event/website-committee-meeting/2030-04-28
LOCATION:via Zoom
CATEGORIES:Service Events
END:VEVENT
BEGIN:VEVENT
DTSTART;TZID=America/Chicago:20300519T133000
DTEND;TZID=America/Chicago:20300519T143000
DTSTAMP:20260423T164331
CREATED:20260105T192421Z
LAST-MODIFIED:20260105T192421Z
UID:10003420-1905427800-1905431400@centralalaa.org
SUMMARY:24hr Hotline Committee Meeting
DESCRIPTION:24hr Hotline Committee Meeting \n3rd Sunday of the Month \n130pm online \nZoom ID: 276 263 0376
URL:https://centralalaa.org/single-event/24hr-hotline-committee-meeting/2030-05-19
LOCATION:via Zoom
CATEGORIES:Service Events
END:VEVENT
BEGIN:VEVENT
DTSTART;TZID=America/Chicago:20300526T133000
DTEND;TZID=America/Chicago:20300526T143000
DTSTAMP:20260423T164331
CREATED:20260105T191931Z
LAST-MODIFIED:20260125T195507Z
UID:10003638-1906032600-1906036200@centralalaa.org
SUMMARY:Website Committee Meeting
DESCRIPTION:Last Sunday of each month. \n130p on Zoom. \n276 263 0376 \nhttps://us06web.zoom.us/j/2762630376
URL:https://centralalaa.org/single-event/website-committee-meeting/2030-05-26
LOCATION:via Zoom
CATEGORIES:Service Events
END:VEVENT
BEGIN:VEVENT
DTSTART;TZID=America/Chicago:20300616T133000
DTEND;TZID=America/Chicago:20300616T143000
DTSTAMP:20260423T164331
CREATED:20260105T192421Z
LAST-MODIFIED:20260105T192421Z
UID:10003421-1907847000-1907850600@centralalaa.org
SUMMARY:24hr Hotline Committee Meeting
DESCRIPTION:24hr Hotline Committee Meeting \n3rd Sunday of the Month \n130pm online \nZoom ID: 276 263 0376
URL:https://centralalaa.org/single-event/24hr-hotline-committee-meeting/2030-06-16
LOCATION:via Zoom
CATEGORIES:Service Events
END:VEVENT
END:VCALENDAR